BEGIN:VCALENDAR
VERSION:2.0
PRODID:-//Honey Hollow Nature Center - ECPv6.15.20//NONSGML v1.0//EN
CALSCALE:GREGORIAN
METHOD:PUBLISH
X-ORIGINAL-URL:https://www.honeyhollownaturecenter.org
X-WR-CALDESC:Events for Honey Hollow Nature Center
REFRESH-INTERVAL;VALUE=DURATION:PT1H
X-Robots-Tag:noindex
X-PUBLISHED-TTL:PT1H
BEGIN:VTIMEZONE
TZID:America/New_York
BEGIN:DAYLIGHT
TZOFFSETFROM:-0500
TZOFFSETTO:-0400
TZNAME:EDT
DTSTART:20230312T070000
END:DAYLIGHT
BEGIN:STANDARD
TZOFFSETFROM:-0400
TZOFFSETTO:-0500
TZNAME:EST
DTSTART:20231105T060000
END:STANDARD
BEGIN:DAYLIGHT
TZOFFSETFROM:-0500
TZOFFSETTO:-0400
TZNAME:EDT
DTSTART:20240310T070000
END:DAYLIGHT
BEGIN:STANDARD
TZOFFSETFROM:-0400
TZOFFSETTO:-0500
TZNAME:EST
DTSTART:20241103T060000
END:STANDARD
BEGIN:DAYLIGHT
TZOFFSETFROM:-0500
TZOFFSETTO:-0400
TZNAME:EDT
DTSTART:20250309T070000
END:DAYLIGHT
BEGIN:STANDARD
TZOFFSETFROM:-0400
TZOFFSETTO:-0500
TZNAME:EST
DTSTART:20251102T060000
END:STANDARD
END:VTIMEZONE
BEGIN:VEVENT
DTSTART;TZID=America/New_York:20240713T100000
DTEND;TZID=America/New_York:20240713T111500
DTSTAMP:20260420T102731
CREATED:20240521T125222Z
LAST-MODIFIED:20240521T125222Z
UID:19256-1720864800-1720869300@www.honeyhollownaturecenter.org
SUMMARY:Outdoor Morning Yoga
DESCRIPTION:Welcome to Outdoor Morning Yoga at Bucks County Audubon Society! Start your day off right with a rejuvenating yoga session surrounded by nature. Join us for an hour of peaceful and energizing yoga poses that will leave you feeling refreshed and ready to tackle the day. Whether you’re a beginner or a seasoned yogi\, this class is suitable for all levels. Don’t forget to bring your mat\, water bottle\, and a positive attitude! Come connect with nature and yourself at Outdoor Morning Yoga. \nTo register:  https://www.eventbrite.com/o/lorrie-cole-lmt-ryt-66454416283
URL:https://www.honeyhollownaturecenter.org/event/outdoor-morning-yoga/
LOCATION:Honey Hollow Nature Center\, 2877 Creamery Road\, New Hope\, 18938\, United States
CATEGORIES:Adults
ATTACH;FMTTYPE=image/jpeg:https://www.honeyhollownaturecenter.org/wp-content/uploads/2024/05/Picture1.jpg
GEO:40.3725704;-75.0106384
X-APPLE-STRUCTURED-LOCATION;VALUE=URI;X-ADDRESS=Honey Hollow Nature Center 2877 Creamery Road New Hope 18938 United States;X-APPLE-RADIUS=500;X-TITLE=2877 Creamery Road:geo:-75.0106384,40.3725704
END:VEVENT
BEGIN:VEVENT
DTSTART;TZID=America/New_York:20240721T193000
DTEND;TZID=America/New_York:20240721T204500
DTSTAMP:20260420T102731
CREATED:20240623T233742Z
LAST-MODIFIED:20240623T233742Z
UID:19320-1721590200-1721594700@www.honeyhollownaturecenter.org
SUMMARY:Full Moon Outdoor Yoga
DESCRIPTION:Come join us for a magical evening of yoga under the full moon at the beautiful Bucks County Audubon Society. Connect with nature\, breathe in the fresh air\, and find your inner peace as you flow through poses under the moonlit sky. This event is perfect for yogis of all levels\, so whether you’re a beginner or a seasoned practitioner\, come and enjoy the tranquility of practicing yoga in nature. Don’t miss out on this unique experience! \nTo register:  https://www.eventbrite.com/o/lorrie-cole-lmt-ryt-66454416283
URL:https://www.honeyhollownaturecenter.org/event/full-moon-yoga-2/
LOCATION:Honey Hollow Nature Center\, 2877 Creamery Road\, New Hope\, 18938\, United States
CATEGORIES:Adults
ATTACH;FMTTYPE=image/jpeg:https://www.honeyhollownaturecenter.org/wp-content/uploads/2024/05/Picture1.jpg
GEO:40.3725704;-75.0106384
X-APPLE-STRUCTURED-LOCATION;VALUE=URI;X-ADDRESS=Honey Hollow Nature Center 2877 Creamery Road New Hope 18938 United States;X-APPLE-RADIUS=500;X-TITLE=2877 Creamery Road:geo:-75.0106384,40.3725704
END:VEVENT
END:VCALENDAR