BEGIN:VCALENDAR
VERSION:2.0
PRODID:-//Honey Hollow Nature Center - ECPv6.15.20//NONSGML v1.0//EN
CALSCALE:GREGORIAN
METHOD:PUBLISH
X-ORIGINAL-URL:https://www.honeyhollownaturecenter.org
X-WR-CALDESC:Events for Honey Hollow Nature Center
REFRESH-INTERVAL;VALUE=DURATION:PT1H
X-Robots-Tag:noindex
X-PUBLISHED-TTL:PT1H
BEGIN:VTIMEZONE
TZID:America/New_York
BEGIN:DAYLIGHT
TZOFFSETFROM:-0500
TZOFFSETTO:-0400
TZNAME:EDT
DTSTART:20230312T070000
END:DAYLIGHT
BEGIN:STANDARD
TZOFFSETFROM:-0400
TZOFFSETTO:-0500
TZNAME:EST
DTSTART:20231105T060000
END:STANDARD
BEGIN:DAYLIGHT
TZOFFSETFROM:-0500
TZOFFSETTO:-0400
TZNAME:EDT
DTSTART:20240310T070000
END:DAYLIGHT
BEGIN:STANDARD
TZOFFSETFROM:-0400
TZOFFSETTO:-0500
TZNAME:EST
DTSTART:20241103T060000
END:STANDARD
BEGIN:DAYLIGHT
TZOFFSETFROM:-0500
TZOFFSETTO:-0400
TZNAME:EDT
DTSTART:20250309T070000
END:DAYLIGHT
BEGIN:STANDARD
TZOFFSETFROM:-0400
TZOFFSETTO:-0500
TZNAME:EST
DTSTART:20251102T060000
END:STANDARD
END:VTIMEZONE
BEGIN:VEVENT
DTSTART;TZID=America/New_York:20240802T193000
DTEND;TZID=America/New_York:20240802T201500
DTSTAMP:20260420T120415
CREATED:20240521T125550Z
LAST-MODIFIED:20240521T125628Z
UID:19258-1722627000-1722629700@www.honeyhollownaturecenter.org
SUMMARY:Outdoor Evening Yoga
DESCRIPTION:Welcome to Outdoor Evening Yoga! Join us for a relaxing and rejuvenating yoga session under the open sky at the Bucks County Audubon Society. Connect with nature as you flow through poses and breathe in the fresh air. This event is perfect for all levels\, whether you’re a beginner or a seasoned yogi. Mats will be provided\, so just bring yourself and an open mind. Come unwind and stretch with us in this tranquil setting. Namaste! \nTo register:  https://www.eventbrite.com/o/lorrie-cole-lmt-ryt-66454416283
URL:https://www.honeyhollownaturecenter.org/event/outdoor-evening-yoga/
LOCATION:Honey Hollow Nature Center\, 2877 Creamery Road\, New Hope\, 18938\, United States
CATEGORIES:Adults
ATTACH;FMTTYPE=image/jpeg:https://www.honeyhollownaturecenter.org/wp-content/uploads/2024/05/Picture1.jpg
GEO:40.3725704;-75.0106384
X-APPLE-STRUCTURED-LOCATION;VALUE=URI;X-ADDRESS=Honey Hollow Nature Center 2877 Creamery Road New Hope 18938 United States;X-APPLE-RADIUS=500;X-TITLE=2877 Creamery Road:geo:-75.0106384,40.3725704
END:VEVENT
BEGIN:VEVENT
DTSTART;TZID=America/New_York:20240811T093000
DTEND;TZID=America/New_York:20240811T104500
DTSTAMP:20260420T120415
CREATED:20240521T130108Z
LAST-MODIFIED:20240521T130108Z
UID:19259-1723368600-1723373100@www.honeyhollownaturecenter.org
SUMMARY:Outdoor Morning Yoga
DESCRIPTION:Welcome to Outdoor Morning Yoga! Join us at the Bucks County Audubon Society for a rejuvenating yoga session surrounded by nature. Start your day off right with a peaceful practice that will leave you feeling refreshed and energized. Whether you’re a beginner or an experienced yogi\, this outdoor event is the perfect way to connect with your mind\, body\, and soul. Don’t forget to bring your yoga mat and water bottle. We can’t wait to flow with you amidst the beauty of Bucks County Audubon Society! \nTo register:  https://www.eventbrite.com/o/lorrie-cole-lmt-ryt-66454416283
URL:https://www.honeyhollownaturecenter.org/event/outdoor-morning-yoga-august/
LOCATION:Honey Hollow Nature Center\, 2877 Creamery Road\, New Hope\, 18938\, United States
CATEGORIES:Adults
ATTACH;FMTTYPE=image/jpeg:https://www.honeyhollownaturecenter.org/wp-content/uploads/2024/05/Picture1.jpg
GEO:40.3725704;-75.0106384
X-APPLE-STRUCTURED-LOCATION;VALUE=URI;X-ADDRESS=Honey Hollow Nature Center 2877 Creamery Road New Hope 18938 United States;X-APPLE-RADIUS=500;X-TITLE=2877 Creamery Road:geo:-75.0106384,40.3725704
END:VEVENT
BEGIN:VEVENT
DTSTART;TZID=America/New_York:20240819T193000
DTEND;TZID=America/New_York:20240819T204500
DTSTAMP:20260420T120415
CREATED:20240729T131433Z
LAST-MODIFIED:20240729T132302Z
UID:19573-1724095800-1724100300@www.honeyhollownaturecenter.org
SUMMARY:Full Moon Outdoor Yoga
DESCRIPTION:Come join us for a magical evening of yoga under the full moon at the beautiful Bucks County Audubon Society. Connect with nature\, breathe in the fresh air\, and find your inner peace as you flow through poses under the moonlit sky. This event is perfect for yogis of all levels\, so whether you’re a beginner or a seasoned practitioner\, come and enjoy the tranquility of practicing yoga in nature. Don’t miss out on this unique experience! \nTo register:  hhttps://www.eventbrite.com/e/full-moon-outdoor-yoga-donation-based-tickets-953792498037
URL:https://www.honeyhollownaturecenter.org/event/full-moon-yoga-8-19/
LOCATION:Honey Hollow Nature Center\, 2877 Creamery Road\, New Hope\, 18938\, United States
CATEGORIES:Adults
ATTACH;FMTTYPE=image/jpeg:https://www.honeyhollownaturecenter.org/wp-content/uploads/2024/05/Picture1.jpg
GEO:40.3725704;-75.0106384
X-APPLE-STRUCTURED-LOCATION;VALUE=URI;X-ADDRESS=Honey Hollow Nature Center 2877 Creamery Road New Hope 18938 United States;X-APPLE-RADIUS=500;X-TITLE=2877 Creamery Road:geo:-75.0106384,40.3725704
END:VEVENT
END:VCALENDAR