BEGIN:VCALENDAR
VERSION:2.0
PRODID:-//Honey Hollow Nature Center - ECPv6.15.20//NONSGML v1.0//EN
CALSCALE:GREGORIAN
METHOD:PUBLISH
X-WR-CALNAME:Honey Hollow Nature Center
X-ORIGINAL-URL:https://www.honeyhollownaturecenter.org
X-WR-CALDESC:Events for Honey Hollow Nature Center
REFRESH-INTERVAL;VALUE=DURATION:PT1H
X-Robots-Tag:noindex
X-PUBLISHED-TTL:PT1H
BEGIN:VTIMEZONE
TZID:America/New_York
BEGIN:DAYLIGHT
TZOFFSETFROM:-0500
TZOFFSETTO:-0400
TZNAME:EDT
DTSTART:20230312T070000
END:DAYLIGHT
BEGIN:STANDARD
TZOFFSETFROM:-0400
TZOFFSETTO:-0500
TZNAME:EST
DTSTART:20231105T060000
END:STANDARD
BEGIN:DAYLIGHT
TZOFFSETFROM:-0500
TZOFFSETTO:-0400
TZNAME:EDT
DTSTART:20240310T070000
END:DAYLIGHT
BEGIN:STANDARD
TZOFFSETFROM:-0400
TZOFFSETTO:-0500
TZNAME:EST
DTSTART:20241103T060000
END:STANDARD
BEGIN:DAYLIGHT
TZOFFSETFROM:-0500
TZOFFSETTO:-0400
TZNAME:EDT
DTSTART:20250309T070000
END:DAYLIGHT
BEGIN:STANDARD
TZOFFSETFROM:-0400
TZOFFSETTO:-0500
TZNAME:EST
DTSTART:20251102T060000
END:STANDARD
END:VTIMEZONE
BEGIN:VEVENT
DTSTART;TZID=America/New_York:20241229T080000
DTEND;TZID=America/New_York:20241229T120000
DTSTAMP:20260422T103442
CREATED:20241205T214140Z
LAST-MODIFIED:20241206T014749Z
UID:20250-1735459200-1735473600@www.honeyhollownaturecenter.org
SUMMARY:124th Christmas Bird Count
DESCRIPTION:Join the longest-running community science project in North America – The Christmas Bird Count!  \nThis year the Central Bucks Christmas Bird Count will take place on December 29. We have opportunities for beginning birders\, mobility-challenged birders\, and folks who want to feeder watch (location-dependent). Please contact Diane at dianesmith@bcas.org and put 2024 CBC in the subject line. Let us know how you’d like to participate and we’ll find a spot for you to do so!  \nThere is no cost to participate in this event. The registration cutoff date is December 20\, 2024.
URL:https://www.honeyhollownaturecenter.org/event/124th-christmas-bird-count/
LOCATION:Honey Hollow Nature Center\, 2877 Creamery Road\, New Hope\, 18938\, United States
CATEGORIES:Adults,Birding,Citizen Science
ATTACH;FMTTYPE=image/png:https://www.honeyhollownaturecenter.org/wp-content/uploads/2024/12/fb_cbc2.png
GEO:40.3725704;-75.0106384
X-APPLE-STRUCTURED-LOCATION;VALUE=URI;X-ADDRESS=Honey Hollow Nature Center 2877 Creamery Road New Hope 18938 United States;X-APPLE-RADIUS=500;X-TITLE=2877 Creamery Road:geo:-75.0106384,40.3725704
END:VEVENT
END:VCALENDAR