BEGIN:VCALENDAR
VERSION:2.0
PRODID:-//Honey Hollow Nature Center - ECPv6.15.20//NONSGML v1.0//EN
CALSCALE:GREGORIAN
METHOD:PUBLISH
X-ORIGINAL-URL:https://www.honeyhollownaturecenter.org
X-WR-CALDESC:Events for Honey Hollow Nature Center
REFRESH-INTERVAL;VALUE=DURATION:PT1H
X-Robots-Tag:noindex
X-PUBLISHED-TTL:PT1H
BEGIN:VTIMEZONE
TZID:America/New_York
BEGIN:DAYLIGHT
TZOFFSETFROM:-0500
TZOFFSETTO:-0400
TZNAME:EDT
DTSTART:20250309T070000
END:DAYLIGHT
BEGIN:STANDARD
TZOFFSETFROM:-0400
TZOFFSETTO:-0500
TZNAME:EST
DTSTART:20251102T060000
END:STANDARD
BEGIN:DAYLIGHT
TZOFFSETFROM:-0500
TZOFFSETTO:-0400
TZNAME:EDT
DTSTART:20260308T070000
END:DAYLIGHT
BEGIN:STANDARD
TZOFFSETFROM:-0400
TZOFFSETTO:-0500
TZNAME:EST
DTSTART:20261101T060000
END:STANDARD
BEGIN:DAYLIGHT
TZOFFSETFROM:-0500
TZOFFSETTO:-0400
TZNAME:EDT
DTSTART:20270314T070000
END:DAYLIGHT
BEGIN:STANDARD
TZOFFSETFROM:-0400
TZOFFSETTO:-0500
TZNAME:EST
DTSTART:20271107T060000
END:STANDARD
END:VTIMEZONE
BEGIN:VEVENT
DTSTART;TZID=America/New_York:20260131T133000
DTEND;TZID=America/New_York:20260131T143000
DTSTAMP:20260421T041311
CREATED:20251227T192001Z
LAST-MODIFIED:20260128T152229Z
UID:27907-1769866200-1769869800@www.honeyhollownaturecenter.org
SUMMARY:[Postponed | Sold Out] Fungi in the Forest\, A Mushroom Exploration with J. Mertz
DESCRIPTION:THIS EVENT IS SOLD OUT AND HAS BEEN POSTPONED TO APRIL 11. THANK YOU FOR YOUR INTEREST! \nPeak into the fantastic world of Fungi with Jeff Mertz\, Founder and Forager of Wildspawn Mushrooms. He will present basic mushroom characteristics that will allow you to distinguish common mushrooms right in your backyard. The focus will be on edible and medicinal mushrooms\, although some other notable fungi will also be included in the conversation. Not only will you learn about native fungi\, but Jeff will also teach you to identify common plants and ecosystem types that certain mushroom species rely on. Jeff will set up a table of fresh and dried mushrooms so participants can get hands-on experience before and after the presentation. \nJeff Mertz is an engineer/physicist turned mushroom farmer\, forager\, educator\, and home chef. Jeff grew up as an active and outdoorsy kid\, spending countless hours playing in the woods and eventually rising through the ranks of Boy Scouts to Eagle Scout. He started Wildspawn Mushrooms in 2021 with his best friend Cody Iannozzi\, who shared his love for foraging mushrooms\, nature\, and local agriculture. Together they built a following at local farmers markets and eventually branched out into restaurants\, CSA’s\, and small local groceries. Today\, Jeff is the sole-owner of WSM and his farming-operation is based in Montgomery\, New Jersey. \nMembers: $5 | Non-Members: $10
URL:https://www.honeyhollownaturecenter.org/event/fungi-in-the-forest-event/
LOCATION:Honey Hollow Nature Center\, 2877 Creamery Road\, New Hope\, 18938\, United States
CATEGORIES:Adults,Family
ATTACH;FMTTYPE=image/png:https://www.honeyhollownaturecenter.org/wp-content/uploads/2025/12/mertz.png
GEO:40.3725704;-75.0106384
X-APPLE-STRUCTURED-LOCATION;VALUE=URI;X-ADDRESS=Honey Hollow Nature Center 2877 Creamery Road New Hope 18938 United States;X-APPLE-RADIUS=500;X-TITLE=2877 Creamery Road:geo:-75.0106384,40.3725704
END:VEVENT
END:VCALENDAR