BEGIN:VCALENDAR
VERSION:2.0
PRODID:-//Honey Hollow Nature Center - ECPv6.15.20//NONSGML v1.0//EN
CALSCALE:GREGORIAN
METHOD:PUBLISH
X-ORIGINAL-URL:https://www.honeyhollownaturecenter.org
X-WR-CALDESC:Events for Honey Hollow Nature Center
REFRESH-INTERVAL;VALUE=DURATION:PT1H
X-Robots-Tag:noindex
X-PUBLISHED-TTL:PT1H
BEGIN:VTIMEZONE
TZID:America/New_York
BEGIN:DAYLIGHT
TZOFFSETFROM:-0500
TZOFFSETTO:-0400
TZNAME:EDT
DTSTART:20250309T070000
END:DAYLIGHT
BEGIN:STANDARD
TZOFFSETFROM:-0400
TZOFFSETTO:-0500
TZNAME:EST
DTSTART:20251102T060000
END:STANDARD
BEGIN:DAYLIGHT
TZOFFSETFROM:-0500
TZOFFSETTO:-0400
TZNAME:EDT
DTSTART:20260308T070000
END:DAYLIGHT
BEGIN:STANDARD
TZOFFSETFROM:-0400
TZOFFSETTO:-0500
TZNAME:EST
DTSTART:20261101T060000
END:STANDARD
BEGIN:DAYLIGHT
TZOFFSETFROM:-0500
TZOFFSETTO:-0400
TZNAME:EDT
DTSTART:20270314T070000
END:DAYLIGHT
BEGIN:STANDARD
TZOFFSETFROM:-0400
TZOFFSETTO:-0500
TZNAME:EST
DTSTART:20271107T060000
END:STANDARD
END:VTIMEZONE
BEGIN:VEVENT
DTSTART;TZID=America/New_York:20260214T080000
DTEND;TZID=America/New_York:20260214T100000
DTSTAMP:20260420T120416
CREATED:20260103T154930Z
LAST-MODIFIED:20260109T180747Z
UID:27940-1771056000-1771063200@www.honeyhollownaturecenter.org
SUMMARY:29th Annual Great Backyard Bird Count and Winter Hike
DESCRIPTION:The Great Backyard Bird Count (GBBC) is a community science project launched in the US in 1998 and expanded worldwide in 2013. Join thousands of birders reporting their data over a four-day period. These observations help scientists better understand global bird populations before one of their annual migrations.  \nMeet at the Visitor Center at 8 am for a brief introduction to the count\, and then let’s take a bird walk!  Dress for the weather.  \nThis event is free\, but registration is required by February 12.  \nRegister here.
URL:https://www.honeyhollownaturecenter.org/event/gbbc-and-winter-hike-2026/
LOCATION:Honey Hollow Nature Center\, 2877 Creamery Road\, New Hope\, 18938\, United States
CATEGORIES:Adults,Birding,Citizen Science,Family
ATTACH;FMTTYPE=image/png:https://www.honeyhollownaturecenter.org/wp-content/uploads/2026/01/GBBC.png
ORGANIZER;CN="Bucks County Audubon Society":MAILTO:info@honeyhollownaturecenter.org
GEO:40.3725704;-75.0106384
X-APPLE-STRUCTURED-LOCATION;VALUE=URI;X-ADDRESS=Honey Hollow Nature Center 2877 Creamery Road New Hope 18938 United States;X-APPLE-RADIUS=500;X-TITLE=2877 Creamery Road:geo:-75.0106384,40.3725704
END:VEVENT
BEGIN:VEVENT
DTSTART;TZID=America/New_York:20260214T160000
DTEND;TZID=America/New_York:20260214T180000
DTSTAMP:20260420T120416
CREATED:20260115T160527Z
LAST-MODIFIED:20260211T200030Z
UID:28674-1771084800-1771092000@www.honeyhollownaturecenter.org
SUMMARY:[Canceled] Valentine's Trivia Night
DESCRIPTION:** This event was canceled due to low enrollment. Thank you for your interest! ** \nDo you know the birds and the bees about the birds and the bees?  \nBring your valentine or pal-entine and test your knowledge of love in the animal kingdom! \nBYOB \n**For ages 18 and up. \nMembers: $5\nNon-Members: $10 \nPurchase your tickets here.
URL:https://www.honeyhollownaturecenter.org/event/valentines-trivia-night/
LOCATION:Honey Hollow Nature Center\, 2877 Creamery Road\, New Hope\, 18938\, United States
CATEGORIES:Adults
ATTACH;FMTTYPE=image/png:https://www.honeyhollownaturecenter.org/wp-content/uploads/2026/01/valentines-event1.png
GEO:40.3725704;-75.0106384
X-APPLE-STRUCTURED-LOCATION;VALUE=URI;X-ADDRESS=Honey Hollow Nature Center 2877 Creamery Road New Hope 18938 United States;X-APPLE-RADIUS=500;X-TITLE=2877 Creamery Road:geo:-75.0106384,40.3725704
END:VEVENT
END:VCALENDAR