BEGIN:VCALENDAR
VERSION:2.0
PRODID:-//Honey Hollow Nature Center - ECPv6.15.20//NONSGML v1.0//EN
CALSCALE:GREGORIAN
METHOD:PUBLISH
X-ORIGINAL-URL:https://www.honeyhollownaturecenter.org
X-WR-CALDESC:Events for Honey Hollow Nature Center
REFRESH-INTERVAL;VALUE=DURATION:PT1H
X-Robots-Tag:noindex
X-PUBLISHED-TTL:PT1H
BEGIN:VTIMEZONE
TZID:UTC
BEGIN:STANDARD
TZOFFSETFROM:+0000
TZOFFSETTO:+0000
TZNAME:UTC
DTSTART:20150101T000000
END:STANDARD
END:VTIMEZONE
BEGIN:VEVENT
DTSTART;TZID=UTC:20211014T160000
DTEND;TZID=UTC:20211014T173000
DTSTAMP:20260420T211506
CREATED:20210920T183759Z
LAST-MODIFIED:20211007T183012Z
UID:13541-1634227200-1634232600@www.honeyhollownaturecenter.org
SUMMARY:Fall 2021 After School Explorers
DESCRIPTION:Come join us at Bucks Audubon to get outside and explore all that nature has to offer! This set of afterschool programs is for children in grades 1-4. \nOur upcoming programs are scheduled for the following Thursdays from 4:00-5:30pm. Fee for all nine sessions: Members $135\, Non-members $180. Registration will be capped at 12 participants so sign up early! An individual session is $20 for members and $25 for non-members. \nREGISTER HERE! \n\nOctober 14 – Aviation Migration! Learn all about birds\, the reasons why they travel\, and what we can do to help them on their journey!\nOctober 21 – Camouflage vs Warning Colors! Some animals hide\, and some show themselves with bright colors! Come discover the benefits and drawbacks of both!\nOctober 28 – All About Bats! Bring your costume for a fun Halloween celebration and learn about these interesting mammals!\nNovember 4 – Signs of Autumn As the seasons change\, so do the habitats at Bucks Audubon! Come investigate these changes with us!\nNovember 11 – Scat! Learn all about animals from the scat they leave behind!\nNovember 18 – Wild About Turkeys. Discover what makes Turkeys so cool just in time for Thanksgiving!\nDecember 2 – Weather Warriors. Learn about the water cycle\, meteorology\, and more!\nDecember 9 – Preparing for Winter! From hibernation to food storage and more\, learn about the ways wildlife prepare themselves for the cold months!\nDecember 16 – Winter on the Trail Discover the trails of Bucks Audubon at the start of a new season\, and learn all about how trails are marked and made!
URL:https://www.honeyhollownaturecenter.org/event/fall-2021-after-school-explorers/2021-10-14/
LOCATION:Honey Hollow Nature Center\, 2877 Creamery Road\, New Hope\, 18938\, United States
CATEGORIES:After School Program
ATTACH;FMTTYPE=image/jpeg:https://www.honeyhollownaturecenter.org/wp-content/uploads/2020/07/MGJ9619-scaled.jpg
GEO:40.3725704;-75.0106384
X-APPLE-STRUCTURED-LOCATION;VALUE=URI;X-ADDRESS=Honey Hollow Nature Center 2877 Creamery Road New Hope 18938 United States;X-APPLE-RADIUS=500;X-TITLE=2877 Creamery Road:geo:-75.0106384,40.3725704
END:VEVENT
BEGIN:VEVENT
DTSTART;TZID=UTC:20200918T123000
DTEND;TZID=UTC:20200918T153000
DTSTAMP:20260420T211506
CREATED:20200817T201452Z
LAST-MODIFIED:20200818T182040Z
UID:9083-1600432200-1600443000@www.honeyhollownaturecenter.org
SUMMARY:Young Naturalists Half-Day Program
DESCRIPTION:Add nature and friends to your fall schedule! \nWith schools going completely virtual\, we know that you still need to get your kids outside and away from the screens! And we want to help! Bucks Audubon has designed two new programs for this fall\, an after-school club on Wednesdays and a half-day program on Fridays. These programs will get your kids outside connecting with nature\, engaging with other children\, getting fresh air and exercise\, all while staying safe and having fun. \nBucks Audubon understands the need to keep everyone healthy\, and programs will: \n1. Take place primarily outside\n2. Have a maximum of 10 children in the group\, with the same group of children gathering each week\n3. Require everyone to wear masks\n4. Practice social distancing\n5. Include regular hand-washing and sanitizing \nThis half-day program is perfect for children ages 5-8 years old\, and will take place each Friday\, 12:30-3:30pm. This fall’s session is all about “Wildlife”\, so each week we will try to discover the different animals that live at Bucks Audubon\, like the insects\, mammals\, amphibians\, birds and more! All activities will take place outside\, so be sure to dress accordingly! Lunch is NOT provided. \nRegistration for the Fall Session is $300/Members and $400/Non-Members for the 10 weeks. Register HERE
URL:https://www.honeyhollownaturecenter.org/event/young-naturalists-half-day-program/2020-09-18/
LOCATION:Honey Hollow Nature Center\, 2877 Creamery Road\, New Hope\, 18938\, United States
CATEGORIES:After School Program
GEO:40.3725704;-75.0106384
X-APPLE-STRUCTURED-LOCATION;VALUE=URI;X-ADDRESS=Honey Hollow Nature Center 2877 Creamery Road New Hope 18938 United States;X-APPLE-RADIUS=500;X-TITLE=2877 Creamery Road:geo:-75.0106384,40.3725704
END:VEVENT
BEGIN:VEVENT
DTSTART;TZID=UTC:20200916T153000
DTEND;TZID=UTC:20200916T170000
DTSTAMP:20260420T211506
CREATED:20200817T195652Z
LAST-MODIFIED:20200818T181642Z
UID:9058-1600270200-1600275600@www.honeyhollownaturecenter.org
SUMMARY:Young Naturalists After-School Program
DESCRIPTION: Add nature and friends to your fall schedule! \nWith schools going completely virtual\, we know that you still need to get your kids outside and away from the screens! And we want to help! Bucks Audubon has designed two new programs for this fall\, an afterschool club on Wednesdays and a half-day program on Fridays. These programs will get your kids outside connecting with nature\, engaging with other children\, getting fresh air and exercise\, all while staying safe and having fun. \nBucks Audubon understands the need to keep everyone healthy\, and programs will: \n1. Take place primarily outside2. Have a maximum of 10 children in the group\, with the same group of children gathering each week3. Require everyone to wear masks4. Practice social distancing5. Include regular hand-washing and sanitizing \nThis after-school program is perfect for children ages 5-8 years old\, and will take place each Wednesday\, 3:30-5:00pm. This fall’s session is all about “Habitats”\, so each week we will explore a different habitat\, such as our forests\, pond\, stream\, field\, and more!  \nRegistration for the Fall Session is $150/Members and $200/Non-Members for the 10 weeks. Register HERE
URL:https://www.honeyhollownaturecenter.org/event/young-naturalists-after-school-program/2020-09-16/
LOCATION:Honey Hollow Nature Center\, 2877 Creamery Road\, New Hope\, 18938\, United States
CATEGORIES:After School Program
GEO:40.3725704;-75.0106384
X-APPLE-STRUCTURED-LOCATION;VALUE=URI;X-ADDRESS=Honey Hollow Nature Center 2877 Creamery Road New Hope 18938 United States;X-APPLE-RADIUS=500;X-TITLE=2877 Creamery Road:geo:-75.0106384,40.3725704
END:VEVENT
BEGIN:VEVENT
DTSTART;TZID=UTC:20170414T090000
DTEND;TZID=UTC:20170414T150000
DTSTAMP:20260420T211506
CREATED:20160725T214748Z
LAST-MODIFIED:20160824T202015Z
UID:725-1492160400-1492182000@www.honeyhollownaturecenter.org
SUMMARY:School Holiday Camp: Jeopardy
DESCRIPTION:Shock your friends with your newfound nature knowledge during this gameshow themed day! Trivia from the previous camp days will be mingled with some new facts during our Jeopardy game! Prizes will be awarded\, so bring your A-Game! \nDrop off your child at 9am and pick them back up at 3pm after a fun-filled day of nature exploration and discovery! The day features unique games\, hikes\, science experiments\, and crafts that all tie in to the day’s theme: Jeopardy.
URL:https://www.honeyhollownaturecenter.org/event/school-holiday-camp-jeopardy/
LOCATION:Honey Hollow Nature Center\, 2877 Creamery Road\, New Hope\, 18938\, United States
CATEGORIES:After School Program
GEO:40.3725704;-75.0106384
X-APPLE-STRUCTURED-LOCATION;VALUE=URI;X-ADDRESS=Honey Hollow Nature Center 2877 Creamery Road New Hope 18938 United States;X-APPLE-RADIUS=500;X-TITLE=2877 Creamery Road:geo:-75.0106384,40.3725704
END:VEVENT
BEGIN:VEVENT
DTSTART;TZID=UTC:20170413T090000
DTEND;TZID=UTC:20170413T150000
DTSTAMP:20260420T211506
CREATED:20160725T214546Z
LAST-MODIFIED:20160824T202007Z
UID:724-1492074000-1492095600@www.honeyhollownaturecenter.org
SUMMARY:School Holiday Camp: Swirling Stream and Peaceful Pond
DESCRIPTION:There are so many aquatic critters that live on our property! Where do they live and what makes them all different? We’ll discover their secrets as we catch them! \nDrop off your child at 9am and pick them back up at 3pm after a fun-filled day of nature exploration and discovery! The day features unique games\, hikes\, science experiments\, and crafts that all tie in to the day’s theme: Swirling Stream and Peaceful Pond.
URL:https://www.honeyhollownaturecenter.org/event/school-holiday-camp-swirling-stream-and-peaceful-pond/
LOCATION:Honey Hollow Nature Center\, 2877 Creamery Road\, New Hope\, 18938\, United States
CATEGORIES:After School Program
GEO:40.3725704;-75.0106384
X-APPLE-STRUCTURED-LOCATION;VALUE=URI;X-ADDRESS=Honey Hollow Nature Center 2877 Creamery Road New Hope 18938 United States;X-APPLE-RADIUS=500;X-TITLE=2877 Creamery Road:geo:-75.0106384,40.3725704
END:VEVENT
BEGIN:VEVENT
DTSTART;TZID=UTC:20170412T090000
DTEND;TZID=UTC:20170412T170000
DTSTAMP:20260420T211506
CREATED:20160725T212942Z
LAST-MODIFIED:20160824T202001Z
UID:723-1491987600-1492016400@www.honeyhollownaturecenter.org
SUMMARY:School Holiday Camp: It's a Small World
DESCRIPTION:What do animals and plants need to survive? As we discover these necessities\, we will create our own mini ecosystems! \nDrop off your child at 9am and pick them back up at 3pm after a fun-filled day of nature exploration and discovery! The day features unique games\, hikes\, science experiments\, and crafts that all tie in to the day’s theme: It’s a Small World.
URL:https://www.honeyhollownaturecenter.org/event/school-holiday-camp-its-a-small-world/
LOCATION:Honey Hollow Nature Center\, 2877 Creamery Road\, New Hope\, 18938\, United States
CATEGORIES:After School Program
GEO:40.3725704;-75.0106384
X-APPLE-STRUCTURED-LOCATION;VALUE=URI;X-ADDRESS=Honey Hollow Nature Center 2877 Creamery Road New Hope 18938 United States;X-APPLE-RADIUS=500;X-TITLE=2877 Creamery Road:geo:-75.0106384,40.3725704
END:VEVENT
BEGIN:VEVENT
DTSTART;TZID=UTC:20170411T090000
DTEND;TZID=UTC:20170411T150000
DTSTAMP:20260420T211506
CREATED:20160725T212551Z
LAST-MODIFIED:20160824T201954Z
UID:722-1491901200-1491922800@www.honeyhollownaturecenter.org
SUMMARY:School Holiday Camp: Author and Illustrator- Nature Journaling
DESCRIPTION:What did you see today?! Never forget with a new nature journal! Document what you do\, see\, and feel in handmade journals. \nDrop off your child at 9am and pick them back up at 3pm after a fun-filled day of nature exploration and discovery! The day features unique games\, hikes\, science experiments\, and crafts that all tie in to the day’s theme: Author and Illustrator – Nature Journaling.
URL:https://www.honeyhollownaturecenter.org/event/school-holiday-camp-author-and-illustrator-nature-journaling/
LOCATION:Honey Hollow Nature Center\, 2877 Creamery Road\, New Hope\, 18938\, United States
CATEGORIES:After School Program
GEO:40.3725704;-75.0106384
X-APPLE-STRUCTURED-LOCATION;VALUE=URI;X-ADDRESS=Honey Hollow Nature Center 2877 Creamery Road New Hope 18938 United States;X-APPLE-RADIUS=500;X-TITLE=2877 Creamery Road:geo:-75.0106384,40.3725704
END:VEVENT
BEGIN:VEVENT
DTSTART;TZID=UTC:20170410T090000
DTEND;TZID=UTC:20170410T150000
DTSTAMP:20260420T211506
CREATED:20160725T212312Z
LAST-MODIFIED:20160824T201935Z
UID:721-1491814800-1491836400@www.honeyhollownaturecenter.org
SUMMARY:School Holiday Camp: Five Senses of Spring
DESCRIPTION:Get intimately familiar with nature as we explore it will all 5 senses! Learn how and why animals have developed these strong senses. \nDrop off your child at 9am and pick them back up at 3pm after a fun-filled day of nature exploration and discovery! The day features unique games\, hikes\, science experiments\, and crafts that all tie in to the day’s theme: Five Senses of Spring.
URL:https://www.honeyhollownaturecenter.org/event/school-holiday-camp-five-senses-of-spring/
LOCATION:Honey Hollow Nature Center\, 2877 Creamery Road\, New Hope\, 18938\, United States
CATEGORIES:After School Program
GEO:40.3725704;-75.0106384
X-APPLE-STRUCTURED-LOCATION;VALUE=URI;X-ADDRESS=Honey Hollow Nature Center 2877 Creamery Road New Hope 18938 United States;X-APPLE-RADIUS=500;X-TITLE=2877 Creamery Road:geo:-75.0106384,40.3725704
END:VEVENT
BEGIN:VEVENT
DTSTART;TZID=UTC:20170220T090000
DTEND;TZID=UTC:20170220T150000
DTSTAMP:20260420T211506
CREATED:20160725T212023Z
LAST-MODIFIED:20160824T201926Z
UID:720-1487581200-1487602800@www.honeyhollownaturecenter.org
SUMMARY:School Holiday Camp: Detectives for a Day
DESCRIPTION:Become a detective as we track animals and observe their behavior in this fun\, CSI themed day! \nDrop off your child at 9am and pick them back up at 3pm after a fun-filled day of nature exploration and discovery! The day features unique games\, hikes\, science experiments\, and crafts that all tie in to the day’s theme: Detectives for a Day.
URL:https://www.honeyhollownaturecenter.org/event/school-holiday-camp-detectives-for-a-day/
LOCATION:Honey Hollow Nature Center\, 2877 Creamery Road\, New Hope\, 18938\, United States
CATEGORIES:After School Program
GEO:40.3725704;-75.0106384
X-APPLE-STRUCTURED-LOCATION;VALUE=URI;X-ADDRESS=Honey Hollow Nature Center 2877 Creamery Road New Hope 18938 United States;X-APPLE-RADIUS=500;X-TITLE=2877 Creamery Road:geo:-75.0106384,40.3725704
END:VEVENT
BEGIN:VEVENT
DTSTART;TZID=UTC:20170116T090000
DTEND;TZID=UTC:20170116T150000
DTSTAMP:20260420T211506
CREATED:20160725T211739Z
LAST-MODIFIED:20161209T233711Z
UID:719-1484557200-1484578800@www.honeyhollownaturecenter.org
SUMMARY:School Holiday Camp: Frozen Feathered Friends
DESCRIPTION:The day features unique games\, hikes\, science experiments\, and crafts that all tie in to the day’s theme:  Frozen Feathered Friends – Not all birds migrate south for the winter. Learn about these birds and how they adapt to the snowy weather. \nFor children ages 4-10\, from 9am-3pm. \nAdmission is $45/BCAS Members\, $60/Non-Members. \nClick here to register!  \n 
URL:https://www.honeyhollownaturecenter.org/event/school-holiday-camp-frozen-feathered-friends/
LOCATION:Honey Hollow Nature Center\, 2877 Creamery Road\, New Hope\, 18938\, United States
CATEGORIES:After School Program
GEO:40.3725704;-75.0106384
X-APPLE-STRUCTURED-LOCATION;VALUE=URI;X-ADDRESS=Honey Hollow Nature Center 2877 Creamery Road New Hope 18938 United States;X-APPLE-RADIUS=500;X-TITLE=2877 Creamery Road:geo:-75.0106384,40.3725704
END:VEVENT
BEGIN:VEVENT
DTSTART;TZID=UTC:20161125T090000
DTEND;TZID=UTC:20161125T150000
DTSTAMP:20260420T211506
CREATED:20160725T211422Z
LAST-MODIFIED:20160824T201907Z
UID:718-1480064400-1480086000@www.honeyhollownaturecenter.org
SUMMARY:School Holiday Camp: #OptOutside
DESCRIPTION:Instead of going Black Friday Shopping\, opt to go outside here at Bucks County Audubon Society! \nDrop off your child at 9am and pick them back up at 3pm after a fun-filled day of nature exploration and discovery! The day features unique games\, hikes\, science experiments\, and crafts that all tie in to the day’s theme:  #OptOutside.
URL:https://www.honeyhollownaturecenter.org/event/school-holiday-camp-optoutside/
LOCATION:Honey Hollow Nature Center\, 2877 Creamery Road\, New Hope\, 18938\, United States
CATEGORIES:After School Program
GEO:40.3725704;-75.0106384
X-APPLE-STRUCTURED-LOCATION;VALUE=URI;X-ADDRESS=Honey Hollow Nature Center 2877 Creamery Road New Hope 18938 United States;X-APPLE-RADIUS=500;X-TITLE=2877 Creamery Road:geo:-75.0106384,40.3725704
END:VEVENT
BEGIN:VEVENT
DTSTART;TZID=UTC:20161123T090000
DTEND;TZID=UTC:20161123T150000
DTSTAMP:20260420T211506
CREATED:20160725T211003Z
LAST-MODIFIED:20160824T201856Z
UID:717-1479891600-1479913200@www.honeyhollownaturecenter.org
SUMMARY:School Holiday Camp: Never Fear\, Nature's Here!
DESCRIPTION:Nature provides us with so much\, from food\, to shelter\, to recreation! Let’s enjoy it and be thankful for all that nature gives us. \nDrop off your child at 9am and pick them back up at 3pm after a fun-filled day of nature exploration and discovery! Unique games\, hikes\, science experiments\, and crafts tie in to the day’s theme: Never Fear\, Nature’s Here.
URL:https://www.honeyhollownaturecenter.org/event/school-holiday-camp-never-fear-natures-here/
LOCATION:Honey Hollow Nature Center\, 2877 Creamery Road\, New Hope\, 18938\, United States
CATEGORIES:After School Program
GEO:40.3725704;-75.0106384
X-APPLE-STRUCTURED-LOCATION;VALUE=URI;X-ADDRESS=Honey Hollow Nature Center 2877 Creamery Road New Hope 18938 United States;X-APPLE-RADIUS=500;X-TITLE=2877 Creamery Road:geo:-75.0106384,40.3725704
END:VEVENT
BEGIN:VEVENT
DTSTART;TZID=UTC:20161012T090000
DTEND;TZID=UTC:20161012T150000
DTSTAMP:20260420T211506
CREATED:20160725T210734Z
LAST-MODIFIED:20160824T201744Z
UID:716-1476262800-1476284400@www.honeyhollownaturecenter.org
SUMMARY:School Holiday Camp: Happy\, Haunted Halloween
DESCRIPTION:Let’s take a look at the spooky stuff and become mad scientists here at Bucks County Audubon Society! Appropriate costumes encouraged! \nDrop off your child at 9am and pick them back up at 3pm after a fun-filled day of nature exploration and discovery! Unique games\, hikes\, science experiments\, and crafts tie in to the day’s theme: Happy\, Haunted Halloween.
URL:https://www.honeyhollownaturecenter.org/event/school-holiday-camp-happy-haunted-halloween/
LOCATION:Honey Hollow Nature Center\, 2877 Creamery Road\, New Hope\, 18938\, United States
CATEGORIES:After School Program
GEO:40.3725704;-75.0106384
X-APPLE-STRUCTURED-LOCATION;VALUE=URI;X-ADDRESS=Honey Hollow Nature Center 2877 Creamery Road New Hope 18938 United States;X-APPLE-RADIUS=500;X-TITLE=2877 Creamery Road:geo:-75.0106384,40.3725704
END:VEVENT
BEGIN:VEVENT
DTSTART;TZID=UTC:20161003T090000
DTEND;TZID=UTC:20161003T150000
DTSTAMP:20260420T211506
CREATED:20160725T210438Z
LAST-MODIFIED:20160913T220925Z
UID:715-1475485200-1475506800@www.honeyhollownaturecenter.org
SUMMARY:School Holiday Camp: Nature's Color Wheel
DESCRIPTION:Why do leaves turn from green to red and orange in the fall? We’ll study the trees and what paints them so vividly! \nDrop off your child at 9am and pick them back up at 3pm after a fun-filled day of nature exploration and discovery! Unique games\, hikes\, science experiments\, and crafts tie in to the day’s theme: Nature’s Color Wheel.
URL:https://www.honeyhollownaturecenter.org/event/school-holiday-camp-natures-color-wheel/
LOCATION:Honey Hollow Nature Center\, 2877 Creamery Road\, New Hope\, 18938\, United States
CATEGORIES:After School Program
ATTACH;FMTTYPE=image/jpeg:https://www.honeyhollownaturecenter.org/wp-content/uploads/2016/07/fall.jpg
GEO:40.3725704;-75.0106384
X-APPLE-STRUCTURED-LOCATION;VALUE=URI;X-ADDRESS=Honey Hollow Nature Center 2877 Creamery Road New Hope 18938 United States;X-APPLE-RADIUS=500;X-TITLE=2877 Creamery Road:geo:-75.0106384,40.3725704
END:VEVENT
END:VCALENDAR