BEGIN:VCALENDAR
VERSION:2.0
PRODID:-//Honey Hollow Nature Center - ECPv6.15.20//NONSGML v1.0//EN
CALSCALE:GREGORIAN
METHOD:PUBLISH
X-ORIGINAL-URL:https://www.honeyhollownaturecenter.org
X-WR-CALDESC:Events for Honey Hollow Nature Center
REFRESH-INTERVAL;VALUE=DURATION:PT1H
X-Robots-Tag:noindex
X-PUBLISHED-TTL:PT1H
BEGIN:VTIMEZONE
TZID:UTC
BEGIN:STANDARD
TZOFFSETFROM:+0000
TZOFFSETTO:+0000
TZNAME:UTC
DTSTART:20150101T000000
END:STANDARD
END:VTIMEZONE
BEGIN:VEVENT
DTSTART;TZID=UTC:20171003T100000
DTEND;TZID=UTC:20171003T160000
DTSTAMP:20260420T134351
CREATED:20171011T212318Z
LAST-MODIFIED:20171011T212548Z
UID:2886-1507024800-1507046400@www.honeyhollownaturecenter.org
SUMMARY:Rotating Art Display - Sue Ann Rainey (Rainey Day Photography)
DESCRIPTION:BCAS is excited to have Sue Ann Rainey displaying her photography here in the BCAS Visitor Center starting October 3rd and coming down November 1st. Come and check out her work on Mon-Friday from 10am-4pm in the Visitor Center! (Call ahead for weekend availability) \nAll artwork is available for sale with 25% of the proceeds being donated back to BCAS’s high-quality environmental education programs.
URL:https://www.honeyhollownaturecenter.org/event/rotating-art-display-sue-ann-rainey-rainey-day-photography/2017-10-03/
LOCATION:Honey Hollow Nature Center\, 2877 Creamery Road\, New Hope\, 18938\, United States
CATEGORIES:Adults,Art Exhibition
ATTACH;FMTTYPE=image/jpeg:https://www.honeyhollownaturecenter.org/wp-content/uploads/2017/07/sue-ann-rainey.web_.jpg
GEO:40.3725704;-75.0106384
X-APPLE-STRUCTURED-LOCATION;VALUE=URI;X-ADDRESS=Honey Hollow Nature Center 2877 Creamery Road New Hope 18938 United States;X-APPLE-RADIUS=500;X-TITLE=2877 Creamery Road:geo:-75.0106384,40.3725704
END:VEVENT
BEGIN:VEVENT
DTSTART;TZID=UTC:20170127T183000
DTEND;TZID=UTC:20170127T200000
DTSTAMP:20260420T134351
CREATED:20161128T220959Z
LAST-MODIFIED:20170110T005104Z
UID:1438-1485541800-1485547200@www.honeyhollownaturecenter.org
SUMMARY:Photo Exhibit Opening Reception
DESCRIPTION:Need an excuse to take the sweetie out on a date night? We’ve got the perfect event! Join us as we celebrate the opening of the National Audubon Photography Exhibit! \nThe Event includes: \n\nAn opportunity to see some of the most amazing Bird Photography of the year!\nA presentation on Birding Photography by LeRoy Tabb!\n\nLeRoy has always had an interest in nature and began taking pictures at the age of ten years old.  For the past twenty years his photography has been primarily of birds.  LeRoy has photographed birds across the country\, to Hawaii\, and south to the Galapagos and Trinidad & Tobago. LeRoy is now serving in his fifth year as Vice President and Program Coordinator for the Bucks County Birders. He also serves as a Teacher Naturalist and member of the Board of Directors here at BCAS.\n\n\nA Special Wine Tasting with Sand Castle Winery!\n\nAdmission:   $15/BCAS Members and $20/Non-Members \nPurchase tickets by clicking here or by calling 215-297-5880! \n 
URL:https://www.honeyhollownaturecenter.org/event/photo-exhibit-opening-reception/
LOCATION:Honey Hollow Nature Center\, 2877 Creamery Road\, New Hope\, 18938\, United States
CATEGORIES:Adults,Art Exhibition,Special Event
ATTACH;FMTTYPE=image/jpeg:https://www.honeyhollownaturecenter.org/wp-content/uploads/2016/11/MGF_9815-scaled.jpg
GEO:40.3725704;-75.0106384
X-APPLE-STRUCTURED-LOCATION;VALUE=URI;X-ADDRESS=Honey Hollow Nature Center 2877 Creamery Road New Hope 18938 United States;X-APPLE-RADIUS=500;X-TITLE=2877 Creamery Road:geo:-75.0106384,40.3725704
END:VEVENT
BEGIN:VEVENT
DTSTART;TZID=UTC:20170126T100000
DTEND;TZID=UTC:20170126T160000
DTSTAMP:20260420T134351
CREATED:20161128T220205Z
LAST-MODIFIED:20170117T202214Z
UID:1432-1485424800-1485446400@www.honeyhollownaturecenter.org
SUMMARY:National Audubon Photo Exhibit
DESCRIPTION:The National Audubon has selected contest winners from over 7\,000 entries—submitted from all 50 states\, DC\, and Canada—the winning photos were published in the May-June 2016 issue of Audubon magazine. These photos are now being sent from Audubon Chapter to Chapter to be on display for a few weeks. BCAS is honored to be able to display these award winning photographs. \nHalf of the species in the winning and honored photos are birds identified as threatened or endangered by climate change in Audubon’s Birds and Climate Change Report \, which shows that 314 bird species in North America face an uncertain future due to shifting climatic suitability. To learn more about the birds\, come out to the photo exhibit and read more at climate.audubon.org! \n 
URL:https://www.honeyhollownaturecenter.org/event/national-audubon-photo-exhibit-begins/
LOCATION:Honey Hollow Nature Center\, 2877 Creamery Road\, New Hope\, 18938\, United States
CATEGORIES:Adults,Art Exhibition,Birding
ATTACH;FMTTYPE=image/jpeg:https://www.honeyhollownaturecenter.org/wp-content/uploads/2016/11/Photo_Exhibit_Email_SocialMedia_Banner_600_6001_2016.jpg
GEO:40.3725704;-75.0106384
X-APPLE-STRUCTURED-LOCATION;VALUE=URI;X-ADDRESS=Honey Hollow Nature Center 2877 Creamery Road New Hope 18938 United States;X-APPLE-RADIUS=500;X-TITLE=2877 Creamery Road:geo:-75.0106384,40.3725704
END:VEVENT
BEGIN:VEVENT
DTSTART;TZID=UTC:20161206T100000
DTEND;TZID=UTC:20161206T160000
DTSTAMP:20260420T134351
CREATED:20161207T013608Z
LAST-MODIFIED:20161207T013608Z
UID:1493-1481018400-1481040000@www.honeyhollownaturecenter.org
SUMMARY:Harris and Fran Brown Photography Exhibit
DESCRIPTION:Come and view this month’s photography exhibit by Harris and Fran Brown! \nThese birding photographers take most of their pictures while out birding all over the country. Each print is matted and framed uniquely and are all on sale to help make your holidays brighter! Stop by during normal Visitor Center hours (Mon-Fri\, 10-4pm)! \nImages will be up until January 3rd\, 2017\, so make sure to stop by and see them today!
URL:https://www.honeyhollownaturecenter.org/event/harris-and-fran-brown-photography-exhibit/
LOCATION:Honey Hollow Nature Center\, 2877 Creamery Road\, New Hope\, 18938\, United States
CATEGORIES:Adults,Art Exhibition
ATTACH;FMTTYPE=image/jpeg:https://www.honeyhollownaturecenter.org/wp-content/uploads/2016/12/harris-and-fran-scaled.jpg
GEO:40.3725704;-75.0106384
X-APPLE-STRUCTURED-LOCATION;VALUE=URI;X-ADDRESS=Honey Hollow Nature Center 2877 Creamery Road New Hope 18938 United States;X-APPLE-RADIUS=500;X-TITLE=2877 Creamery Road:geo:-75.0106384,40.3725704
END:VEVENT
END:VCALENDAR