BEGIN:VCALENDAR
VERSION:2.0
PRODID:-//Honey Hollow Nature Center - ECPv6.15.20//NONSGML v1.0//EN
CALSCALE:GREGORIAN
METHOD:PUBLISH
X-ORIGINAL-URL:https://www.honeyhollownaturecenter.org
X-WR-CALDESC:Events for Honey Hollow Nature Center
REFRESH-INTERVAL;VALUE=DURATION:PT1H
X-Robots-Tag:noindex
X-PUBLISHED-TTL:PT1H
BEGIN:VTIMEZONE
TZID:UTC
BEGIN:STANDARD
TZOFFSETFROM:+0000
TZOFFSETTO:+0000
TZNAME:UTC
DTSTART:20180101T000000
END:STANDARD
END:VTIMEZONE
BEGIN:VEVENT
DTSTART;VALUE=DATE:20190206
DTEND;VALUE=DATE:20190207
DTSTAMP:20260422T080847
CREATED:20181116T205823Z
LAST-MODIFIED:20181116T210310Z
UID:5025-1549411200-1549497599@www.honeyhollownaturecenter.org
SUMMARY:National Audubon Photography Awards Exhibit Begins!
DESCRIPTION:The National Audubon has selected contest winners from thousands of entries. These photos are now being sent from Audubon Chapter to Chapter to be on display for a few weeks. BCAS is honored to be able to display these award winning photographs. \nPhotos will be on display from February 6th to the 27th\, Visitor Center hours are 10AM-4PM. 
URL:https://www.honeyhollownaturecenter.org/event/national-audubon-photography-awards-exhibit/
LOCATION:Honey Hollow Nature Center\, 2877 Creamery Road\, New Hope\, 18938\, United States
CATEGORIES:Adults,Art Exhibition,Audubon on the Road
ATTACH;FMTTYPE=image/jpeg:https://www.honeyhollownaturecenter.org/wp-content/uploads/2018/11/MGF5028-scaled.jpg
GEO:40.3725704;-75.0106384
X-APPLE-STRUCTURED-LOCATION;VALUE=URI;X-ADDRESS=Honey Hollow Nature Center 2877 Creamery Road New Hope 18938 United States;X-APPLE-RADIUS=500;X-TITLE=2877 Creamery Road:geo:-75.0106384,40.3725704
END:VEVENT
END:VCALENDAR