BEGIN:VCALENDAR
VERSION:2.0
PRODID:-//Honey Hollow Nature Center - ECPv6.15.20//NONSGML v1.0//EN
CALSCALE:GREGORIAN
METHOD:PUBLISH
X-ORIGINAL-URL:https://www.honeyhollownaturecenter.org
X-WR-CALDESC:Events for Honey Hollow Nature Center
REFRESH-INTERVAL;VALUE=DURATION:PT1H
X-Robots-Tag:noindex
X-PUBLISHED-TTL:PT1H
BEGIN:VTIMEZONE
TZID:UTC
BEGIN:STANDARD
TZOFFSETFROM:+0000
TZOFFSETTO:+0000
TZNAME:UTC
DTSTART:20150101T000000
END:STANDARD
END:VTIMEZONE
BEGIN:VEVENT
DTSTART;TZID=UTC:20160910T080000
DTEND;TZID=UTC:20160910T110000
DTSTAMP:20260422T074317
CREATED:20160823T030457Z
LAST-MODIFIED:20160902T202255Z
UID:911-1473494400-1473505200@www.honeyhollownaturecenter.org
SUMMARY:Members Only Birding Field Trip
DESCRIPTION:Join us for a walk on the canal and around Giving Pond to find fall migrants\, raptors and waterfowl.  Meet at the Visitor Center to car pool at 8am or the Park Office on Lodi Hill Rd. in Upper Black Eddy at 8:30am.  Please call the BCAS Office to register: 215.297.5880 \nThis is a members only event
URL:https://www.honeyhollownaturecenter.org/event/members-only-birding-field-trip/
LOCATION:DCNR Park Office\, 11 Lodi Hill Rd.\, Upper Black Eddy\, PA\, 18972\, United States
CATEGORIES:Adults,Field Trip,Member Event
ATTACH;FMTTYPE=image/jpeg:https://www.honeyhollownaturecenter.org/wp-content/uploads/2016/08/adult-activities.-birding-on-property2-scaled.jpg
GEO:40.5507749;-75.0848065
X-APPLE-STRUCTURED-LOCATION;VALUE=URI;X-ADDRESS=DCNR Park Office 11 Lodi Hill Rd. Upper Black Eddy PA 18972 United States;X-APPLE-RADIUS=500;X-TITLE=11 Lodi Hill Rd.:geo:-75.0848065,40.5507749
END:VEVENT
END:VCALENDAR