BEGIN:VCALENDAR
VERSION:2.0
PRODID:-//Honey Hollow Nature Center - ECPv6.15.20//NONSGML v1.0//EN
CALSCALE:GREGORIAN
METHOD:PUBLISH
X-WR-CALNAME:Honey Hollow Nature Center
X-ORIGINAL-URL:https://www.honeyhollownaturecenter.org
X-WR-CALDESC:Events for Honey Hollow Nature Center
REFRESH-INTERVAL;VALUE=DURATION:PT1H
X-Robots-Tag:noindex
X-PUBLISHED-TTL:PT1H
BEGIN:VTIMEZONE
TZID:America/New_York
BEGIN:DAYLIGHT
TZOFFSETFROM:-0500
TZOFFSETTO:-0400
TZNAME:EDT
DTSTART:20250309T070000
END:DAYLIGHT
BEGIN:STANDARD
TZOFFSETFROM:-0400
TZOFFSETTO:-0500
TZNAME:EST
DTSTART:20251102T060000
END:STANDARD
BEGIN:DAYLIGHT
TZOFFSETFROM:-0500
TZOFFSETTO:-0400
TZNAME:EDT
DTSTART:20260308T070000
END:DAYLIGHT
BEGIN:STANDARD
TZOFFSETFROM:-0400
TZOFFSETTO:-0500
TZNAME:EST
DTSTART:20261101T060000
END:STANDARD
BEGIN:DAYLIGHT
TZOFFSETFROM:-0500
TZOFFSETTO:-0400
TZNAME:EDT
DTSTART:20270314T070000
END:DAYLIGHT
BEGIN:STANDARD
TZOFFSETFROM:-0400
TZOFFSETTO:-0500
TZNAME:EST
DTSTART:20271107T060000
END:STANDARD
END:VTIMEZONE
BEGIN:VEVENT
DTSTART;TZID=America/New_York:20260312T100000
DTEND;TZID=America/New_York:20260312T120000
DTSTAMP:20260420T102555
CREATED:20260219T152406Z
LAST-MODIFIED:20260405T180009Z
UID:29332-1773309600-1773316800@www.honeyhollownaturecenter.org
SUMMARY:Teacher Naturalist Training\, Spring 2026
DESCRIPTION:Join our team of teacher naturalists and help bring nature to life for children and families through birthday parties\, in-school programs\, and scout events. We’re looking for enthusiastic adults who are passionate about environmental education\, enjoy working with children of all ages and abilities\, and are eager to learn and grow as educators. \nThis training is perfect whether you’re a returning naturalist looking to expand your skills and program knowledge\, or just starting and excited to get involved in environmental education. Training will prepare participants to lead engaging\, interactive programs that support our mission of inspiring a love and understanding of the natural world. Applicants should be flexible\, dependable\, able to walk on uneven terrain while carrying supplies\, and comfortable working outdoors in all weather conditions. \nTraining is free. This is a paid on-call position. Limited spaces available. \n**Have you registered with us previously? If so\, please register again to be included in this opportunity. Thank you! ** \nRegister here.
URL:https://www.honeyhollownaturecenter.org/event/teacher-naturalist-training-spring2026/
LOCATION:Honey Hollow Nature Center\, 2877 Creamery Road\, New Hope\, 18938\, United States
CATEGORIES:Past Events
ATTACH;FMTTYPE=image/png:https://www.honeyhollownaturecenter.org/wp-content/uploads/2025/07/teacher-naturalist.png
GEO:40.3725704;-75.0106384
X-APPLE-STRUCTURED-LOCATION;VALUE=URI;X-ADDRESS=Honey Hollow Nature Center 2877 Creamery Road New Hope 18938 United States;X-APPLE-RADIUS=500;X-TITLE=2877 Creamery Road:geo:-75.0106384,40.3725704
END:VEVENT
BEGIN:VEVENT
DTSTART;TZID=America/New_York:20260328T190000
DTEND;TZID=America/New_York:20260328T200000
DTSTAMP:20260420T102555
CREATED:20251111T174544Z
LAST-MODIFIED:20260405T175907Z
UID:26923-1774724400-1774728000@www.honeyhollownaturecenter.org
SUMMARY:[SOLD OUT] Frog Walk 2026
DESCRIPTION:This event has sold out. Thank you for your interest! \nJoin us for an evening exploration of the croaks\, trills\, and splashes of our local amphibians. Get up close and personal with Spring Peepers\, Leopard Frogs\, Green Frogs\, and many other local amphibians. You’ll also meet Pickles\, our Australian Tree Frog!  Warm spring evenings are filled with the sounds of these fascinating animals\, so grab your boots and a flashlight\, and join our naturalists for a frog hunt. All frogs are carefully caught and released.   \nMembers $5\, Non-members $10.   \nSpace is limited to 20 participants to prevent a negative impact on frog habitats\, so register early! The registration cutoff date is March 25\, 2026.   \nRegister here.
URL:https://www.honeyhollownaturecenter.org/event/frog-walk-2026/
LOCATION:Honey Hollow Nature Center\, 2877 Creamery Road\, New Hope\, 18938\, United States
CATEGORIES:Past Events
ATTACH;FMTTYPE=image/jpeg:https://www.honeyhollownaturecenter.org/wp-content/uploads/2025/01/new_frog-e1762883236615.jpg
GEO:40.3725704;-75.0106384
X-APPLE-STRUCTURED-LOCATION;VALUE=URI;X-ADDRESS=Honey Hollow Nature Center 2877 Creamery Road New Hope 18938 United States;X-APPLE-RADIUS=500;X-TITLE=2877 Creamery Road:geo:-75.0106384,40.3725704
END:VEVENT
END:VCALENDAR