BEGIN:VCALENDAR
VERSION:2.0
PRODID:-//Honey Hollow Nature Center - ECPv6.15.20//NONSGML v1.0//EN
CALSCALE:GREGORIAN
METHOD:PUBLISH
X-ORIGINAL-URL:https://www.honeyhollownaturecenter.org
X-WR-CALDESC:Events for Honey Hollow Nature Center
REFRESH-INTERVAL;VALUE=DURATION:PT1H
X-Robots-Tag:noindex
X-PUBLISHED-TTL:PT1H
BEGIN:VTIMEZONE
TZID:America/New_York
BEGIN:DAYLIGHT
TZOFFSETFROM:-0500
TZOFFSETTO:-0400
TZNAME:EDT
DTSTART:20230312T070000
END:DAYLIGHT
BEGIN:STANDARD
TZOFFSETFROM:-0400
TZOFFSETTO:-0500
TZNAME:EST
DTSTART:20231105T060000
END:STANDARD
BEGIN:DAYLIGHT
TZOFFSETFROM:-0500
TZOFFSETTO:-0400
TZNAME:EDT
DTSTART:20240310T070000
END:DAYLIGHT
BEGIN:STANDARD
TZOFFSETFROM:-0400
TZOFFSETTO:-0500
TZNAME:EST
DTSTART:20241103T060000
END:STANDARD
BEGIN:DAYLIGHT
TZOFFSETFROM:-0500
TZOFFSETTO:-0400
TZNAME:EDT
DTSTART:20250309T070000
END:DAYLIGHT
BEGIN:STANDARD
TZOFFSETFROM:-0400
TZOFFSETTO:-0500
TZNAME:EST
DTSTART:20251102T060000
END:STANDARD
BEGIN:DAYLIGHT
TZOFFSETFROM:-0500
TZOFFSETTO:-0400
TZNAME:EDT
DTSTART:20260308T070000
END:DAYLIGHT
BEGIN:STANDARD
TZOFFSETFROM:-0400
TZOFFSETTO:-0500
TZNAME:EST
DTSTART:20261101T060000
END:STANDARD
END:VTIMEZONE
BEGIN:VEVENT
DTSTART;TZID=America/New_York:20251002T090000
DTEND;TZID=America/New_York:20251002T150000
DTSTAMP:20260420T060507
CREATED:20250815T135821Z
LAST-MODIFIED:20250815T135821Z
UID:24232-1759395600-1759417200@www.honeyhollownaturecenter.org
SUMMARY:Buds & Branches Family Camp
DESCRIPTION:Is your child bored at home on a day off from school? Join us for a nature-filled camp with fun and learning for all ages. This is a one-day camp for children aged 5-12\, accompanied by an adult of their choice. Some of the special activities include fun games for all ages\, family crafts\, light to moderate hiking\, and even a little learning mixed in. \nEnjoy the season with seeds and fruits\, and discover how wildlife uses them to get ready for the colder months ahead. \nProgram Details:\nAges: 5-12 plus one adult\nFood: A snack is provided. Please pack a lunch. \nMEMBERS\nBase Fee: Family/Household Membership or higher: $65\nAdd-ons: 1 Adult & 1 Child\, Same Family: $30 | 1 Additional Adult: $15 \nNON-MEMBERS\nBase Fee: $75\nAdd-ons: 1 Adult & 1 Child\, Same Family: $40 | 1 Additional Adult: $20 \nRegister here.
URL:https://www.honeyhollownaturecenter.org/event/buds-branches-family-camp/
LOCATION:Honey Hollow Nature Center\, 2877 Creamery Road\, New Hope\, 18938\, United States
CATEGORIES:Family,School Holiday Camp
ATTACH;FMTTYPE=image/png:https://www.honeyhollownaturecenter.org/wp-content/uploads/2025/08/BandB_-Events.png
GEO:40.3725704;-75.0106384
X-APPLE-STRUCTURED-LOCATION;VALUE=URI;X-ADDRESS=Honey Hollow Nature Center 2877 Creamery Road New Hope 18938 United States;X-APPLE-RADIUS=500;X-TITLE=2877 Creamery Road:geo:-75.0106384,40.3725704
END:VEVENT
BEGIN:VEVENT
DTSTART;TZID=America/New_York:20250520T090000
DTEND;TZID=America/New_York:20250520T150000
DTSTAMP:20260420T060507
CREATED:20240722T172232Z
LAST-MODIFIED:20240722T172232Z
UID:19496-1747731600-1747753200@www.honeyhollownaturecenter.org
SUMMARY:School Holiday Camp
DESCRIPTION:Is your child bored at home on a day off from school? Why don’t you bring them here to Bucks Audubon for our amazing nature themed school holiday camps! \nDrop off your child at 9am and pick them back up at 3pm after a fun-filled day of nature exploration and discovery!  This week our topic is Wetlands and Watersheds! Honey Hollow is a very old watershed. Learn about what makes watersheds important\, the many kinds of plants and animals that live in them and explore the wetlands within them!  \nTo register\, visit – https://www.bcas.org/product/school-holiday-camp-2024-2025/
URL:https://www.honeyhollownaturecenter.org/event/school-holiday-camp-5-20/
LOCATION:Honey Hollow Nature Center\, 2877 Creamery Road\, New Hope\, 18938\, United States
CATEGORIES:School Holiday Camp
ATTACH;FMTTYPE=image/jpeg:https://www.honeyhollownaturecenter.org/wp-content/uploads/2023/11/MGF6733-scaled.jpg
GEO:40.3725704;-75.0106384
X-APPLE-STRUCTURED-LOCATION;VALUE=URI;X-ADDRESS=Honey Hollow Nature Center 2877 Creamery Road New Hope 18938 United States;X-APPLE-RADIUS=500;X-TITLE=2877 Creamery Road:geo:-75.0106384,40.3725704
END:VEVENT
BEGIN:VEVENT
DTSTART;TZID=America/New_York:20250421T090000
DTEND;TZID=America/New_York:20250421T150000
DTSTAMP:20260420T060507
CREATED:20240722T172008Z
LAST-MODIFIED:20240722T172008Z
UID:19505-1745226000-1745247600@www.honeyhollownaturecenter.org
SUMMARY:School Holiday Camp
DESCRIPTION:Is your child bored at home on a day off from school? Why don’t you bring them here to Bucks Audubon for our amazing nature themed school holiday camps! \nDrop off your child at 9am and pick them back up at 3pm after a fun-filled day of nature exploration and discovery!  This week our topic is Feathered Friends! Many birds call Bucks Audubon their home! Learn about their habitats and behaviors\, how to spot them\, and why they are so important to our natural world! Join us to participate in fun activities such as bird watching\, educational games\, and a bird themed craft. \nTo register\, visit – https://www.bcas.org/product/school-holiday-camp-2024-2025/
URL:https://www.honeyhollownaturecenter.org/event/school-holiday-camp-4-21/
LOCATION:Honey Hollow Nature Center\, 2877 Creamery Road\, New Hope\, 18938\, United States
CATEGORIES:School Holiday Camp
ATTACH;FMTTYPE=image/jpeg:https://www.honeyhollownaturecenter.org/wp-content/uploads/2024/02/BCAS-Downy.jpg
GEO:40.3725704;-75.0106384
X-APPLE-STRUCTURED-LOCATION;VALUE=URI;X-ADDRESS=Honey Hollow Nature Center 2877 Creamery Road New Hope 18938 United States;X-APPLE-RADIUS=500;X-TITLE=2877 Creamery Road:geo:-75.0106384,40.3725704
END:VEVENT
BEGIN:VEVENT
DTSTART;TZID=America/New_York:20250418T090000
DTEND;TZID=America/New_York:20250418T150000
DTSTAMP:20260420T060507
CREATED:20240722T171803Z
LAST-MODIFIED:20240722T171803Z
UID:19504-1744966800-1744988400@www.honeyhollownaturecenter.org
SUMMARY:School Holiday Camp
DESCRIPTION:Is your child bored at home on a day off from school? Why don’t you bring them here to Bucks Audubon for our amazing nature themed school holiday camps! \nDrop off your child at 9am and pick them back up at 3pm after a fun-filled day of nature exploration and discovery!  This week our topic is Flowers and Plants!  Springtime is a time to smell the roses! Join us to discover all the plants that inhabit here in Honey Hollow. We will also learn to identify the invasive species thriving in Pennsylvania.  \nTo register\, visit – https://www.bcas.org/product/school-holiday-camp-2024-2025/
URL:https://www.honeyhollownaturecenter.org/event/school-holiday-camp-4-18/
LOCATION:Honey Hollow Nature Center\, 2877 Creamery Road\, New Hope\, 18938\, United States
CATEGORIES:School Holiday Camp
GEO:40.3725704;-75.0106384
X-APPLE-STRUCTURED-LOCATION;VALUE=URI;X-ADDRESS=Honey Hollow Nature Center 2877 Creamery Road New Hope 18938 United States;X-APPLE-RADIUS=500;X-TITLE=2877 Creamery Road:geo:-75.0106384,40.3725704
END:VEVENT
BEGIN:VEVENT
DTSTART;TZID=America/New_York:20250417T090000
DTEND;TZID=America/New_York:20250417T150000
DTSTAMP:20260420T060507
CREATED:20240722T171432Z
LAST-MODIFIED:20240722T171432Z
UID:19503-1744880400-1744902000@www.honeyhollownaturecenter.org
SUMMARY:School Holiday Camp
DESCRIPTION:Is your child bored at home on a day off from school? Why don’t you bring them here to Bucks Audubon for our amazing nature themed school holiday camps! \nDrop off your child at 9am and pick them back up at 3pm after a fun-filled day of nature exploration and discovery!  This week our topic is Signs of Spring! As the seasons change\, so does life here at BCAS! Join us as we explore all of the spring species waking up from their winter nap!  \nTo register\, visit – https://www.bcas.org/product/school-holiday-camp-2024-2025/
URL:https://www.honeyhollownaturecenter.org/event/school-holiday-camp-4-17/
LOCATION:Honey Hollow Nature Center\, 2877 Creamery Road\, New Hope\, 18938\, United States
CATEGORIES:School Holiday Camp
ATTACH;FMTTYPE=image/jpeg:https://www.honeyhollownaturecenter.org/wp-content/uploads/2020/04/MGJ9716-scaled-e1627320252929.jpg
GEO:40.3725704;-75.0106384
X-APPLE-STRUCTURED-LOCATION;VALUE=URI;X-ADDRESS=Honey Hollow Nature Center 2877 Creamery Road New Hope 18938 United States;X-APPLE-RADIUS=500;X-TITLE=2877 Creamery Road:geo:-75.0106384,40.3725704
END:VEVENT
BEGIN:VEVENT
DTSTART;TZID=America/New_York:20250214T090000
DTEND;TZID=America/New_York:20250214T150000
DTSTAMP:20260420T060507
CREATED:20240722T171002Z
LAST-MODIFIED:20240722T171002Z
UID:19502-1739523600-1739545200@www.honeyhollownaturecenter.org
SUMMARY:School Holiday Camp
DESCRIPTION:Is your child bored at home on a day off from school? Why don’t you bring them here to Bucks Audubon for our amazing nature themed school holiday camps! \nDrop off your child at 9am and pick them back up at 3pm after a fun-filled day of nature exploration and discovery!  This week our topic is Nature Art!  Ways to make art are all around us! Bring out your creativity and explore beautiful ways to show nature’s beauty!  \nTo register\, visit – https://www.bcas.org/product/school-holiday-camp-2024-2025/
URL:https://www.honeyhollownaturecenter.org/event/school-holiday-camp-2-14/
LOCATION:Honey Hollow Nature Center\, 2877 Creamery Road\, New Hope\, 18938\, United States
CATEGORIES:School Holiday Camp
ATTACH;FMTTYPE=image/jpeg:https://www.honeyhollownaturecenter.org/wp-content/uploads/2023/11/MGF8637-scaled.jpg
GEO:40.3725704;-75.0106384
X-APPLE-STRUCTURED-LOCATION;VALUE=URI;X-ADDRESS=Honey Hollow Nature Center 2877 Creamery Road New Hope 18938 United States;X-APPLE-RADIUS=500;X-TITLE=2877 Creamery Road:geo:-75.0106384,40.3725704
END:VEVENT
BEGIN:VEVENT
DTSTART;TZID=America/New_York:20250130T090000
DTEND;TZID=America/New_York:20250130T150000
DTSTAMP:20260420T060507
CREATED:20240722T170705Z
LAST-MODIFIED:20250126T174421Z
UID:19501-1738227600-1738249200@www.honeyhollownaturecenter.org
SUMMARY:*CANCELLED * School Holiday Camp
DESCRIPTION:Is your child bored at home on a day off from school? Why don’t you bring them here to Bucks Audubon for our amazing nature themed school holiday camps! \nDrop off your child at 9am and pick them back up at 3pm after a fun-filled day of nature exploration and discovery!  This week our topic is Nocturnal Wildlife!  Engage all of your senses to explore the special adaptations of nocturnal animals. Learn about why some animals are active at night and how their specialized senses enable them to survive in the dark!  \nTo register\, visit – https://www.bcas.org/product/school-holiday-camp-2024-2025/
URL:https://www.honeyhollownaturecenter.org/event/school-holiday-camp-1-30/
LOCATION:Honey Hollow Nature Center\, 2877 Creamery Road\, New Hope\, 18938\, United States
CATEGORIES:School Holiday Camp
ATTACH;FMTTYPE=image/jpeg:https://www.honeyhollownaturecenter.org/wp-content/uploads/2023/10/IMG-6673-scaled-e1696864497769.jpg
GEO:40.3725704;-75.0106384
X-APPLE-STRUCTURED-LOCATION;VALUE=URI;X-ADDRESS=Honey Hollow Nature Center 2877 Creamery Road New Hope 18938 United States;X-APPLE-RADIUS=500;X-TITLE=2877 Creamery Road:geo:-75.0106384,40.3725704
END:VEVENT
BEGIN:VEVENT
DTSTART;TZID=America/New_York:20250120T090000
DTEND;TZID=America/New_York:20250120T150000
DTSTAMP:20260420T060507
CREATED:20240722T170206Z
LAST-MODIFIED:20240722T170206Z
UID:19500-1737363600-1737385200@www.honeyhollownaturecenter.org
SUMMARY:School Holiday Camp
DESCRIPTION:Is your child bored at home on a day off from school? Why don’t you bring them here to Bucks Audubon for our amazing nature themed school holiday camps! \nDrop off your child at 9am and pick them back up at 3pm after a fun-filled day of nature exploration and discovery!  This week our topic is Junior Naturalists!  Learn how to be a great voice for our planet! Create your own field journal to document your discoveries along the way in this day of exploration.  \nTo register\, visit – https://www.bcas.org/product/school-holiday-camp-2024-2025/
URL:https://www.honeyhollownaturecenter.org/event/school-holiday-camp-1-25/
LOCATION:Honey Hollow Nature Center\, 2877 Creamery Road\, New Hope\, 18938\, United States
CATEGORIES:School Holiday Camp
ATTACH;FMTTYPE=image/jpeg:https://www.honeyhollownaturecenter.org/wp-content/uploads/2022/09/MGJ2281-scaled.jpg
GEO:40.3725704;-75.0106384
X-APPLE-STRUCTURED-LOCATION;VALUE=URI;X-ADDRESS=Honey Hollow Nature Center 2877 Creamery Road New Hope 18938 United States;X-APPLE-RADIUS=500;X-TITLE=2877 Creamery Road:geo:-75.0106384,40.3725704
END:VEVENT
BEGIN:VEVENT
DTSTART;TZID=America/New_York:20241127T090000
DTEND;TZID=America/New_York:20241127T150000
DTSTAMP:20260420T060507
CREATED:20240722T140815Z
LAST-MODIFIED:20240722T140815Z
UID:19499-1732698000-1732719600@www.honeyhollownaturecenter.org
SUMMARY:School Holiday Camp
DESCRIPTION:Is your child bored at home on a day off from school? Why don’t you bring them here to Bucks Audubon for our amazing nature themed school holiday camps! \nDrop off your child at 9am and pick them back up at 3pm after a fun-filled day of nature exploration and discovery!  This week our topic is Woodland Creatures!  Join us for a fun filled day all about woodland creatures! Discover the wonderful creatures that dwell in the woodlands of Honey Hollow. We will also learn about the art of building fairy houses up in our fairy hollow!  \nTo register\, visit – https://www.bcas.org/product/school-holiday-camp-2024-2025/
URL:https://www.honeyhollownaturecenter.org/event/school-holiday-camp-11-27/
LOCATION:Honey Hollow Nature Center\, 2877 Creamery Road\, New Hope\, 18938\, United States
CATEGORIES:School Holiday Camp
ATTACH;FMTTYPE=image/jpeg:https://www.honeyhollownaturecenter.org/wp-content/uploads/2023/11/MGF2921-scaled.jpg
GEO:40.3725704;-75.0106384
X-APPLE-STRUCTURED-LOCATION;VALUE=URI;X-ADDRESS=Honey Hollow Nature Center 2877 Creamery Road New Hope 18938 United States;X-APPLE-RADIUS=500;X-TITLE=2877 Creamery Road:geo:-75.0106384,40.3725704
END:VEVENT
BEGIN:VEVENT
DTSTART;TZID=America/New_York:20241111T090000
DTEND;TZID=America/New_York:20241111T150000
DTSTAMP:20260420T060507
CREATED:20240722T133723Z
LAST-MODIFIED:20241107T152456Z
UID:19506-1731315600-1731337200@www.honeyhollownaturecenter.org
SUMMARY:School Holiday Camp - CANCELLED
DESCRIPTION:Is your child bored at home on a day off from school? Why don’t you bring them here to Bucks Audubon for our amazing nature themed school holiday camps! \nDrop off your child at 9am and pick them back up at 3pm after a fun-filled day of nature exploration and discovery!  This week our topic is Turkeys!  Join us to learn about the wild turkey! Make turkey calls and take a hike to search for some signs and tracks of wild turkeys that are living here at Honey Hollow!  \nTo register\, visit – https://www.bcas.org/product/school-holiday-camp-2024-2025/
URL:https://www.honeyhollownaturecenter.org/event/school-holiday-camp-11-11/
LOCATION:Honey Hollow Nature Center\, 2877 Creamery Road\, New Hope\, 18938\, United States
CATEGORIES:School Holiday Camp
ATTACH;FMTTYPE=image/png:https://www.honeyhollownaturecenter.org/wp-content/uploads/2024/07/Untitled-design1.png
GEO:40.3725704;-75.0106384
X-APPLE-STRUCTURED-LOCATION;VALUE=URI;X-ADDRESS=Honey Hollow Nature Center 2877 Creamery Road New Hope 18938 United States;X-APPLE-RADIUS=500;X-TITLE=2877 Creamery Road:geo:-75.0106384,40.3725704
END:VEVENT
BEGIN:VEVENT
DTSTART;TZID=America/New_York:20241105T090000
DTEND;TZID=America/New_York:20241105T150000
DTSTAMP:20260420T060507
CREATED:20240722T132615Z
LAST-MODIFIED:20241030T162803Z
UID:19498-1730797200-1730818800@www.honeyhollownaturecenter.org
SUMMARY:School Holiday Camp - CANCELLED
DESCRIPTION:Is your child bored at home on a day off from school? Why don’t you bring them here to Bucks Audubon for our amazing nature themed school holiday camps! \nDrop off your child at 9am and pick them back up at 3pm after a fun-filled day of nature exploration and discovery!  This week our topic is Mushrooms!  Discover the amazing world of mushrooms and why they are incredible organisms! Join us for an educational mushroom identification hike to learn about the brilliant fungi beneath our feet!   \nTo register\, visit – https://www.bcas.org/product/school-holiday-camp-2024-2025/
URL:https://www.honeyhollownaturecenter.org/event/school-holiday-camp-11-5/
LOCATION:Honey Hollow Nature Center\, 2877 Creamery Road\, New Hope\, 18938\, United States
CATEGORIES:School Holiday Camp
ATTACH;FMTTYPE=image/jpeg:https://www.honeyhollownaturecenter.org/wp-content/uploads/2022/12/MGF6582-scaled.jpg
GEO:40.3725704;-75.0106384
X-APPLE-STRUCTURED-LOCATION;VALUE=URI;X-ADDRESS=Honey Hollow Nature Center 2877 Creamery Road New Hope 18938 United States;X-APPLE-RADIUS=500;X-TITLE=2877 Creamery Road:geo:-75.0106384,40.3725704
END:VEVENT
BEGIN:VEVENT
DTSTART;TZID=America/New_York:20241101T090000
DTEND;TZID=America/New_York:20241101T150000
DTSTAMP:20260420T060507
CREATED:20240722T132114Z
LAST-MODIFIED:20240722T133100Z
UID:19497-1730451600-1730473200@www.honeyhollownaturecenter.org
SUMMARY:School Holiday Camp
DESCRIPTION:Is your child bored at home on a day off from school? Why don’t you bring them here to Bucks Audubon for our amazing nature themed school holiday camps! \nDrop off your child at 9am and pick them back up at 3pm after a fun-filled day of nature exploration and discovery!  This week our topic is Skulls and Tracks!  Come take a hike with us and discover the animals that live in Honey Hollow based on the tracks they leave behind. Learn about skulls and compare some of the real-life artifacts we have in the BCAS nature center.  \nTo register\, visit – https://www.bcas.org/product/school-holiday-camp-2024-2025/
URL:https://www.honeyhollownaturecenter.org/event/school-holiday-camp-11-1/
LOCATION:Honey Hollow Nature Center\, 2877 Creamery Road\, New Hope\, 18938\, United States
CATEGORIES:School Holiday Camp
ATTACH;FMTTYPE=image/jpeg:https://www.honeyhollownaturecenter.org/wp-content/uploads/2024/07/MGF2629-scaled.jpg
GEO:40.3725704;-75.0106384
X-APPLE-STRUCTURED-LOCATION;VALUE=URI;X-ADDRESS=Honey Hollow Nature Center 2877 Creamery Road New Hope 18938 United States;X-APPLE-RADIUS=500;X-TITLE=2877 Creamery Road:geo:-75.0106384,40.3725704
END:VEVENT
BEGIN:VEVENT
DTSTART;TZID=America/New_York:20241014T090000
DTEND;TZID=America/New_York:20241014T150000
DTSTAMP:20260420T060507
CREATED:20240717T171537Z
LAST-MODIFIED:20241014T171629Z
UID:19488-1728896400-1728918000@www.honeyhollownaturecenter.org
SUMMARY:School Holiday Camp - CANCELLED
DESCRIPTION:Is your child bored at home on a day off from school? Why don’t you bring them here to Bucks Audubon for our amazing nature themed school holiday camps! \nDrop off your child at 9am and pick them back up at 3pm after a fun-filled day of nature exploration and discovery!  This week our topic is Bugs! Did you know insects live in every type of habitat? Join us and discover the thousands of insects that call the Honey Hollow home! Explore habitats to see what types of insects are crawling\, flying and swimming around BCAS’s property. \nTo register\, visit – https://www.bcas.org/product/school-holiday-camp-2024-2025/
URL:https://www.honeyhollownaturecenter.org/event/school-holiday-camp-28-3-2/
LOCATION:Honey Hollow Nature Center\, 2877 Creamery Road\, New Hope\, 18938\, United States
CATEGORIES:School Holiday Camp
ATTACH;FMTTYPE=image/jpeg:https://www.honeyhollownaturecenter.org/wp-content/uploads/2024/07/MGF5962-1-scaled.jpg
GEO:40.3725704;-75.0106384
X-APPLE-STRUCTURED-LOCATION;VALUE=URI;X-ADDRESS=Honey Hollow Nature Center 2877 Creamery Road New Hope 18938 United States;X-APPLE-RADIUS=500;X-TITLE=2877 Creamery Road:geo:-75.0106384,40.3725704
END:VEVENT
BEGIN:VEVENT
DTSTART;TZID=America/New_York:20241004T090000
DTEND;TZID=America/New_York:20241004T150000
DTSTAMP:20260420T060507
CREATED:20240717T165254Z
LAST-MODIFIED:20240717T165254Z
UID:19482-1728032400-1728054000@www.honeyhollownaturecenter.org
SUMMARY:School Holiday Camp
DESCRIPTION:Is your child bored at home on a day off from school? Why don’t you bring them here to Bucks Audubon for our amazing nature themed school holiday camps! \nDrop off your child at 9am and pick them back up at 3pm after a fun-filled day of nature exploration and discovery!  This week our topic is Bats! Let’s learn about the world’s only flying mammals\, bats! These nocturnal creatures have tons of amazing adaptations to learn about\, like modified hand bones and echolocation! \nTo register\, visit – https://www.bcas.org/product/school-holiday-camp-2024-2025/
URL:https://www.honeyhollownaturecenter.org/event/school-holiday-camp-28-3/
LOCATION:Honey Hollow Nature Center\, 2877 Creamery Road\, New Hope\, 18938\, United States
CATEGORIES:School Holiday Camp
ATTACH;FMTTYPE=image/jpeg:https://www.honeyhollownaturecenter.org/wp-content/uploads/2024/07/MGJ2012-scaled.jpg
GEO:40.3725704;-75.0106384
X-APPLE-STRUCTURED-LOCATION;VALUE=URI;X-ADDRESS=Honey Hollow Nature Center 2877 Creamery Road New Hope 18938 United States;X-APPLE-RADIUS=500;X-TITLE=2877 Creamery Road:geo:-75.0106384,40.3725704
END:VEVENT
BEGIN:VEVENT
DTSTART;TZID=America/New_York:20241003T090000
DTEND;TZID=America/New_York:20241003T150000
DTSTAMP:20260420T060507
CREATED:20240717T163425Z
LAST-MODIFIED:20240717T165626Z
UID:19481-1727946000-1727967600@www.honeyhollownaturecenter.org
SUMMARY:School Holiday Camp
DESCRIPTION:Is your child bored at home on a day off from school? Why don’t you bring them here to Bucks Audubon for our amazing nature themed school holiday camps! \nDrop off your child at 9am and pick them back up at 3pm after a fun-filled day of nature exploration and discovery!  This week our topic is Reptiles and Amphibians! Join us to learn about reptiles\, amphibians\, and what makes them so cool! We will go on a search for native herps in their specialized habitats. Meet our very own reptiles and amphibians living here in our nature center!  \nTo register\, visit – https://www.bcas.org/product/school-holiday-camp-2024-2025/
URL:https://www.honeyhollownaturecenter.org/event/school-holiday-camp-28-2/
LOCATION:Honey Hollow Nature Center\, 2877 Creamery Road\, New Hope\, 18938\, United States
CATEGORIES:School Holiday Camp
ATTACH;FMTTYPE=image/jpeg:https://www.honeyhollownaturecenter.org/wp-content/uploads/2024/07/MGJ1741-scaled.jpg
GEO:40.3725704;-75.0106384
X-APPLE-STRUCTURED-LOCATION;VALUE=URI;X-ADDRESS=Honey Hollow Nature Center 2877 Creamery Road New Hope 18938 United States;X-APPLE-RADIUS=500;X-TITLE=2877 Creamery Road:geo:-75.0106384,40.3725704
END:VEVENT
END:VCALENDAR