BEGIN:VCALENDAR
VERSION:2.0
PRODID:-//Honey Hollow Nature Center - ECPv6.15.20//NONSGML v1.0//EN
CALSCALE:GREGORIAN
METHOD:PUBLISH
X-ORIGINAL-URL:https://www.honeyhollownaturecenter.org
X-WR-CALDESC:Events for Honey Hollow Nature Center
REFRESH-INTERVAL;VALUE=DURATION:PT1H
X-Robots-Tag:noindex
X-PUBLISHED-TTL:PT1H
BEGIN:VTIMEZONE
TZID:UTC
BEGIN:STANDARD
TZOFFSETFROM:+0000
TZOFFSETTO:+0000
TZNAME:UTC
DTSTART:20150101T000000
END:STANDARD
END:VTIMEZONE
BEGIN:VEVENT
DTSTART;TZID=UTC:20171122T090000
DTEND;TZID=UTC:20171122T150000
DTSTAMP:20260422T074941
CREATED:20170614T201243Z
LAST-MODIFIED:20171106T215144Z
UID:2290-1511341200-1511362800@www.honeyhollownaturecenter.org
SUMMARY:School Holiday Camp
DESCRIPTION:Don’t know what to do with your children when they have the day off from school\, but you still have to work? No worries! Bring them to our School Holiday Camp for a day of hiking\, science experiments\, crafts\, games\, and more! #OptOutside this Thanksgiving! \nRegister by clicking here!
URL:https://www.honeyhollownaturecenter.org/event/school-holiday-camp-3/2017-11-22/
LOCATION:Honey Hollow Nature Center\, 2877 Creamery Road\, New Hope\, 18938\, United States
CATEGORIES:Summer Camp
ATTACH;FMTTYPE=image/jpeg:https://www.honeyhollownaturecenter.org/wp-content/uploads/2017/06/MGF2921-scaled.jpg
GEO:40.3725704;-75.0106384
X-APPLE-STRUCTURED-LOCATION;VALUE=URI;X-ADDRESS=Honey Hollow Nature Center 2877 Creamery Road New Hope 18938 United States;X-APPLE-RADIUS=500;X-TITLE=2877 Creamery Road:geo:-75.0106384,40.3725704
END:VEVENT
BEGIN:VEVENT
DTSTART;TZID=UTC:20171009T090000
DTEND;TZID=UTC:20171009T150000
DTSTAMP:20260422T074941
CREATED:20170614T192538Z
LAST-MODIFIED:20170614T192538Z
UID:2270-1507539600-1507561200@www.honeyhollownaturecenter.org
SUMMARY:School Holiday Camp
DESCRIPTION:Don’t know what to do with your children when they have the day off from school\, but you still have to work? No worries! Bring them to our School Holiday Camp for a day of hiking\, science experiments\, crafts\, games\, and more! \nMore details and Registration for this program will be available soon!
URL:https://www.honeyhollownaturecenter.org/event/school-holiday-camp-2/
LOCATION:Honey Hollow Nature Center\, 2877 Creamery Road\, New Hope\, 18938\, United States
CATEGORIES:Summer Camp
ATTACH;FMTTYPE=image/jpeg:https://www.honeyhollownaturecenter.org/wp-content/uploads/2017/06/MGF1390-scaled.jpg
GEO:40.3725704;-75.0106384
X-APPLE-STRUCTURED-LOCATION;VALUE=URI;X-ADDRESS=Honey Hollow Nature Center 2877 Creamery Road New Hope 18938 United States;X-APPLE-RADIUS=500;X-TITLE=2877 Creamery Road:geo:-75.0106384,40.3725704
END:VEVENT
BEGIN:VEVENT
DTSTART;TZID=UTC:20170921T090000
DTEND;TZID=UTC:20170921T150000
DTSTAMP:20260422T074941
CREATED:20170609T201006Z
LAST-MODIFIED:20170609T201006Z
UID:2260-1505984400-1506006000@www.honeyhollownaturecenter.org
SUMMARY:School Holiday Camp
DESCRIPTION:Does your child have off from school\, but you don’t have off from work? Don’t worry! Send them to BCAS for a day of nature camp! \nAdmission is $45/BCAS Members\, $60/Non-Members per day! Registration will open soon.
URL:https://www.honeyhollownaturecenter.org/event/school-holiday-camp/2017-09-21/
LOCATION:Honey Hollow Nature Center\, 2877 Creamery Road\, New Hope\, 18938\, United States
CATEGORIES:Summer Camp
ATTACH;FMTTYPE=image/jpeg:https://www.honeyhollownaturecenter.org/wp-content/uploads/2017/06/MGF1012-e1497020957913.jpg
GEO:40.3725704;-75.0106384
X-APPLE-STRUCTURED-LOCATION;VALUE=URI;X-ADDRESS=Honey Hollow Nature Center 2877 Creamery Road New Hope 18938 United States;X-APPLE-RADIUS=500;X-TITLE=2877 Creamery Road:geo:-75.0106384,40.3725704
END:VEVENT
BEGIN:VEVENT
DTSTART;TZID=UTC:20170915T103000
DTEND;TZID=UTC:20170915T110000
DTSTAMP:20260422T074941
CREATED:20170912T204017Z
LAST-MODIFIED:20170912T204017Z
UID:2753-1505471400-1505473200@www.honeyhollownaturecenter.org
SUMMARY:Homeschool Session
DESCRIPTION:Want your homeshcooler to learn more about nature in a relaxed\, interactive atmosphere? Join our weekly homeschool session! \nThis class is based off of our Pre-School Explorer program\, but has been adapted to suit all elementary aged school children! Your child will get to hear a story\, go on a hike\, and do a craft all based off of the week’s topic. This fall session will focus on the change of season and the mammals that live here at BCAS! \nRegister by clicking here!
URL:https://www.honeyhollownaturecenter.org/event/homeschool-session/2017-09-15/
LOCATION:Honey Hollow Nature Center\, 2877 Creamery Road\, New Hope\, 18938\, United States
CATEGORIES:Family,Field Trip,PreSchool Explorer,Summer Camp
ATTACH;FMTTYPE=image/jpeg:https://www.honeyhollownaturecenter.org/wp-content/uploads/2017/08/MGF2921-scaled.jpg
GEO:40.3725704;-75.0106384
X-APPLE-STRUCTURED-LOCATION;VALUE=URI;X-ADDRESS=Honey Hollow Nature Center 2877 Creamery Road New Hope 18938 United States;X-APPLE-RADIUS=500;X-TITLE=2877 Creamery Road:geo:-75.0106384,40.3725704
END:VEVENT
BEGIN:VEVENT
DTSTART;TZID=UTC:20170814T090000
DTEND;TZID=UTC:20170814T150000
DTSTAMP:20260422T074941
CREATED:20170125T202854Z
LAST-MODIFIED:20170125T202911Z
UID:1807-1502701200-1502722800@www.honeyhollownaturecenter.org
SUMMARY:Summer Eco-Camp!: Ex-STREAM Explorers
DESCRIPTION:From catching crayfish in the stream to jumping in the creek\, to scooping up pond animals\, this week is perfect for any water-lover! \nBCAS Summer Camp strives to foster the child-nature connection so that all children can learn\, play and grow with nature every day. We believe that a combination of structured activities\, free play art\, and time spend with the Earth benefits every child. \nCamp days run from 9am-3pm (or 9am-12pm for half day option) and is perfect for kids ages 5-10! We provide a snack\, but children will need to bring their own lunch. \nRegister by clicking here!
URL:https://www.honeyhollownaturecenter.org/event/summer-eco-camp-ex-stream-explorers/2017-08-14/
LOCATION:Honey Hollow Nature Center\, 2877 Creamery Road\, New Hope\, 18938\, United States
CATEGORIES:Summer Camp
ATTACH;FMTTYPE=image/jpeg:https://www.honeyhollownaturecenter.org/wp-content/uploads/2017/01/MGF8893-scaled.jpg
GEO:40.3725704;-75.0106384
X-APPLE-STRUCTURED-LOCATION;VALUE=URI;X-ADDRESS=Honey Hollow Nature Center 2877 Creamery Road New Hope 18938 United States;X-APPLE-RADIUS=500;X-TITLE=2877 Creamery Road:geo:-75.0106384,40.3725704
END:VEVENT
BEGIN:VEVENT
DTSTART;TZID=UTC:20170626T090000
DTEND;TZID=UTC:20170626T150000
DTSTAMP:20260422T074941
CREATED:20170125T201743Z
LAST-MODIFIED:20170125T201743Z
UID:1793-1498467600-1498489200@www.honeyhollownaturecenter.org
SUMMARY:Summer Eco-Camp! : What's Your Habitat?
DESCRIPTION:Join in as we learn all about the habitats that the animals of BCAS call home! Which one is your favorite – the stream\, forest\, or field? \nBCAS Summer Camp strives to foster the child-nature connection so that all children can learn\, play and grow with nature every day. We believe that a combination of structured activities\, free play art\, and time spend with the Earth benefits every child. \nCamp days run from 9am-3pm (or 9am-12pm for half day option) and is perfect for kids ages 5-10! We provide a snack\, but children will need to bring their own lunch. \nRegister by clicking here!
URL:https://www.honeyhollownaturecenter.org/event/summer-eco-camp-whats-your-habitat/2017-06-26/
LOCATION:Honey Hollow Nature Center\, 2877 Creamery Road\, New Hope\, 18938\, United States
CATEGORIES:Summer Camp
ATTACH;FMTTYPE=image/jpeg:https://www.honeyhollownaturecenter.org/wp-content/uploads/2017/01/MGF8637-scaled.jpg
GEO:40.3725704;-75.0106384
X-APPLE-STRUCTURED-LOCATION;VALUE=URI;X-ADDRESS=Honey Hollow Nature Center 2877 Creamery Road New Hope 18938 United States;X-APPLE-RADIUS=500;X-TITLE=2877 Creamery Road:geo:-75.0106384,40.3725704
END:VEVENT
BEGIN:VEVENT
DTSTART;TZID=UTC:20170619T090000
DTEND;TZID=UTC:20170619T150000
DTSTAMP:20260422T074941
CREATED:20170125T201424Z
LAST-MODIFIED:20170125T201424Z
UID:1785-1497862800-1497884400@www.honeyhollownaturecenter.org
SUMMARY:Summer Eco-Camp! : Ooey Gooey Science
DESCRIPTION:Learn the ins and outs of science during our STEM themed week! Make a volcano explode\, create slime and much more! \nBCAS Summer Camp strives to foster the child-nature connection so that all children can learn\, play and grow with nature every day. We believe that a combination of structured activities\, free play art\, and time spend with the Earth benefits every child. \nCamp days run from 9am-3pm (or 9am-12pm for half day option) and is perfect for kids ages 5-10! We provide a snack\, but children will need to bring their own lunch. \nRegister by clicking here!
URL:https://www.honeyhollownaturecenter.org/event/summer-eco-camp-ooey-gooey-science/2017-06-19/
LOCATION:Honey Hollow Nature Center\, 2877 Creamery Road\, New Hope\, 18938\, United States
CATEGORIES:Summer Camp
ATTACH;FMTTYPE=image/jpeg:https://www.honeyhollownaturecenter.org/wp-content/uploads/2017/01/MGF8613-scaled.jpg
GEO:40.3725704;-75.0106384
X-APPLE-STRUCTURED-LOCATION;VALUE=URI;X-ADDRESS=Honey Hollow Nature Center 2877 Creamery Road New Hope 18938 United States;X-APPLE-RADIUS=500;X-TITLE=2877 Creamery Road:geo:-75.0106384,40.3725704
END:VEVENT
BEGIN:VEVENT
DTSTART;VALUE=DATE:20160815
DTEND;VALUE=DATE:20160820
DTSTAMP:20260422T074941
CREATED:20160607T213827Z
LAST-MODIFIED:20160824T202423Z
UID:458-1471219200-1471651199@www.honeyhollownaturecenter.org
SUMMARY:Summer Science and Nature Camp: Ages 7 - 10
DESCRIPTION:Discover the wonders of nature and explore some of the mysteries of science in this camp such as mixtures\, polymers and pyrotechnics! Register by August 8.
URL:https://www.honeyhollownaturecenter.org/event/summer-science-and-nature-camp-ages-7-10/
LOCATION:Honey Hollow Nature Center\, 2877 Creamery Road\, New Hope\, 18938\, United States
CATEGORIES:Summer Camp
ATTACH;FMTTYPE=image/jpeg:https://www.honeyhollownaturecenter.org/wp-content/uploads/2016/05/SummerCampFishingPhoto_Web.jpg
GEO:40.3725704;-75.0106384
X-APPLE-STRUCTURED-LOCATION;VALUE=URI;X-ADDRESS=Honey Hollow Nature Center 2877 Creamery Road New Hope 18938 United States;X-APPLE-RADIUS=500;X-TITLE=2877 Creamery Road:geo:-75.0106384,40.3725704
END:VEVENT
BEGIN:VEVENT
DTSTART;VALUE=DATE:20160810
DTEND;VALUE=DATE:20160811
DTSTAMP:20260422T074941
CREATED:20160607T214330Z
LAST-MODIFIED:20160824T202429Z
UID:459-1470787200-1470873599@www.honeyhollownaturecenter.org
SUMMARY:Last Day to Register: Science and Nature Camp
DESCRIPTION:Don’t forget to register!  Today is the last day to register for the Science and Nature Camp for ages 7 – 10.
URL:https://www.honeyhollownaturecenter.org/event/last-day-to-register-science-and-nature-camp/
CATEGORIES:Summer Camp
ATTACH;FMTTYPE=image/png:https://www.honeyhollownaturecenter.org/wp-content/uploads/2016/06/reminder.png
END:VEVENT
BEGIN:VEVENT
DTSTART;VALUE=DATE:20160801
DTEND;VALUE=DATE:20160806
DTSTAMP:20260422T074941
CREATED:20160607T213507Z
LAST-MODIFIED:20160824T202437Z
UID:457-1470009600-1470441599@www.honeyhollownaturecenter.org
SUMMARY:Summer Nature Camp: Ages 5 - 8
DESCRIPTION:Explore all that the Honey Hollow Watershed has to offer: forests\, fields\, streams and ponds! Stories\, crafts and free play round out the day.  No swimming\, but there is creek walking!  Register by July 25.
URL:https://www.honeyhollownaturecenter.org/event/summer-nature-camp/
LOCATION:Honey Hollow Nature Center\, 2877 Creamery Road\, New Hope\, 18938\, United States
CATEGORIES:Summer Camp
ATTACH;FMTTYPE=image/jpeg:https://www.honeyhollownaturecenter.org/wp-content/uploads/2016/05/SummerCampFishingPhoto_Web.jpg
GEO:40.3725704;-75.0106384
X-APPLE-STRUCTURED-LOCATION;VALUE=URI;X-ADDRESS=Honey Hollow Nature Center 2877 Creamery Road New Hope 18938 United States;X-APPLE-RADIUS=500;X-TITLE=2877 Creamery Road:geo:-75.0106384,40.3725704
END:VEVENT
END:VCALENDAR