BEGIN:VCALENDAR
VERSION:2.0
PRODID:-//Honey Hollow Nature Center - ECPv6.15.20//NONSGML v1.0//EN
CALSCALE:GREGORIAN
METHOD:PUBLISH
X-WR-CALNAME:Honey Hollow Nature Center
X-ORIGINAL-URL:https://www.honeyhollownaturecenter.org
X-WR-CALDESC:Events for Honey Hollow Nature Center
REFRESH-INTERVAL;VALUE=DURATION:PT1H
X-Robots-Tag:noindex
X-PUBLISHED-TTL:PT1H
BEGIN:VTIMEZONE
TZID:UTC
BEGIN:STANDARD
TZOFFSETFROM:+0000
TZOFFSETTO:+0000
TZNAME:UTC
DTSTART:20210101T000000
END:STANDARD
END:VTIMEZONE
BEGIN:VEVENT
DTSTART;TZID=UTC:20220603T183000
DTEND;TZID=UTC:20220603T200000
DTSTAMP:20260423T043722
CREATED:20220526T180923Z
LAST-MODIFIED:20220526T212151Z
UID:15455-1654281000-1654286400@www.honeyhollownaturecenter.org
SUMMARY:The Art of Ecology Foraging for Wildflower Arrangements
DESCRIPTION:Explore the beauty of the natural world and the plants that are attracting pollinators this summer as we create stunning floral arrangements to decorate with! \nEach participant can expect to bring home one Mason Jar centerpiece created with fresh flowers and foraged plants (harvested during the class) to decorate for the summer season. All materials (foraging tools\, floral frog & vase\, plants\, floral food) provided. \nAdmission is $35. All materials for your floral arrangements provided (includes reusable vase\, measuring tools\, florist supplies\, and more). A portion of the proceeds will be donated back to Bucks Audubon. \nTo register\, please visit The Art of Ecology website!
URL:https://www.honeyhollownaturecenter.org/event/the-art-of-ecology-foraging-for-wildflower-arrangements/
LOCATION:Honey Hollow Nature Center\, 2877 Creamery Road\, New Hope\, 18938\, United States
ATTACH;FMTTYPE=image/jpeg:https://www.honeyhollownaturecenter.org/wp-content/uploads/2022/05/wildflower-arrangement-workshop.jpg
ORGANIZER;CN="The Art of Ecology":MAILTO:mjacobs@theartofecology.com
GEO:40.3725704;-75.0106384
X-APPLE-STRUCTURED-LOCATION;VALUE=URI;X-ADDRESS=Honey Hollow Nature Center 2877 Creamery Road New Hope 18938 United States;X-APPLE-RADIUS=500;X-TITLE=2877 Creamery Road:geo:-75.0106384,40.3725704
END:VEVENT
BEGIN:VEVENT
DTSTART;TZID=UTC:20220604T130000
DTEND;TZID=UTC:20220604T150000
DTSTAMP:20260423T043722
CREATED:20220524T180737Z
LAST-MODIFIED:20220524T231024Z
UID:15418-1654347600-1654354800@www.honeyhollownaturecenter.org
SUMMARY:Bug Hunt
DESCRIPTION:Curious about what lies underfoot? Want to experience familiar trails through the eyes of a seasoned entomologist? This is your chance! Join local insect expert Chris Alice Kratzer as she serves as your guide to the hidden world of insects at Honey Hollow. \nThis is a free event but we ask that you register prior to the walk!  Register here! \nRain Date June 5 at 1:00 pm.
URL:https://www.honeyhollownaturecenter.org/event/bug-hunt/
LOCATION:Honey Hollow Nature Center\, 2877 Creamery Road\, New Hope\, 18938\, United States
CATEGORIES:Family,Special Event
ATTACH;FMTTYPE=image/jpeg:https://www.honeyhollownaturecenter.org/wp-content/uploads/2022/05/3-.jpg
GEO:40.3725704;-75.0106384
X-APPLE-STRUCTURED-LOCATION;VALUE=URI;X-ADDRESS=Honey Hollow Nature Center 2877 Creamery Road New Hope 18938 United States;X-APPLE-RADIUS=500;X-TITLE=2877 Creamery Road:geo:-75.0106384,40.3725704
END:VEVENT
BEGIN:VEVENT
DTSTART;TZID=UTC:20220611T100000
DTEND;TZID=UTC:20220611T113000
DTSTAMP:20260423T043722
CREATED:20220524T181112Z
LAST-MODIFIED:20220524T230855Z
UID:15420-1654941600-1654947000@www.honeyhollownaturecenter.org
SUMMARY:Nature Close Up
DESCRIPTION:Doug Wechsler\, a superb general naturalist\, will take participants on a search for some of the wonderful\, weird and wild little things that are so often overlooked in the forest and field.  He’ll also provide some tips for photographing the reptiles\, amphibians\, insects and other wildlife encountered. \nThis is a free event but we ask that you register prior to the walk!  Register here! \nRain Date June 12 at 10:00 am.
URL:https://www.honeyhollownaturecenter.org/event/nature-close-up/
LOCATION:Honey Hollow Nature Center\, 2877 Creamery Road\, New Hope\, 18938\, United States
CATEGORIES:Family
ATTACH;FMTTYPE=image/jpeg:https://www.honeyhollownaturecenter.org/wp-content/uploads/2022/05/2YelJack.jpg
GEO:40.3725704;-75.0106384
X-APPLE-STRUCTURED-LOCATION;VALUE=URI;X-ADDRESS=Honey Hollow Nature Center 2877 Creamery Road New Hope 18938 United States;X-APPLE-RADIUS=500;X-TITLE=2877 Creamery Road:geo:-75.0106384,40.3725704
END:VEVENT
BEGIN:VEVENT
DTSTART;TZID=UTC:20220621T093000
DTEND;TZID=UTC:20220621T110000
DTSTAMP:20260423T043722
CREATED:20220613T230026Z
LAST-MODIFIED:20220613T230119Z
UID:15543-1655803800-1655809200@www.honeyhollownaturecenter.org
SUMMARY:The Art of Ecology Floral First Aid Program
DESCRIPTION:June 21 9:30 am – 11:00 am \nDid you know that there are many great leaves and flowers out there that support our wellness and can be used as first aid measures in a pinch? Join me for a guided walk as we search for and identify these plants that can reduce swelling\, act as an antiseptic\, slow bleeding\, and relieve pain from bruising! \nOpen to ages 10+. Admission is $35/pp. \nFor more information and registration details visit The Art of Ecology website!
URL:https://www.honeyhollownaturecenter.org/event/the-art-of-ecology-floral-first-aid-program/
LOCATION:Honey Hollow Nature Center\, 2877 Creamery Road\, New Hope\, 18938\, United States
ATTACH;FMTTYPE=image/jpeg:https://www.honeyhollownaturecenter.org/wp-content/uploads/2022/06/floral-first-aid-workshop-scaled.jpg
ORGANIZER;CN="The Art of Ecology":MAILTO:mjacobs@theartofecology.com
GEO:40.3725704;-75.0106384
X-APPLE-STRUCTURED-LOCATION;VALUE=URI;X-ADDRESS=Honey Hollow Nature Center 2877 Creamery Road New Hope 18938 United States;X-APPLE-RADIUS=500;X-TITLE=2877 Creamery Road:geo:-75.0106384,40.3725704
END:VEVENT
BEGIN:VEVENT
DTSTART;TZID=UTC:20220623T180000
DTEND;TZID=UTC:20220623T200000
DTSTAMP:20260423T043722
CREATED:20220613T231035Z
LAST-MODIFIED:20220613T231102Z
UID:15547-1656007200-1656014400@www.honeyhollownaturecenter.org
SUMMARY:The Art of Ecology Terrific Trees: Foraging Walk
DESCRIPTION:June 23rd\, 6-8pm \nTrees have so many uses\, from providing oxygen\, to wildlife habitat\, to even food and holistic uses for humans! During this guided walk\, we’ll explore the Bucks Audubon property as we identify various edible and medicinal trees. \nAdmission is $40/pp. \nFor more information and registration details visit The Art of Ecology website!
URL:https://www.honeyhollownaturecenter.org/event/the-art-of-ecology-terrific-trees-foraging-walk/
LOCATION:Honey Hollow Nature Center\, 2877 Creamery Road\, New Hope\, 18938\, United States
ATTACH;FMTTYPE=image/jpeg:https://www.honeyhollownaturecenter.org/wp-content/uploads/2022/06/terrific-trees-foraging-event-image-scaled.jpg
ORGANIZER;CN="The Art of Ecology":MAILTO:mjacobs@theartofecology.com
GEO:40.3725704;-75.0106384
X-APPLE-STRUCTURED-LOCATION;VALUE=URI;X-ADDRESS=Honey Hollow Nature Center 2877 Creamery Road New Hope 18938 United States;X-APPLE-RADIUS=500;X-TITLE=2877 Creamery Road:geo:-75.0106384,40.3725704
END:VEVENT
BEGIN:VEVENT
DTSTART;TZID=UTC:20220625T100000
DTEND;TZID=UTC:20220625T120000
DTSTAMP:20260423T043722
CREATED:20220613T180429Z
LAST-MODIFIED:20220613T180429Z
UID:15521-1656151200-1656158400@www.honeyhollownaturecenter.org
SUMMARY:Herp Walk and Talk
DESCRIPTION:FREE NATURE WALK!!!  Join Kyle Loucks on a Herp Walk and Talk at Bucks Audubon. Kyle is the Southeast regional coordinator for the Pennsylvania Amphibian and Reptile Survey (PARS). He’s spent much of his life studying Bucks County herps and knows Honey Hollow well. Join him as he leaves no stone unturned nor log unlifted nor marsh unwaded in an effort to observe local frogs\, snakes\, toads\, turtles and salamanders. \nSpace is limited so please register here!
URL:https://www.honeyhollownaturecenter.org/event/herp-walk-and-talk/
LOCATION:Honey Hollow Nature Center\, 2877 Creamery Road\, New Hope\, 18938\, United States
CATEGORIES:Citizen Science,Special Event
ATTACH;FMTTYPE=image/jpeg:https://www.honeyhollownaturecenter.org/wp-content/uploads/2022/06/Red-Salamander.jpeg
GEO:40.3725704;-75.0106384
X-APPLE-STRUCTURED-LOCATION;VALUE=URI;X-ADDRESS=Honey Hollow Nature Center 2877 Creamery Road New Hope 18938 United States;X-APPLE-RADIUS=500;X-TITLE=2877 Creamery Road:geo:-75.0106384,40.3725704
END:VEVENT
END:VCALENDAR