BEGIN:VCALENDAR
VERSION:2.0
PRODID:-//Honey Hollow Nature Center - ECPv6.15.20//NONSGML v1.0//EN
CALSCALE:GREGORIAN
METHOD:PUBLISH
X-ORIGINAL-URL:https://www.honeyhollownaturecenter.org
X-WR-CALDESC:Events for Honey Hollow Nature Center
REFRESH-INTERVAL;VALUE=DURATION:PT1H
X-Robots-Tag:noindex
X-PUBLISHED-TTL:PT1H
BEGIN:VTIMEZONE
TZID:UTC
BEGIN:STANDARD
TZOFFSETFROM:+0000
TZOFFSETTO:+0000
TZNAME:UTC
DTSTART:20210101T000000
END:STANDARD
END:VTIMEZONE
BEGIN:VEVENT
DTSTART;TZID=UTC:20220702T100000
DTEND;TZID=UTC:20220702T113000
DTSTAMP:20260421T142143
CREATED:20220526T181530Z
LAST-MODIFIED:20220526T212051Z
UID:15458-1656756000-1656761400@www.honeyhollownaturecenter.org
SUMMARY:The Art of Ecology Botanical Dye for T-shirts Workshop
DESCRIPTION:Explore the many pigments and hues that locally foraged and gardened plants create and make your own beautiful t-shirt during this Botanical Dye workshop! \nWe will take a foraging walk around the property to identify local wild trees and plants whose constituents any phytochemicals can be used to create gorgeous dyes and pigments for textiles. Then\, we will head back to the center to dye our shirts. Rubber bands and string will be provided to tie-dye shirts if desired! A majority of the program will take place outside. Pease dress according to the weather. In the case of inclement weather\, we will be inside (except for the foraging walk). \nFor more information and registration details visit The Art of Ecology website!
URL:https://www.honeyhollownaturecenter.org/event/the-art-of-ecology-botanical-dye-for-t-shirts-workshop/
LOCATION:Honey Hollow Nature Center\, 2877 Creamery Road\, New Hope\, 18938\, United States
ATTACH;FMTTYPE=image/jpeg:https://www.honeyhollownaturecenter.org/wp-content/uploads/2022/05/botanical-tiedye-workshop.jpg
ORGANIZER;CN="The Art of Ecology":MAILTO:mjacobs@theartofecology.com
GEO:40.3725704;-75.0106384
X-APPLE-STRUCTURED-LOCATION;VALUE=URI;X-ADDRESS=Honey Hollow Nature Center 2877 Creamery Road New Hope 18938 United States;X-APPLE-RADIUS=500;X-TITLE=2877 Creamery Road:geo:-75.0106384,40.3725704
END:VEVENT
BEGIN:VEVENT
DTSTART;TZID=UTC:20220707T090000
DTEND;TZID=UTC:20220707T120000
DTSTAMP:20260421T142143
CREATED:20220524T183048Z
LAST-MODIFIED:20220524T183155Z
UID:15426-1657184400-1657195200@www.honeyhollownaturecenter.org
SUMMARY:Teen Conservation Corp
DESCRIPTION:Join Bucks Audubon’s Summer Teen Conservation Corp on Thursdays in July.  Come out and explore what it means to do environmental work on our property. \nConservation Corp will be meeting Thursdays\, July 7\, 14 and 21 from 9:00 am – 12:00 Noon.  Come dressed to be out working on the property!  Meet at the Visitor Center at 9:00 am. \nPlease join us for one day\, two days\, or all three days!  There is no cost for this and your student can earn valuable experience and community service hours.  Please let us know you are coming by registering here!
URL:https://www.honeyhollownaturecenter.org/event/teen-conservation-corp-2/2022-07-07/
LOCATION:Honey Hollow Nature Center\, 2877 Creamery Road\, New Hope\, 18938\, United States
ATTACH;FMTTYPE=image/jpeg:https://www.honeyhollownaturecenter.org/wp-content/uploads/2022/05/IMG_3353.jpg
GEO:40.3725704;-75.0106384
X-APPLE-STRUCTURED-LOCATION;VALUE=URI;X-ADDRESS=Honey Hollow Nature Center 2877 Creamery Road New Hope 18938 United States;X-APPLE-RADIUS=500;X-TITLE=2877 Creamery Road:geo:-75.0106384,40.3725704
END:VEVENT
BEGIN:VEVENT
DTSTART;TZID=UTC:20220709T083000
DTEND;TZID=UTC:20220709T113000
DTSTAMP:20260421T142143
CREATED:20220613T190249Z
LAST-MODIFIED:20220613T190249Z
UID:15536-1657355400-1657366200@www.honeyhollownaturecenter.org
SUMMARY:Dragonflies and Damselflies
DESCRIPTION:Join Paul and Anita Guris for a FREE NATURE WALK AT AUDUBON! \nDragonflies and their cousins the damselflies are some of the most efficient predators in the natural world. Come search for species ranging from the 3″ long Common Green Darner down to the Fragile Forktail which is less than an inch. We’ll teach you some basics about observing and identifying. \nSpace is limited so please register here!
URL:https://www.honeyhollownaturecenter.org/event/dragonflies-and-damselflies/
LOCATION:Honey Hollow Nature Center\, 2877 Creamery Road\, New Hope\, 18938\, United States
ATTACH;FMTTYPE=image/jpeg:https://www.honeyhollownaturecenter.org/wp-content/uploads/2022/06/Skimming-Bluet.jpg
GEO:40.3725704;-75.0106384
X-APPLE-STRUCTURED-LOCATION;VALUE=URI;X-ADDRESS=Honey Hollow Nature Center 2877 Creamery Road New Hope 18938 United States;X-APPLE-RADIUS=500;X-TITLE=2877 Creamery Road:geo:-75.0106384,40.3725704
END:VEVENT
BEGIN:VEVENT
DTSTART;VALUE=DATE:20220722
DTEND;VALUE=DATE:20220725
DTSTAMP:20260421T142143
CREATED:20220519T001019Z
LAST-MODIFIED:20220519T001834Z
UID:15383-1658448000-1658707199@www.honeyhollownaturecenter.org
SUMMARY:BioBlitz
DESCRIPTION:Bucks County Audubon Society is very excited to host a BioBlitz to take an inventory of the diverse plants and wildlife on our property. \nPlease check back for more information coming soon!!
URL:https://www.honeyhollownaturecenter.org/event/bioblitz-3/
LOCATION:Honey Hollow Nature Center\, 2877 Creamery Road\, New Hope\, 18938\, United States
CATEGORIES:Citizen Science
ATTACH;FMTTYPE=image/jpeg:https://www.honeyhollownaturecenter.org/wp-content/uploads/2022/05/bioblitz-marsh3.jpg
GEO:40.3725704;-75.0106384
X-APPLE-STRUCTURED-LOCATION;VALUE=URI;X-ADDRESS=Honey Hollow Nature Center 2877 Creamery Road New Hope 18938 United States;X-APPLE-RADIUS=500;X-TITLE=2877 Creamery Road:geo:-75.0106384,40.3725704
END:VEVENT
END:VCALENDAR