BEGIN:VCALENDAR
VERSION:2.0
PRODID:-//Honey Hollow Nature Center - ECPv6.15.20//NONSGML v1.0//EN
CALSCALE:GREGORIAN
METHOD:PUBLISH
X-ORIGINAL-URL:https://www.honeyhollownaturecenter.org
X-WR-CALDESC:Events for Honey Hollow Nature Center
REFRESH-INTERVAL;VALUE=DURATION:PT1H
X-Robots-Tag:noindex
X-PUBLISHED-TTL:PT1H
BEGIN:VTIMEZONE
TZID:UTC
BEGIN:STANDARD
TZOFFSETFROM:+0000
TZOFFSETTO:+0000
TZNAME:UTC
DTSTART:20210101T000000
END:STANDARD
END:VTIMEZONE
BEGIN:VEVENT
DTSTART;TZID=UTC:20221013T180000
DTEND;TZID=UTC:20221013T193000
DTSTAMP:20260421T101017
CREATED:20220727T194753Z
LAST-MODIFIED:20220727T194753Z
UID:15794-1665684000-1665689400@www.honeyhollownaturecenter.org
SUMMARY:The Art of Ecology Autumn Foraging Workshop
DESCRIPTION:Discover the richness of fall life as we identify wild-edibles in the busy landscape in this Autumn Foraging Workshop. \nAdmission is $40/pp. \nFor more information and registration details visit The Art of Ecology website!
URL:https://www.honeyhollownaturecenter.org/event/the-art-of-ecology-autumn-foraging-workshop/
LOCATION:Honey Hollow Nature Center\, 2877 Creamery Road\, New Hope\, 18938\, United States
ATTACH;FMTTYPE=image/jpeg:https://www.honeyhollownaturecenter.org/wp-content/uploads/2022/07/Foraging-scaled.jpg
ORGANIZER;CN="The Art of Ecology":MAILTO:mjacobs@theartofecology.com
GEO:40.3725704;-75.0106384
X-APPLE-STRUCTURED-LOCATION;VALUE=URI;X-ADDRESS=Honey Hollow Nature Center 2877 Creamery Road New Hope 18938 United States;X-APPLE-RADIUS=500;X-TITLE=2877 Creamery Road:geo:-75.0106384,40.3725704
END:VEVENT
BEGIN:VEVENT
DTSTART;TZID=UTC:20221019T173000
DTEND;TZID=UTC:20221019T203000
DTSTAMP:20260421T101017
CREATED:20220727T180958Z
LAST-MODIFIED:20220727T193352Z
UID:15765-1666200600-1666211400@www.honeyhollownaturecenter.org
SUMMARY:Pumpkin Carving Night 2022
DESCRIPTION:Help us line the trails with Jack-O-Lanterns for our Haunted Trails event by carving a pumpkin!\nWe will provide pizza\, refreshments and carving utensils\, all you need is yourself\, some creativity and a pumpkin! Pumpkins will then go out on our trails. Come see your carved pumpkin all lit up during our Haunted Trails event on October 22nd! \nDue to Covid concerns\, we will be setting up pumpkin carving sessions.  Sessions will be from 5:30-6:30 pm\, 6:30-7:30 pm and 7:30-8:30 pm.  Please select  a session time when you register for this free event. \nTo register for this fun family event\, click here!
URL:https://www.honeyhollownaturecenter.org/event/pumpkincarving2022/
LOCATION:Honey Hollow Nature Center\, 2877 Creamery Road\, New Hope\, 18938\, United States
ATTACH;FMTTYPE=image/jpeg:https://www.honeyhollownaturecenter.org/wp-content/uploads/2022/07/IMG-3808-scaled.jpg
GEO:40.3725704;-75.0106384
X-APPLE-STRUCTURED-LOCATION;VALUE=URI;X-ADDRESS=Honey Hollow Nature Center 2877 Creamery Road New Hope 18938 United States;X-APPLE-RADIUS=500;X-TITLE=2877 Creamery Road:geo:-75.0106384,40.3725704
END:VEVENT
BEGIN:VEVENT
DTSTART;TZID=UTC:20221022T180000
DTEND;TZID=UTC:20221022T200000
DTSTAMP:20260421T101017
CREATED:20210728T204010Z
LAST-MODIFIED:20220727T183110Z
UID:12540-1666461600-1666468800@www.honeyhollownaturecenter.org
SUMMARY:Haunted Trails 2022
DESCRIPTION:October 22\, 2022 – 6:00 pm – 8:00 pm \nJoin us for another fall Haunted Trails event here at Bucks Audubon!   This fun and family-friendly event is perfect for families with kids ages 4-14 (but definitely can be enjoyed by all).  Groups go out onto the trails roughly every 30 minutes\, so while you wait for the next group to go out\, enjoy storytelling around the campfire\, Halloween crafts\, face-painting\, seasonal refreshments and more at the Education Center!  \nAdmission is $5/person (BCAS Member)\, $10/person (Non-Member) or $20/family (BCAS Members)\, and $30/family (Non-Members).  \nTo register\, click here!
URL:https://www.honeyhollownaturecenter.org/event/haunted-trails-5/
LOCATION:Honey Hollow Nature Center\, 2877 Creamery Road\, New Hope\, 18938\, United States
CATEGORIES:Family
ATTACH;FMTTYPE=image/jpeg:https://www.honeyhollownaturecenter.org/wp-content/uploads/2021/07/MGF1685-scaled.jpg
GEO:40.3725704;-75.0106384
X-APPLE-STRUCTURED-LOCATION;VALUE=URI;X-ADDRESS=Honey Hollow Nature Center 2877 Creamery Road New Hope 18938 United States;X-APPLE-RADIUS=500;X-TITLE=2877 Creamery Road:geo:-75.0106384,40.3725704
END:VEVENT
END:VCALENDAR