BEGIN:VCALENDAR
VERSION:2.0
PRODID:-//Honey Hollow Nature Center - ECPv6.15.20//NONSGML v1.0//EN
CALSCALE:GREGORIAN
METHOD:PUBLISH
X-WR-CALNAME:Honey Hollow Nature Center
X-ORIGINAL-URL:https://www.honeyhollownaturecenter.org
X-WR-CALDESC:Events for Honey Hollow Nature Center
REFRESH-INTERVAL;VALUE=DURATION:PT1H
X-Robots-Tag:noindex
X-PUBLISHED-TTL:PT1H
BEGIN:VTIMEZONE
TZID:UTC
BEGIN:STANDARD
TZOFFSETFROM:+0000
TZOFFSETTO:+0000
TZNAME:UTC
DTSTART:20210101T000000
END:STANDARD
END:VTIMEZONE
BEGIN:VEVENT
DTSTART;TZID=UTC:20221216T180000
DTEND;TZID=UTC:20221216T200000
DTSTAMP:20260421T071804
CREATED:20220727T195652Z
LAST-MODIFIED:20220727T195652Z
UID:15797-1671213600-1671220800@www.honeyhollownaturecenter.org
SUMMARY:The Art of Ecology Practical Foraging: Winter Body Scrub Workshop
DESCRIPTION:Discover the wonders of the natural world and the incredible ways that plants provide for us during this practical foraging\, winter body scrub workshop. \nJoin Marissa for a foraging walk around the property to identify local wild plants that support general health & well-being\, as well as go over drying methods so that we can use those plants year-round. Then\, head back to the center to create body scrubs designed to uplift dreary\, winter moods\, soothe & support elasticity of dry winter skin! The first portion of the event will take place outside. Please dress according to the weather. \nAdmission is $65/pp. \nFor more information and registration details visit The Art of Ecology website!
URL:https://www.honeyhollownaturecenter.org/event/the-art-of-ecology-practical-foraging-winter-body-scrub-workshop/
LOCATION:Honey Hollow Nature Center\, 2877 Creamery Road\, New Hope\, 18938\, United States
ATTACH;FMTTYPE=image/jpeg:https://www.honeyhollownaturecenter.org/wp-content/uploads/2022/07/uplifting-salt-body-scrub-scaled.jpg
ORGANIZER;CN="The Art of Ecology":MAILTO:mjacobs@theartofecology.com
GEO:40.3725704;-75.0106384
X-APPLE-STRUCTURED-LOCATION;VALUE=URI;X-ADDRESS=Honey Hollow Nature Center 2877 Creamery Road New Hope 18938 United States;X-APPLE-RADIUS=500;X-TITLE=2877 Creamery Road:geo:-75.0106384,40.3725704
END:VEVENT
END:VCALENDAR