BEGIN:VCALENDAR
VERSION:2.0
PRODID:-//Honey Hollow Nature Center - ECPv6.15.20//NONSGML v1.0//EN
CALSCALE:GREGORIAN
METHOD:PUBLISH
X-WR-CALNAME:Honey Hollow Nature Center
X-ORIGINAL-URL:https://www.honeyhollownaturecenter.org
X-WR-CALDESC:Events for Honey Hollow Nature Center
REFRESH-INTERVAL;VALUE=DURATION:PT1H
X-Robots-Tag:noindex
X-PUBLISHED-TTL:PT1H
BEGIN:VTIMEZONE
TZID:America/New_York
BEGIN:DAYLIGHT
TZOFFSETFROM:-0500
TZOFFSETTO:-0400
TZNAME:EDT
DTSTART:20220313T070000
END:DAYLIGHT
BEGIN:STANDARD
TZOFFSETFROM:-0400
TZOFFSETTO:-0500
TZNAME:EST
DTSTART:20221106T060000
END:STANDARD
BEGIN:DAYLIGHT
TZOFFSETFROM:-0500
TZOFFSETTO:-0400
TZNAME:EDT
DTSTART:20230312T070000
END:DAYLIGHT
BEGIN:STANDARD
TZOFFSETFROM:-0400
TZOFFSETTO:-0500
TZNAME:EST
DTSTART:20231105T060000
END:STANDARD
BEGIN:DAYLIGHT
TZOFFSETFROM:-0500
TZOFFSETTO:-0400
TZNAME:EDT
DTSTART:20240310T070000
END:DAYLIGHT
BEGIN:STANDARD
TZOFFSETFROM:-0400
TZOFFSETTO:-0500
TZNAME:EST
DTSTART:20241103T060000
END:STANDARD
END:VTIMEZONE
BEGIN:VTIMEZONE
TZID:UTC
BEGIN:STANDARD
TZOFFSETFROM:+0000
TZOFFSETTO:+0000
TZNAME:UTC
DTSTART:20220101T000000
END:STANDARD
END:VTIMEZONE
BEGIN:VEVENT
DTSTART;TZID=America/New_York:20231005T100000
DTEND;TZID=America/New_York:20231005T113000
DTSTAMP:20260421T084622
CREATED:20230719T171537Z
LAST-MODIFIED:20230719T171537Z
UID:17681-1696500000-1696505400@www.honeyhollownaturecenter.org
SUMMARY:Pre-School Explorers
DESCRIPTION:Every Thursday morning at 10am we will host a 1.5-hour program for children ages 3– 5 accompanied by a care giver. Sessions are held 10am-11:30am and include an outdoor activity\, story time and a craft!
URL:https://www.honeyhollownaturecenter.org/event/pre-school-explorers/
LOCATION:Honey Hollow Nature Center\, 2877 Creamery Road\, New Hope\, 18938\, United States
ATTACH;FMTTYPE=image/jpeg:https://www.honeyhollownaturecenter.org/wp-content/uploads/2021/07/MGJ3960-1-scaled.jpg
GEO:40.3725704;-75.0106384
X-APPLE-STRUCTURED-LOCATION;VALUE=URI;X-ADDRESS=Honey Hollow Nature Center 2877 Creamery Road New Hope 18938 United States;X-APPLE-RADIUS=500;X-TITLE=2877 Creamery Road:geo:-75.0106384,40.3725704
END:VEVENT
BEGIN:VEVENT
DTSTART;TZID=America/New_York:20231012T100000
DTEND;TZID=America/New_York:20231012T113000
DTSTAMP:20260421T084622
CREATED:20230719T171722Z
LAST-MODIFIED:20230719T171723Z
UID:17683-1697104800-1697110200@www.honeyhollownaturecenter.org
SUMMARY:Pre-School Explorers
DESCRIPTION:Every Thursday morning at 10am we will host a 1.5-hour program for children ages 3– 5 accompanied by a care giver. Sessions are held 10am-11:30am and include an outdoor activity\, story time and a craft!
URL:https://www.honeyhollownaturecenter.org/event/pre-school-explorers-2/
LOCATION:Honey Hollow Nature Center\, 2877 Creamery Road\, New Hope\, 18938\, United States
ATTACH;FMTTYPE=image/jpeg:https://www.honeyhollownaturecenter.org/wp-content/uploads/2020/01/for-families.jpg
GEO:40.3725704;-75.0106384
X-APPLE-STRUCTURED-LOCATION;VALUE=URI;X-ADDRESS=Honey Hollow Nature Center 2877 Creamery Road New Hope 18938 United States;X-APPLE-RADIUS=500;X-TITLE=2877 Creamery Road:geo:-75.0106384,40.3725704
END:VEVENT
BEGIN:VEVENT
DTSTART;TZID=America/New_York:20231014T100000
DTEND;TZID=America/New_York:20231014T113000
DTSTAMP:20260421T084622
CREATED:20230913T170652Z
LAST-MODIFIED:20231009T164850Z
UID:17893-1697277600-1697283000@www.honeyhollownaturecenter.org
SUMMARY:How to Draw Birds
DESCRIPTION:How to Draw Birds – A Nature Sketching Workshop at BCAS with Naturalist & Artist Jack Hobe \nLearn how to draw our feathered friends in this workshop taught by naturalist and wildlife illustrator Jack Hobe! This program will equip participants with a working knowledge of basic bird anatomy (invaluable for understanding birds’ movement and form) as well as tricks for capturing live\, moving birds on the page.  Birds can be challenging and feisty subjects to draw\, but Jack’s passion for birding\, nature sketching and journaling will help attendees to demystify feather patterns\, movements\, profile\, and behavior. \nTo register visit: https://www.bcas.org/product/how-to-draw-birds-workshop/
URL:https://www.honeyhollownaturecenter.org/event/how-to-draw-birds/
LOCATION:Honey Hollow Nature Center\, 2877 Creamery Road\, New Hope\, 18938\, United States
ATTACH;FMTTYPE=image/jpeg:https://www.honeyhollownaturecenter.org/wp-content/uploads/2023/09/Presenter.jpg
GEO:40.3725704;-75.0106384
X-APPLE-STRUCTURED-LOCATION;VALUE=URI;X-ADDRESS=Honey Hollow Nature Center 2877 Creamery Road New Hope 18938 United States;X-APPLE-RADIUS=500;X-TITLE=2877 Creamery Road:geo:-75.0106384,40.3725704
END:VEVENT
BEGIN:VEVENT
DTSTART;TZID=America/New_York:20231018T173000
DTEND;TZID=America/New_York:20231018T203000
DTSTAMP:20260421T084622
CREATED:20230726T174009Z
LAST-MODIFIED:20230726T174204Z
UID:17742-1697650200-1697661000@www.honeyhollownaturecenter.org
SUMMARY:Pumpkin Carving
DESCRIPTION:Join us for a Pumpkin Carving Party on October 18th!  We will provide pizza and refreshments!  Please bring a pumpkin to carve\, carving utensils\, and creativity.  The finished pumpkins will line our trails for the Haunted Trails event on October 21! \nSessions will be held 5:30-7:00 pm  and 7:00-8:30.   Please select  a session time when you register for this free event. \nClick to register!
URL:https://www.honeyhollownaturecenter.org/event/pumpkin-carving-4/
LOCATION:Honey Hollow Nature Center\, 2877 Creamery Road\, New Hope\, 18938\, United States
CATEGORIES:Family
ATTACH;FMTTYPE=image/jpeg:https://www.honeyhollownaturecenter.org/wp-content/uploads/2021/08/MGF1684-scaled-e1753881877473.jpg
GEO:40.3725704;-75.0106384
X-APPLE-STRUCTURED-LOCATION;VALUE=URI;X-ADDRESS=Honey Hollow Nature Center 2877 Creamery Road New Hope 18938 United States;X-APPLE-RADIUS=500;X-TITLE=2877 Creamery Road:geo:-75.0106384,40.3725704
END:VEVENT
BEGIN:VEVENT
DTSTART;TZID=America/New_York:20231021T180000
DTEND;TZID=America/New_York:20231021T200000
DTSTAMP:20260421T084622
CREATED:20230726T174705Z
LAST-MODIFIED:20230726T174706Z
UID:17746-1697911200-1697918400@www.honeyhollownaturecenter.org
SUMMARY:Haunted Trails
DESCRIPTION:Join us for another fall Haunted Trails event here at Bucks Audubon!   This fun and family-friendly event is perfect for families with kids ages 4-14 (but definitely can be enjoyed by all).  This year we will not be having timed entry so come at anytime between 6:00 pm and 8:00 pm!  Groups go out onto the trails roughly every 30 minutes\, so while you wait for the next group to go out\, enjoy storytelling around the campfire\, seasonal refreshments and more!  \nClick to register!
URL:https://www.honeyhollownaturecenter.org/event/haunted-trails-6/
LOCATION:Honey Hollow Nature Center\, 2877 Creamery Road\, New Hope\, 18938\, United States
ATTACH;FMTTYPE=image/jpeg:https://www.honeyhollownaturecenter.org/wp-content/uploads/2023/07/MGF3950-scaled.jpg
GEO:40.3725704;-75.0106384
X-APPLE-STRUCTURED-LOCATION;VALUE=URI;X-ADDRESS=Honey Hollow Nature Center 2877 Creamery Road New Hope 18938 United States;X-APPLE-RADIUS=500;X-TITLE=2877 Creamery Road:geo:-75.0106384,40.3725704
END:VEVENT
BEGIN:VEVENT
DTSTART;TZID=UTC:20231022T100000
DTEND;TZID=UTC:20231022T123000
DTSTAMP:20260421T084622
CREATED:20221206T212821Z
LAST-MODIFIED:20221206T212821Z
UID:16340-1697968800-1697977800@www.honeyhollownaturecenter.org
SUMMARY:Guided Forest Therapy 2023
DESCRIPTION:Join Certified Forest Therapist\, Sharon Lohse\, to experience a forest therapy walk designed to increase sensory awareness in nature\, increase health by decreasing stress and anxiety by wandering slowly through the forests.  Learners will learn what a “sit spot ” is\, experience a number of invitations creativity exploring nature and end each class with a tea ceremony. \nAdmission is $30/session per person. Register HERE to attend.
URL:https://www.honeyhollownaturecenter.org/event/guided-forest-therapy-2023-2-2-5/
LOCATION:Honey Hollow Nature Center\, 2877 Creamery Road\, New Hope\, 18938\, United States
CATEGORIES:Adults
ATTACH;FMTTYPE=image/jpeg:https://www.honeyhollownaturecenter.org/wp-content/uploads/2022/02/IMG_8637-3-scaled.jpg
GEO:40.3725704;-75.0106384
X-APPLE-STRUCTURED-LOCATION;VALUE=URI;X-ADDRESS=Honey Hollow Nature Center 2877 Creamery Road New Hope 18938 United States;X-APPLE-RADIUS=500;X-TITLE=2877 Creamery Road:geo:-75.0106384,40.3725704
END:VEVENT
END:VCALENDAR