BEGIN:VCALENDAR
VERSION:2.0
PRODID:-//Honey Hollow Nature Center - ECPv6.15.20//NONSGML v1.0//EN
CALSCALE:GREGORIAN
METHOD:PUBLISH
X-ORIGINAL-URL:https://www.honeyhollownaturecenter.org
X-WR-CALDESC:Events for Honey Hollow Nature Center
REFRESH-INTERVAL;VALUE=DURATION:PT1H
X-Robots-Tag:noindex
X-PUBLISHED-TTL:PT1H
BEGIN:VTIMEZONE
TZID:America/New_York
BEGIN:DAYLIGHT
TZOFFSETFROM:-0500
TZOFFSETTO:-0400
TZNAME:EDT
DTSTART:20230312T070000
END:DAYLIGHT
BEGIN:STANDARD
TZOFFSETFROM:-0400
TZOFFSETTO:-0500
TZNAME:EST
DTSTART:20231105T060000
END:STANDARD
BEGIN:DAYLIGHT
TZOFFSETFROM:-0500
TZOFFSETTO:-0400
TZNAME:EDT
DTSTART:20240310T070000
END:DAYLIGHT
BEGIN:STANDARD
TZOFFSETFROM:-0400
TZOFFSETTO:-0500
TZNAME:EST
DTSTART:20241103T060000
END:STANDARD
BEGIN:DAYLIGHT
TZOFFSETFROM:-0500
TZOFFSETTO:-0400
TZNAME:EDT
DTSTART:20250309T070000
END:DAYLIGHT
BEGIN:STANDARD
TZOFFSETFROM:-0400
TZOFFSETTO:-0500
TZNAME:EST
DTSTART:20251102T060000
END:STANDARD
END:VTIMEZONE
BEGIN:VEVENT
DTSTART;TZID=America/New_York:20240401T090000
DTEND;TZID=America/New_York:20240401T150000
DTSTAMP:20260423T060044
CREATED:20230717T183119Z
LAST-MODIFIED:20230717T183119Z
UID:17597-1711962000-1711983600@www.honeyhollownaturecenter.org
SUMMARY:School Holiday Camp
DESCRIPTION:Is your child bored at home on a day off from school? Why don’t you bring them here to Bucks Audubon for our amazing nature themed school holiday camps! Drop off your child at 9am and pick them back up at 3pm after a fun-filled day of nature exploration and discovery! \nEach day features unique games\, hikes\, science experiments\, and crafts that all tie into the day’s theme. Snack will be provided.  Please send a lunch with your child as well as a change of clothes including shoes as they will be engaging with nature\, and we will be outside throughout the day. \nTo register for one or many sessions – https://www.bcas.org/product/school-holiday-camp-2023-2024/ \nSession Dates and Themes: \n\nSeptember 4\, 2023 – Creek Critters\nSeptember 25\, 2023 – Happy Herping (reptiles and amphibians)\nNovember 7\, 2023 – Bats\nNovember 22\, 2023 – Turkeys\nJanuary 15\, 2024 – Skulls and Tracks\nFebruary 16\, 2024 – Hibernation and Winter Wildlife\nFebruary 19\, 2024 – Science\nMarch 28\, 2024 – Signs of Spring\nMarch 29\, 2024 – Flowers and Plants\nApril 1\, 2024 – Mushrooms\nApril 23\, 2024 – Birding\nMay 27\, 2024 – Wetlands and Watersheds
URL:https://www.honeyhollownaturecenter.org/event/school-holiday-camp-25/
LOCATION:Honey Hollow Nature Center\, 2877 Creamery Road\, New Hope\, 18938\, United States
ATTACH;FMTTYPE=image/jpeg:https://www.honeyhollownaturecenter.org/wp-content/uploads/2019/05/streamshot-2.jpg
GEO:40.3725704;-75.0106384
X-APPLE-STRUCTURED-LOCATION;VALUE=URI;X-ADDRESS=Honey Hollow Nature Center 2877 Creamery Road New Hope 18938 United States;X-APPLE-RADIUS=500;X-TITLE=2877 Creamery Road:geo:-75.0106384,40.3725704
END:VEVENT
BEGIN:VEVENT
DTSTART;TZID=America/New_York:20240406T190000
DTEND;TZID=America/New_York:20240406T210000
DTSTAMP:20260423T060044
CREATED:20240124T164001Z
LAST-MODIFIED:20240327T170527Z
UID:18866-1712430000-1712437200@www.honeyhollownaturecenter.org
SUMMARY:Frog Walk
DESCRIPTION:SOLD OUT!   \nIf you would like to be added to the wait list\, please call us at 215-297-5880. \nJoin us at 7pm for an evening exploration of the croaks\, trills and splashes of our local amphibians! Get up close and personal with Spring Peepers\, Leopard Frogs\, Green Frogs and many of our other local amphibians!  Warm spring evenings are filled with the sounds of these fascinating animals\, so grab your boots and a flashlight and join Bucks County Audubon Society naturalists for a FROG HUNT! Members $5\, Non-members $10.  Space is limited to prevent over-impacting the environment so register early!  Registration cutoff date is March 20\, 2024.  Walk is limited to 15 participants. \nBack up date is April 6\, 2024
URL:https://www.honeyhollownaturecenter.org/event/frog-walk-5/
LOCATION:Honey Hollow Nature Center\, 2877 Creamery Road\, New Hope\, 18938\, United States
ATTACH;FMTTYPE=image/jpeg:https://www.honeyhollownaturecenter.org/wp-content/uploads/2023/11/F-Green-Frog_DSC_8707_Great-Swamp-NWRm.jpg
GEO:40.3725704;-75.0106384
X-APPLE-STRUCTURED-LOCATION;VALUE=URI;X-ADDRESS=Honey Hollow Nature Center 2877 Creamery Road New Hope 18938 United States;X-APPLE-RADIUS=500;X-TITLE=2877 Creamery Road:geo:-75.0106384,40.3725704
END:VEVENT
BEGIN:VEVENT
DTSTART;TZID=America/New_York:20240423T090000
DTEND;TZID=America/New_York:20240423T150000
DTSTAMP:20260423T060044
CREATED:20230717T183357Z
LAST-MODIFIED:20230717T183357Z
UID:17599-1713862800-1713884400@www.honeyhollownaturecenter.org
SUMMARY:School Holiday Camp
DESCRIPTION:Is your child bored at home on a day off from school? Why don’t you bring them here to Bucks Audubon for our amazing nature themed school holiday camps! Drop off your child at 9am and pick them back up at 3pm after a fun-filled day of nature exploration and discovery! \nEach day features unique games\, hikes\, science experiments\, and crafts that all tie into the day’s theme. Snack will be provided.  Please send a lunch with your child as well as a change of clothes including shoes as they will be engaging with nature\, and we will be outside throughout the day. \nTo register for one or many sessions – https://www.bcas.org/product/school-holiday-camp-2023-2024/ \nSession Dates and Themes: \n\nSeptember 4\, 2023 – Creek Critters\nSeptember 25\, 2023 – Happy Herping (reptiles and amphibians)\nNovember 7\, 2023 – Bats\nNovember 22\, 2023 – Turkeys\nJanuary 15\, 2024 – Skulls and Tracks\nFebruary 16\, 2024 – Hibernation and Winter Wildlife\nFebruary 19\, 2024 – Science\nMarch 28\, 2024 – Signs of Spring\nMarch 29\, 2024 – Flowers and Plants\nApril 1\, 2024 – Mushrooms\nApril 23\, 2024 – Birding\nMay 27\, 2024 – Wetlands and Watersheds
URL:https://www.honeyhollownaturecenter.org/event/school-holiday-camp-26/
LOCATION:Honey Hollow Nature Center\, 2877 Creamery Road\, New Hope\, 18938\, United States
ATTACH;FMTTYPE=image/jpeg:https://www.honeyhollownaturecenter.org/wp-content/uploads/2022/05/Nest-Watch-bluebird-nest.jpg
GEO:40.3725704;-75.0106384
X-APPLE-STRUCTURED-LOCATION;VALUE=URI;X-ADDRESS=Honey Hollow Nature Center 2877 Creamery Road New Hope 18938 United States;X-APPLE-RADIUS=500;X-TITLE=2877 Creamery Road:geo:-75.0106384,40.3725704
END:VEVENT
END:VCALENDAR