BEGIN:VCALENDAR
VERSION:2.0
PRODID:-//Honey Hollow Nature Center - ECPv6.15.20//NONSGML v1.0//EN
CALSCALE:GREGORIAN
METHOD:PUBLISH
X-WR-CALNAME:Honey Hollow Nature Center
X-ORIGINAL-URL:https://www.honeyhollownaturecenter.org
X-WR-CALDESC:Events for Honey Hollow Nature Center
REFRESH-INTERVAL;VALUE=DURATION:PT1H
X-Robots-Tag:noindex
X-PUBLISHED-TTL:PT1H
BEGIN:VTIMEZONE
TZID:America/New_York
BEGIN:DAYLIGHT
TZOFFSETFROM:-0500
TZOFFSETTO:-0400
TZNAME:EDT
DTSTART:20240310T070000
END:DAYLIGHT
BEGIN:STANDARD
TZOFFSETFROM:-0400
TZOFFSETTO:-0500
TZNAME:EST
DTSTART:20241103T060000
END:STANDARD
BEGIN:DAYLIGHT
TZOFFSETFROM:-0500
TZOFFSETTO:-0400
TZNAME:EDT
DTSTART:20250309T070000
END:DAYLIGHT
BEGIN:STANDARD
TZOFFSETFROM:-0400
TZOFFSETTO:-0500
TZNAME:EST
DTSTART:20251102T060000
END:STANDARD
BEGIN:DAYLIGHT
TZOFFSETFROM:-0500
TZOFFSETTO:-0400
TZNAME:EDT
DTSTART:20260308T070000
END:DAYLIGHT
BEGIN:STANDARD
TZOFFSETFROM:-0400
TZOFFSETTO:-0500
TZNAME:EST
DTSTART:20261101T060000
END:STANDARD
END:VTIMEZONE
BEGIN:VEVENT
DTSTART;TZID=America/New_York:20251002T090000
DTEND;TZID=America/New_York:20251002T150000
DTSTAMP:20260421T071805
CREATED:20250815T135821Z
LAST-MODIFIED:20250815T135821Z
UID:24232-1759395600-1759417200@www.honeyhollownaturecenter.org
SUMMARY:Buds & Branches Family Camp
DESCRIPTION:Is your child bored at home on a day off from school? Join us for a nature-filled camp with fun and learning for all ages. This is a one-day camp for children aged 5-12\, accompanied by an adult of their choice. Some of the special activities include fun games for all ages\, family crafts\, light to moderate hiking\, and even a little learning mixed in. \nEnjoy the season with seeds and fruits\, and discover how wildlife uses them to get ready for the colder months ahead. \nProgram Details:\nAges: 5-12 plus one adult\nFood: A snack is provided. Please pack a lunch. \nMEMBERS\nBase Fee: Family/Household Membership or higher: $65\nAdd-ons: 1 Adult & 1 Child\, Same Family: $30 | 1 Additional Adult: $15 \nNON-MEMBERS\nBase Fee: $75\nAdd-ons: 1 Adult & 1 Child\, Same Family: $40 | 1 Additional Adult: $20 \nRegister here.
URL:https://www.honeyhollownaturecenter.org/event/buds-branches-family-camp/
LOCATION:Honey Hollow Nature Center\, 2877 Creamery Road\, New Hope\, 18938\, United States
CATEGORIES:Family,School Holiday Camp
ATTACH;FMTTYPE=image/png:https://www.honeyhollownaturecenter.org/wp-content/uploads/2025/08/BandB_-Events.png
GEO:40.3725704;-75.0106384
X-APPLE-STRUCTURED-LOCATION;VALUE=URI;X-ADDRESS=Honey Hollow Nature Center 2877 Creamery Road New Hope 18938 United States;X-APPLE-RADIUS=500;X-TITLE=2877 Creamery Road:geo:-75.0106384,40.3725704
END:VEVENT
BEGIN:VEVENT
DTSTART;TZID=America/New_York:20251009T100000
DTEND;TZID=America/New_York:20251009T110000
DTSTAMP:20260421T071805
CREATED:20251006T012216Z
LAST-MODIFIED:20251006T012425Z
UID:25969-1760004000-1760007600@www.honeyhollownaturecenter.org
SUMMARY:Private Event: Horticultural Therapy
DESCRIPTION:A group from Peaceful Living visits us weekly for two brief\, timed activities led by Nancy Minich\, Registered Horticultural Therapist. The sessions begin with a nature walk and are followed by an activity that provides sensory stimulation to activate new neural pathways. This is a private event.
URL:https://www.honeyhollownaturecenter.org/event/private-event-horticultural-therapy/
LOCATION:Honey Hollow Nature Center\, 2877 Creamery Road\, New Hope\, 18938\, United States
ATTACH;FMTTYPE=image/png:https://www.honeyhollownaturecenter.org/wp-content/uploads/2025/10/horticultural-therapy.png
GEO:40.3725704;-75.0106384
X-APPLE-STRUCTURED-LOCATION;VALUE=URI;X-ADDRESS=Honey Hollow Nature Center 2877 Creamery Road New Hope 18938 United States;X-APPLE-RADIUS=500;X-TITLE=2877 Creamery Road:geo:-75.0106384,40.3725704
END:VEVENT
BEGIN:VEVENT
DTSTART;TZID=America/New_York:20251015T100000
DTEND;TZID=America/New_York:20251015T110000
DTSTAMP:20260421T071805
CREATED:20251006T012720Z
LAST-MODIFIED:20251006T013101Z
UID:25972-1760522400-1760526000@www.honeyhollownaturecenter.org
SUMMARY:Private Event: Horticultural Therapy
DESCRIPTION:A group from Peaceful Living visits us weekly for two brief\, timed activities led by Nancy Minich\, Registered Horticultural Therapist. The sessions begin with a nature walk and are followed by an activity that provides sensory stimulation to activate new neural pathways. This is a private event.
URL:https://www.honeyhollownaturecenter.org/event/private-event-horticultural-therapy-2025-10-15/
ATTACH;FMTTYPE=image/png:https://www.honeyhollownaturecenter.org/wp-content/uploads/2025/10/horticultural-therapy.png
END:VEVENT
BEGIN:VEVENT
DTSTART;TZID=America/New_York:20251023T100000
DTEND;TZID=America/New_York:20251023T110000
DTSTAMP:20260421T071805
CREATED:20251006T013327Z
LAST-MODIFIED:20251006T013327Z
UID:25974-1761213600-1761217200@www.honeyhollownaturecenter.org
SUMMARY:Private Event: Horticultural Therapy
DESCRIPTION:A group from Peaceful Living visits us weekly for two brief\, timed activities led by Nancy Minich\, Registered Horticultural Therapist. The sessions begin with a nature walk and are followed by an activity that provides sensory stimulation to activate new neural pathways. This is a private event.
URL:https://www.honeyhollownaturecenter.org/event/private-event-horticultural-therapy-2025-10-23/
LOCATION:Honey Hollow Nature Center\, 2877 Creamery Road\, New Hope\, 18938\, United States
ATTACH;FMTTYPE=image/png:https://www.honeyhollownaturecenter.org/wp-content/uploads/2025/10/horticultural-therapy.png
GEO:40.3725704;-75.0106384
X-APPLE-STRUCTURED-LOCATION;VALUE=URI;X-ADDRESS=Honey Hollow Nature Center 2877 Creamery Road New Hope 18938 United States;X-APPLE-RADIUS=500;X-TITLE=2877 Creamery Road:geo:-75.0106384,40.3725704
END:VEVENT
BEGIN:VEVENT
DTSTART;TZID=America/New_York:20251023T173000
DTEND;TZID=America/New_York:20251023T203000
DTSTAMP:20260421T071805
CREATED:20250730T131330Z
LAST-MODIFIED:20250730T132520Z
UID:24144-1761240600-1761251400@www.honeyhollownaturecenter.org
SUMMARY:Pumpkin Carving Night
DESCRIPTION:Let’s get ready for our annual Haunted Trails event by carving pumpkins to light up the path! \nWe’ll have pizza\, drinks\, and carving tools available. Just bring yourself\, a pumpkin\, and any tools you may already have – plus your creativity. All finished pumpkins will be displayed along the trails. \nThere will be two pumpkin carving sessions: 5:30-7:00 p.m. and 7:00-8:30 p.m. Be sure to choose your preferred time when registering. \nCome see your pumpkin\, along with everyone else’s\, glowing on October 25 at our Haunted Trails event! \nAdmission is free when you donate one or more jack-o-lanterns. \nRegister here.
URL:https://www.honeyhollownaturecenter.org/event/pumpkin-carving-2025/
LOCATION:Honey Hollow Nature Center\, 2877 Creamery Road\, New Hope\, 18938\, United States
CATEGORIES:Adults,Family,Special Event
ATTACH;FMTTYPE=image/jpeg:https://www.honeyhollownaturecenter.org/wp-content/uploads/2021/08/MGF1684-scaled-e1753881877473.jpg
GEO:40.3725704;-75.0106384
X-APPLE-STRUCTURED-LOCATION;VALUE=URI;X-ADDRESS=Honey Hollow Nature Center 2877 Creamery Road New Hope 18938 United States;X-APPLE-RADIUS=500;X-TITLE=2877 Creamery Road:geo:-75.0106384,40.3725704
END:VEVENT
BEGIN:VEVENT
DTSTART;TZID=America/New_York:20251025T180000
DTEND;TZID=America/New_York:20251025T200000
DTSTAMP:20260421T071805
CREATED:20250730T142908Z
LAST-MODIFIED:20250730T143013Z
UID:24159-1761415200-1761422400@www.honeyhollownaturecenter.org
SUMMARY:Haunted Trails at Honey Hollow
DESCRIPTION:Come out for our annual Haunted Trails event! It’s a fun\, family-friendly evening\, especially great for kids ages 4–14 (though all ages are welcome to enjoy it). Groups will head out on the trail about every 30 minutes to explore nature paths lit with glowing jack-o-lanterns. \nWhile you wait for your turn\, gather around the campfire for spooky stories\, enjoy seasonal treats\, get your face painted\, and make a craft to take home. \nAdmission is $5/person (Member)\, $10/person (Non-Member)\, or $20/family (Member)\, and $30/family (Non-Member). \nRegister here.
URL:https://www.honeyhollownaturecenter.org/event/haunted-trails-2025/
LOCATION:Honey Hollow Nature Center\, 2877 Creamery Road\, New Hope\, 18938\, United States
CATEGORIES:Family
ATTACH;FMTTYPE=image/jpeg:https://www.honeyhollownaturecenter.org/wp-content/uploads/2023/07/MGF3950-scaled.jpg
GEO:40.3725704;-75.0106384
X-APPLE-STRUCTURED-LOCATION;VALUE=URI;X-ADDRESS=Honey Hollow Nature Center 2877 Creamery Road New Hope 18938 United States;X-APPLE-RADIUS=500;X-TITLE=2877 Creamery Road:geo:-75.0106384,40.3725704
END:VEVENT
BEGIN:VEVENT
DTSTART;TZID=America/New_York:20251029T100000
DTEND;TZID=America/New_York:20251029T110000
DTSTAMP:20260421T071805
CREATED:20251006T013811Z
LAST-MODIFIED:20251006T013811Z
UID:25976-1761732000-1761735600@www.honeyhollownaturecenter.org
SUMMARY:Private Event: Horticultural Therapy
DESCRIPTION:A group from Peaceful Living visits us weekly for two brief\, timed activities led by Nancy Minich\, Registered Horticultural Therapist. The sessions begin with a nature walk and are followed by an activity that provides sensory stimulation to activate new neural pathways. This is a private event.
URL:https://www.honeyhollownaturecenter.org/event/private-event-horticultural-therapy-2025-10-29/
LOCATION:Honey Hollow Nature Center\, 2877 Creamery Road\, New Hope\, 18938\, United States
ATTACH;FMTTYPE=image/png:https://www.honeyhollownaturecenter.org/wp-content/uploads/2025/10/horticultural-therapy.png
GEO:40.3725704;-75.0106384
X-APPLE-STRUCTURED-LOCATION;VALUE=URI;X-ADDRESS=Honey Hollow Nature Center 2877 Creamery Road New Hope 18938 United States;X-APPLE-RADIUS=500;X-TITLE=2877 Creamery Road:geo:-75.0106384,40.3725704
END:VEVENT
END:VCALENDAR