BEGIN:VCALENDAR
VERSION:2.0
PRODID:-//Honey Hollow Nature Center - ECPv6.15.20//NONSGML v1.0//EN
CALSCALE:GREGORIAN
METHOD:PUBLISH
X-WR-CALNAME:Honey Hollow Nature Center
X-ORIGINAL-URL:https://www.honeyhollownaturecenter.org
X-WR-CALDESC:Events for Honey Hollow Nature Center
REFRESH-INTERVAL;VALUE=DURATION:PT1H
X-Robots-Tag:noindex
X-PUBLISHED-TTL:PT1H
BEGIN:VTIMEZONE
TZID:America/New_York
BEGIN:DAYLIGHT
TZOFFSETFROM:-0500
TZOFFSETTO:-0400
TZNAME:EDT
DTSTART:20240310T070000
END:DAYLIGHT
BEGIN:STANDARD
TZOFFSETFROM:-0400
TZOFFSETTO:-0500
TZNAME:EST
DTSTART:20241103T060000
END:STANDARD
BEGIN:DAYLIGHT
TZOFFSETFROM:-0500
TZOFFSETTO:-0400
TZNAME:EDT
DTSTART:20250309T070000
END:DAYLIGHT
BEGIN:STANDARD
TZOFFSETFROM:-0400
TZOFFSETTO:-0500
TZNAME:EST
DTSTART:20251102T060000
END:STANDARD
BEGIN:DAYLIGHT
TZOFFSETFROM:-0500
TZOFFSETTO:-0400
TZNAME:EDT
DTSTART:20260308T070000
END:DAYLIGHT
BEGIN:STANDARD
TZOFFSETFROM:-0400
TZOFFSETTO:-0500
TZNAME:EST
DTSTART:20261101T060000
END:STANDARD
END:VTIMEZONE
BEGIN:VEVENT
DTSTART;TZID=America/New_York:20251204T100000
DTEND;TZID=America/New_York:20251204T110000
DTSTAMP:20260421T090218
CREATED:20251110T192025Z
LAST-MODIFIED:20260325T160650Z
UID:26804-1764842400-1764846000@www.honeyhollownaturecenter.org
SUMMARY:Private Event: Horticultural Therapy
DESCRIPTION:A group from Peaceful Living visits us weekly for two brief\, timed activities led by Nancy Minich\, Registered Horticultural Therapist. The sessions begin with a nature walk and are followed by an activity that provides sensory stimulation to activate new neural pathways. This is a private event.
URL:https://www.honeyhollownaturecenter.org/event/private-event-horticultural-therapy-3/2025-12-04/
LOCATION:Honey Hollow Nature Center\, 2877 Creamery Road\, New Hope\, 18938\, United States
ATTACH;FMTTYPE=image/png:https://www.honeyhollownaturecenter.org/wp-content/uploads/2025/10/horticultural-therapy.png
GEO:40.3725704;-75.0106384
X-APPLE-STRUCTURED-LOCATION;VALUE=URI;X-ADDRESS=Honey Hollow Nature Center 2877 Creamery Road New Hope 18938 United States;X-APPLE-RADIUS=500;X-TITLE=2877 Creamery Road:geo:-75.0106384,40.3725704
END:VEVENT
BEGIN:VEVENT
DTSTART;TZID=America/New_York:20251210T100000
DTEND;TZID=America/New_York:20251210T110000
DTSTAMP:20260421T090218
CREATED:20251110T185709Z
LAST-MODIFIED:20260325T161011Z
UID:26647-1765360800-1765364400@www.honeyhollownaturecenter.org
SUMMARY:Private Event: Horticultural Therapy
DESCRIPTION:A group from Peaceful Living visits us weekly for two brief\, timed activities led by Nancy Minich\, Registered Horticultural Therapist. The sessions begin with a nature walk and are followed by an activity that provides sensory stimulation to activate new neural pathways. This is a private event.
URL:https://www.honeyhollownaturecenter.org/event/private-event-horticultural-therapy-2/2025-12-10/
LOCATION:Honey Hollow Nature Center\, 2877 Creamery Road\, New Hope\, 18938\, United States
ATTACH;FMTTYPE=image/png:https://www.honeyhollownaturecenter.org/wp-content/uploads/2025/10/horticultural-therapy.png
GEO:40.3725704;-75.0106384
X-APPLE-STRUCTURED-LOCATION;VALUE=URI;X-ADDRESS=Honey Hollow Nature Center 2877 Creamery Road New Hope 18938 United States;X-APPLE-RADIUS=500;X-TITLE=2877 Creamery Road:geo:-75.0106384,40.3725704
END:VEVENT
BEGIN:VEVENT
DTSTART;TZID=America/New_York:20251218T100000
DTEND;TZID=America/New_York:20251218T110000
DTSTAMP:20260421T090218
CREATED:20251110T192025Z
LAST-MODIFIED:20260325T160650Z
UID:26805-1766052000-1766055600@www.honeyhollownaturecenter.org
SUMMARY:Private Event: Horticultural Therapy
DESCRIPTION:A group from Peaceful Living visits us weekly for two brief\, timed activities led by Nancy Minich\, Registered Horticultural Therapist. The sessions begin with a nature walk and are followed by an activity that provides sensory stimulation to activate new neural pathways. This is a private event.
URL:https://www.honeyhollownaturecenter.org/event/private-event-horticultural-therapy-3/2025-12-18/
LOCATION:Honey Hollow Nature Center\, 2877 Creamery Road\, New Hope\, 18938\, United States
ATTACH;FMTTYPE=image/png:https://www.honeyhollownaturecenter.org/wp-content/uploads/2025/10/horticultural-therapy.png
GEO:40.3725704;-75.0106384
X-APPLE-STRUCTURED-LOCATION;VALUE=URI;X-ADDRESS=Honey Hollow Nature Center 2877 Creamery Road New Hope 18938 United States;X-APPLE-RADIUS=500;X-TITLE=2877 Creamery Road:geo:-75.0106384,40.3725704
END:VEVENT
BEGIN:VEVENT
DTSTART;TZID=America/New_York:20251220T080000
DTEND;TZID=America/New_York:20251220T100000
DTSTAMP:20260421T090218
CREATED:20241207T142027Z
LAST-MODIFIED:20251219T163425Z
UID:22759-1766217600-1766224800@www.honeyhollownaturecenter.org
SUMMARY:Bird Walk - Canceled
DESCRIPTION:Canceled \nJoin our naturalists for a guided bird walk around the Bucks Audubon property every 1st and 3rd Saturday of the month! All ages and experience levels are welcome. Please bring a field guide\, binoculars or borrow some of ours!
URL:https://www.honeyhollownaturecenter.org/event/bird-walk-12-20/
LOCATION:Honey Hollow Nature Center\, 2877 Creamery Road\, New Hope\, 18938\, United States
CATEGORIES:Birding
ATTACH;FMTTYPE=image/jpeg:https://www.honeyhollownaturecenter.org/wp-content/uploads/2021/11/winter-birding-image-for-Birding-bonanaza-2017-ad-2-scaled.jpg
GEO:40.3725704;-75.0106384
X-APPLE-STRUCTURED-LOCATION;VALUE=URI;X-ADDRESS=Honey Hollow Nature Center 2877 Creamery Road New Hope 18938 United States;X-APPLE-RADIUS=500;X-TITLE=2877 Creamery Road:geo:-75.0106384,40.3725704
END:VEVENT
BEGIN:VEVENT
DTSTART;TZID=America/New_York:20251224T100000
DTEND;TZID=America/New_York:20251224T110000
DTSTAMP:20260421T090218
CREATED:20251110T185709Z
LAST-MODIFIED:20260325T161012Z
UID:26648-1766570400-1766574000@www.honeyhollownaturecenter.org
SUMMARY:Private Event: Horticultural Therapy
DESCRIPTION:A group from Peaceful Living visits us weekly for two brief\, timed activities led by Nancy Minich\, Registered Horticultural Therapist. The sessions begin with a nature walk and are followed by an activity that provides sensory stimulation to activate new neural pathways. This is a private event.
URL:https://www.honeyhollownaturecenter.org/event/private-event-horticultural-therapy-2/2025-12-24/
LOCATION:Honey Hollow Nature Center\, 2877 Creamery Road\, New Hope\, 18938\, United States
ATTACH;FMTTYPE=image/png:https://www.honeyhollownaturecenter.org/wp-content/uploads/2025/10/horticultural-therapy.png
GEO:40.3725704;-75.0106384
X-APPLE-STRUCTURED-LOCATION;VALUE=URI;X-ADDRESS=Honey Hollow Nature Center 2877 Creamery Road New Hope 18938 United States;X-APPLE-RADIUS=500;X-TITLE=2877 Creamery Road:geo:-75.0106384,40.3725704
END:VEVENT
BEGIN:VEVENT
DTSTART;TZID=America/New_York:20251228T080000
DTEND;TZID=America/New_York:20251228T120000
DTSTAMP:20260421T090218
CREATED:20251201T172747Z
LAST-MODIFIED:20251201T180356Z
UID:27391-1766908800-1766923200@www.honeyhollownaturecenter.org
SUMMARY:126th Christmas Bird Count
DESCRIPTION:Join the longest-running community science project in North America – The Christmas Bird Count!  \nThis year\, the Central Bucks Christmas Bird Count will take place on December 28. We have opportunities for beginning birders\, mobility-challenged birders\, and folks who want to feeder watch (location-dependent).  \nContact Diane by December 22 at dianesmith@bcas.org and put 2025 CBC in the subject line. Let us know how you’d like to participate\, and we’ll find a spot for you! \nThere is no cost to participate in this event. The registration cutoff date is December 22\, 2025.
URL:https://www.honeyhollownaturecenter.org/event/christmas-bird-count-2025/
LOCATION:Honey Hollow Nature Center\, 2877 Creamery Road\, New Hope\, 18938\, United States
CATEGORIES:Adults,Birding,Citizen Science
ATTACH;FMTTYPE=image/png:https://www.honeyhollownaturecenter.org/wp-content/uploads/2025/12/Christmas-Bird-Count.png
GEO:40.3725704;-75.0106384
X-APPLE-STRUCTURED-LOCATION;VALUE=URI;X-ADDRESS=Honey Hollow Nature Center 2877 Creamery Road New Hope 18938 United States;X-APPLE-RADIUS=500;X-TITLE=2877 Creamery Road:geo:-75.0106384,40.3725704
END:VEVENT
END:VCALENDAR