BEGIN:VCALENDAR
VERSION:2.0
PRODID:-//Honey Hollow Nature Center - ECPv6.15.20//NONSGML v1.0//EN
CALSCALE:GREGORIAN
METHOD:PUBLISH
X-ORIGINAL-URL:https://www.honeyhollownaturecenter.org
X-WR-CALDESC:Events for Honey Hollow Nature Center
REFRESH-INTERVAL;VALUE=DURATION:PT1H
X-Robots-Tag:noindex
X-PUBLISHED-TTL:PT1H
BEGIN:VTIMEZONE
TZID:America/New_York
BEGIN:DAYLIGHT
TZOFFSETFROM:-0500
TZOFFSETTO:-0400
TZNAME:EDT
DTSTART:20250309T070000
END:DAYLIGHT
BEGIN:STANDARD
TZOFFSETFROM:-0400
TZOFFSETTO:-0500
TZNAME:EST
DTSTART:20251102T060000
END:STANDARD
BEGIN:DAYLIGHT
TZOFFSETFROM:-0500
TZOFFSETTO:-0400
TZNAME:EDT
DTSTART:20260308T070000
END:DAYLIGHT
BEGIN:STANDARD
TZOFFSETFROM:-0400
TZOFFSETTO:-0500
TZNAME:EST
DTSTART:20261101T060000
END:STANDARD
BEGIN:DAYLIGHT
TZOFFSETFROM:-0500
TZOFFSETTO:-0400
TZNAME:EDT
DTSTART:20270314T070000
END:DAYLIGHT
BEGIN:STANDARD
TZOFFSETFROM:-0400
TZOFFSETTO:-0500
TZNAME:EST
DTSTART:20271107T060000
END:STANDARD
END:VTIMEZONE
BEGIN:VEVENT
DTSTART;TZID=America/New_York:20260101T100000
DTEND;TZID=America/New_York:20260101T110000
DTSTAMP:20260421T103148
CREATED:20251110T192025Z
LAST-MODIFIED:20251110T192025Z
UID:30084-1767261600-1767265200@www.honeyhollownaturecenter.org
SUMMARY:Private Event: Horticultural Therapy
DESCRIPTION:A group from Peaceful Living visits us weekly for two brief\, timed activities led by Nancy Minich\, Registered Horticultural Therapist. The sessions begin with a nature walk and are followed by an activity that provides sensory stimulation to activate new neural pathways. This is a private event.
URL:https://www.honeyhollownaturecenter.org/event/private-event-horticultural-therapy-3/2026-01-01/
LOCATION:Honey Hollow Nature Center\, 2877 Creamery Road\, New Hope\, 18938\, United States
ATTACH;FMTTYPE=image/png:https://www.honeyhollownaturecenter.org/wp-content/uploads/2025/10/horticultural-therapy.png
GEO:40.3725704;-75.0106384
X-APPLE-STRUCTURED-LOCATION;VALUE=URI;X-ADDRESS=Honey Hollow Nature Center 2877 Creamery Road New Hope 18938 United States;X-APPLE-RADIUS=500;X-TITLE=2877 Creamery Road:geo:-75.0106384,40.3725704
END:VEVENT
BEGIN:VEVENT
DTSTART;TZID=America/New_York:20260103T080000
DTEND;TZID=America/New_York:20260103T100000
DTSTAMP:20260421T103148
CREATED:20241207T142027Z
LAST-MODIFIED:20251219T163612Z
UID:22761-1767427200-1767434400@www.honeyhollownaturecenter.org
SUMMARY:Bird Walk
DESCRIPTION:Join our naturalists for a guided bird walk around the Bucks Audubon property every 1st and 3rd Saturday of the month! All ages and experience levels are welcome. Please bring a field guide\, binoculars or borrow some of ours!
URL:https://www.honeyhollownaturecenter.org/event/bird-walk-8/2026-01-03/
LOCATION:Honey Hollow Nature Center\, 2877 Creamery Road\, New Hope\, 18938\, United States
CATEGORIES:Birding
ATTACH;FMTTYPE=image/jpeg:https://www.honeyhollownaturecenter.org/wp-content/uploads/2021/11/winter-birding-image-for-Birding-bonanaza-2017-ad-2-scaled.jpg
GEO:40.3725704;-75.0106384
X-APPLE-STRUCTURED-LOCATION;VALUE=URI;X-ADDRESS=Honey Hollow Nature Center 2877 Creamery Road New Hope 18938 United States;X-APPLE-RADIUS=500;X-TITLE=2877 Creamery Road:geo:-75.0106384,40.3725704
END:VEVENT
BEGIN:VEVENT
DTSTART;TZID=America/New_York:20260107T100000
DTEND;TZID=America/New_York:20260107T110000
DTSTAMP:20260421T103148
CREATED:20251110T185709Z
LAST-MODIFIED:20260325T161012Z
UID:26649-1767780000-1767783600@www.honeyhollownaturecenter.org
SUMMARY:Private Event: Horticultural Therapy
DESCRIPTION:A group from Peaceful Living visits us weekly for two brief\, timed activities led by Nancy Minich\, Registered Horticultural Therapist. The sessions begin with a nature walk and are followed by an activity that provides sensory stimulation to activate new neural pathways. This is a private event.
URL:https://www.honeyhollownaturecenter.org/event/private-event-horticultural-therapy-2/2026-01-07/
LOCATION:Honey Hollow Nature Center\, 2877 Creamery Road\, New Hope\, 18938\, United States
ATTACH;FMTTYPE=image/png:https://www.honeyhollownaturecenter.org/wp-content/uploads/2025/10/horticultural-therapy.png
GEO:40.3725704;-75.0106384
X-APPLE-STRUCTURED-LOCATION;VALUE=URI;X-ADDRESS=Honey Hollow Nature Center 2877 Creamery Road New Hope 18938 United States;X-APPLE-RADIUS=500;X-TITLE=2877 Creamery Road:geo:-75.0106384,40.3725704
END:VEVENT
BEGIN:VEVENT
DTSTART;TZID=America/New_York:20260115T100000
DTEND;TZID=America/New_York:20260115T110000
DTSTAMP:20260421T103148
CREATED:20251110T192025Z
LAST-MODIFIED:20260325T160651Z
UID:26807-1768471200-1768474800@www.honeyhollownaturecenter.org
SUMMARY:Private Event: Horticultural Therapy
DESCRIPTION:A group from Peaceful Living visits us weekly for two brief\, timed activities led by Nancy Minich\, Registered Horticultural Therapist. The sessions begin with a nature walk and are followed by an activity that provides sensory stimulation to activate new neural pathways. This is a private event.
URL:https://www.honeyhollownaturecenter.org/event/private-event-horticultural-therapy-3/2026-01-15/
LOCATION:Honey Hollow Nature Center\, 2877 Creamery Road\, New Hope\, 18938\, United States
ATTACH;FMTTYPE=image/png:https://www.honeyhollownaturecenter.org/wp-content/uploads/2025/10/horticultural-therapy.png
GEO:40.3725704;-75.0106384
X-APPLE-STRUCTURED-LOCATION;VALUE=URI;X-ADDRESS=Honey Hollow Nature Center 2877 Creamery Road New Hope 18938 United States;X-APPLE-RADIUS=500;X-TITLE=2877 Creamery Road:geo:-75.0106384,40.3725704
END:VEVENT
BEGIN:VEVENT
DTSTART;TZID=America/New_York:20260117T080000
DTEND;TZID=America/New_York:20260117T100000
DTSTAMP:20260421T103148
CREATED:20241207T142027Z
LAST-MODIFIED:20251219T163613Z
UID:22763-1768636800-1768644000@www.honeyhollownaturecenter.org
SUMMARY:Bird Walk
DESCRIPTION:Join our naturalists for a guided bird walk around the Bucks Audubon property every 1st and 3rd Saturday of the month! All ages and experience levels are welcome. Please bring a field guide\, binoculars or borrow some of ours!
URL:https://www.honeyhollownaturecenter.org/event/bird-walk-8/2026-01-17/
LOCATION:Honey Hollow Nature Center\, 2877 Creamery Road\, New Hope\, 18938\, United States
CATEGORIES:Birding
ATTACH;FMTTYPE=image/jpeg:https://www.honeyhollownaturecenter.org/wp-content/uploads/2021/11/winter-birding-image-for-Birding-bonanaza-2017-ad-2-scaled.jpg
GEO:40.3725704;-75.0106384
X-APPLE-STRUCTURED-LOCATION;VALUE=URI;X-ADDRESS=Honey Hollow Nature Center 2877 Creamery Road New Hope 18938 United States;X-APPLE-RADIUS=500;X-TITLE=2877 Creamery Road:geo:-75.0106384,40.3725704
END:VEVENT
BEGIN:VEVENT
DTSTART;TZID=America/New_York:20260117T190000
DTEND;TZID=America/New_York:20260117T210000
DTSTAMP:20260421T103148
CREATED:20251111T161946Z
LAST-MODIFIED:20251230T193145Z
UID:26354-1768676400-1768683600@www.honeyhollownaturecenter.org
SUMMARY:[SOLD OUT] Owl Prowl and Night Hike 2026
DESCRIPTION:This event is sold out. Thank you for your interest! \nEnjoy an evening learning about the owls that call Honey Hollow their home!  We’ll have a short presentation about the Owls of the Delaware Valley\, followed by a night hike where we’ll try to call the owls to us.  Dress warmly\, wear sturdy boots or shoes\, and bring a flashlight/headlamp.  \n $5 members\, $10 non-members  \nRegister here. \n 
URL:https://www.honeyhollownaturecenter.org/event/owl-prowl-2026/
LOCATION:Honey Hollow Nature Center\, 2877 Creamery Road\, New Hope\, 18938\, United States
CATEGORIES:Birding,Family
ATTACH;FMTTYPE=image/jpeg:https://www.honeyhollownaturecenter.org/wp-content/uploads/2021/11/owl-eyes.jpg
GEO:40.3725704;-75.0106384
X-APPLE-STRUCTURED-LOCATION;VALUE=URI;X-ADDRESS=Honey Hollow Nature Center 2877 Creamery Road New Hope 18938 United States;X-APPLE-RADIUS=500;X-TITLE=2877 Creamery Road:geo:-75.0106384,40.3725704
END:VEVENT
BEGIN:VEVENT
DTSTART;TZID=America/New_York:20260121T100000
DTEND;TZID=America/New_York:20260121T110000
DTSTAMP:20260421T103148
CREATED:20251110T185709Z
LAST-MODIFIED:20260325T161013Z
UID:26650-1768989600-1768993200@www.honeyhollownaturecenter.org
SUMMARY:Private Event: Horticultural Therapy
DESCRIPTION:A group from Peaceful Living visits us weekly for two brief\, timed activities led by Nancy Minich\, Registered Horticultural Therapist. The sessions begin with a nature walk and are followed by an activity that provides sensory stimulation to activate new neural pathways. This is a private event.
URL:https://www.honeyhollownaturecenter.org/event/private-event-horticultural-therapy-2/2026-01-21/
LOCATION:Honey Hollow Nature Center\, 2877 Creamery Road\, New Hope\, 18938\, United States
ATTACH;FMTTYPE=image/png:https://www.honeyhollownaturecenter.org/wp-content/uploads/2025/10/horticultural-therapy.png
GEO:40.3725704;-75.0106384
X-APPLE-STRUCTURED-LOCATION;VALUE=URI;X-ADDRESS=Honey Hollow Nature Center 2877 Creamery Road New Hope 18938 United States;X-APPLE-RADIUS=500;X-TITLE=2877 Creamery Road:geo:-75.0106384,40.3725704
END:VEVENT
BEGIN:VEVENT
DTSTART;TZID=America/New_York:20260129T100000
DTEND;TZID=America/New_York:20260129T110000
DTSTAMP:20260421T103148
CREATED:20251110T192025Z
LAST-MODIFIED:20260325T160651Z
UID:26808-1769680800-1769684400@www.honeyhollownaturecenter.org
SUMMARY:Private Event: Horticultural Therapy
DESCRIPTION:A group from Peaceful Living visits us weekly for two brief\, timed activities led by Nancy Minich\, Registered Horticultural Therapist. The sessions begin with a nature walk and are followed by an activity that provides sensory stimulation to activate new neural pathways. This is a private event.
URL:https://www.honeyhollownaturecenter.org/event/private-event-horticultural-therapy-3/2026-01-29/
LOCATION:Honey Hollow Nature Center\, 2877 Creamery Road\, New Hope\, 18938\, United States
ATTACH;FMTTYPE=image/png:https://www.honeyhollownaturecenter.org/wp-content/uploads/2025/10/horticultural-therapy.png
GEO:40.3725704;-75.0106384
X-APPLE-STRUCTURED-LOCATION;VALUE=URI;X-ADDRESS=Honey Hollow Nature Center 2877 Creamery Road New Hope 18938 United States;X-APPLE-RADIUS=500;X-TITLE=2877 Creamery Road:geo:-75.0106384,40.3725704
END:VEVENT
BEGIN:VEVENT
DTSTART;TZID=America/New_York:20260131T133000
DTEND;TZID=America/New_York:20260131T143000
DTSTAMP:20260421T103148
CREATED:20251227T192001Z
LAST-MODIFIED:20260128T152229Z
UID:27907-1769866200-1769869800@www.honeyhollownaturecenter.org
SUMMARY:[Postponed | Sold Out] Fungi in the Forest\, A Mushroom Exploration with J. Mertz
DESCRIPTION:THIS EVENT IS SOLD OUT AND HAS BEEN POSTPONED TO APRIL 11. THANK YOU FOR YOUR INTEREST! \nPeak into the fantastic world of Fungi with Jeff Mertz\, Founder and Forager of Wildspawn Mushrooms. He will present basic mushroom characteristics that will allow you to distinguish common mushrooms right in your backyard. The focus will be on edible and medicinal mushrooms\, although some other notable fungi will also be included in the conversation. Not only will you learn about native fungi\, but Jeff will also teach you to identify common plants and ecosystem types that certain mushroom species rely on. Jeff will set up a table of fresh and dried mushrooms so participants can get hands-on experience before and after the presentation. \nJeff Mertz is an engineer/physicist turned mushroom farmer\, forager\, educator\, and home chef. Jeff grew up as an active and outdoorsy kid\, spending countless hours playing in the woods and eventually rising through the ranks of Boy Scouts to Eagle Scout. He started Wildspawn Mushrooms in 2021 with his best friend Cody Iannozzi\, who shared his love for foraging mushrooms\, nature\, and local agriculture. Together they built a following at local farmers markets and eventually branched out into restaurants\, CSA’s\, and small local groceries. Today\, Jeff is the sole-owner of WSM and his farming-operation is based in Montgomery\, New Jersey. \nMembers: $5 | Non-Members: $10
URL:https://www.honeyhollownaturecenter.org/event/fungi-in-the-forest-event/
LOCATION:Honey Hollow Nature Center\, 2877 Creamery Road\, New Hope\, 18938\, United States
CATEGORIES:Adults,Family
ATTACH;FMTTYPE=image/png:https://www.honeyhollownaturecenter.org/wp-content/uploads/2025/12/mertz.png
GEO:40.3725704;-75.0106384
X-APPLE-STRUCTURED-LOCATION;VALUE=URI;X-ADDRESS=Honey Hollow Nature Center 2877 Creamery Road New Hope 18938 United States;X-APPLE-RADIUS=500;X-TITLE=2877 Creamery Road:geo:-75.0106384,40.3725704
END:VEVENT
END:VCALENDAR