BEGIN:VCALENDAR
VERSION:2.0
PRODID:-//Honey Hollow Nature Center - ECPv6.15.20//NONSGML v1.0//EN
CALSCALE:GREGORIAN
METHOD:PUBLISH
X-ORIGINAL-URL:https://www.honeyhollownaturecenter.org
X-WR-CALDESC:Events for Honey Hollow Nature Center
REFRESH-INTERVAL;VALUE=DURATION:PT1H
X-Robots-Tag:noindex
X-PUBLISHED-TTL:PT1H
BEGIN:VTIMEZONE
TZID:America/New_York
BEGIN:DAYLIGHT
TZOFFSETFROM:-0500
TZOFFSETTO:-0400
TZNAME:EDT
DTSTART:20250309T070000
END:DAYLIGHT
BEGIN:STANDARD
TZOFFSETFROM:-0400
TZOFFSETTO:-0500
TZNAME:EST
DTSTART:20251102T060000
END:STANDARD
BEGIN:DAYLIGHT
TZOFFSETFROM:-0500
TZOFFSETTO:-0400
TZNAME:EDT
DTSTART:20260308T070000
END:DAYLIGHT
BEGIN:STANDARD
TZOFFSETFROM:-0400
TZOFFSETTO:-0500
TZNAME:EST
DTSTART:20261101T060000
END:STANDARD
BEGIN:DAYLIGHT
TZOFFSETFROM:-0500
TZOFFSETTO:-0400
TZNAME:EDT
DTSTART:20270314T070000
END:DAYLIGHT
BEGIN:STANDARD
TZOFFSETFROM:-0400
TZOFFSETTO:-0500
TZNAME:EST
DTSTART:20271107T060000
END:STANDARD
END:VTIMEZONE
BEGIN:VEVENT
DTSTART;TZID=America/New_York:20260902T100000
DTEND;TZID=America/New_York:20260902T110000
DTSTAMP:20260425T083432
CREATED:20251110T185709Z
LAST-MODIFIED:20260325T161025Z
UID:26666-1788343200-1788346800@www.honeyhollownaturecenter.org
SUMMARY:Private Event: Horticultural Therapy
DESCRIPTION:A group from Peaceful Living visits us weekly for two brief\, timed activities led by Nancy Minich\, Registered Horticultural Therapist. The sessions begin with a nature walk and are followed by an activity that provides sensory stimulation to activate new neural pathways. This is a private event.
URL:https://www.honeyhollownaturecenter.org/event/private-event-horticultural-therapy-2/2026-09-02/
LOCATION:Honey Hollow Nature Center\, 2877 Creamery Road\, New Hope\, 18938\, United States
ATTACH;FMTTYPE=image/png:https://www.honeyhollownaturecenter.org/wp-content/uploads/2025/10/horticultural-therapy.png
GEO:40.3725704;-75.0106384
X-APPLE-STRUCTURED-LOCATION;VALUE=URI;X-ADDRESS=Honey Hollow Nature Center 2877 Creamery Road New Hope 18938 United States;X-APPLE-RADIUS=500;X-TITLE=2877 Creamery Road:geo:-75.0106384,40.3725704
END:VEVENT
BEGIN:VEVENT
DTSTART;TZID=America/New_York:20260905T080000
DTEND;TZID=America/New_York:20260905T100000
DTSTAMP:20260425T083432
CREATED:20241207T142027Z
LAST-MODIFIED:20251219T163635Z
UID:22796-1788595200-1788602400@www.honeyhollownaturecenter.org
SUMMARY:Bird Walk
DESCRIPTION:Join our naturalists for a guided bird walk around the Bucks Audubon property every 1st and 3rd Saturday of the month! All ages and experience levels are welcome. Please bring a field guide\, binoculars or borrow some of ours!
URL:https://www.honeyhollownaturecenter.org/event/bird-walk-8/2026-09-05/
LOCATION:Honey Hollow Nature Center\, 2877 Creamery Road\, New Hope\, 18938\, United States
CATEGORIES:Birding
ATTACH;FMTTYPE=image/jpeg:https://www.honeyhollownaturecenter.org/wp-content/uploads/2021/11/winter-birding-image-for-Birding-bonanaza-2017-ad-2-scaled.jpg
GEO:40.3725704;-75.0106384
X-APPLE-STRUCTURED-LOCATION;VALUE=URI;X-ADDRESS=Honey Hollow Nature Center 2877 Creamery Road New Hope 18938 United States;X-APPLE-RADIUS=500;X-TITLE=2877 Creamery Road:geo:-75.0106384,40.3725704
END:VEVENT
BEGIN:VEVENT
DTSTART;TZID=America/New_York:20260910T100000
DTEND;TZID=America/New_York:20260910T110000
DTSTAMP:20260425T083432
CREATED:20251110T192025Z
LAST-MODIFIED:20260325T160704Z
UID:26824-1789034400-1789038000@www.honeyhollownaturecenter.org
SUMMARY:Private Event: Horticultural Therapy
DESCRIPTION:A group from Peaceful Living visits us weekly for two brief\, timed activities led by Nancy Minich\, Registered Horticultural Therapist. The sessions begin with a nature walk and are followed by an activity that provides sensory stimulation to activate new neural pathways. This is a private event.
URL:https://www.honeyhollownaturecenter.org/event/private-event-horticultural-therapy-3/2026-09-10/
LOCATION:Honey Hollow Nature Center\, 2877 Creamery Road\, New Hope\, 18938\, United States
ATTACH;FMTTYPE=image/png:https://www.honeyhollownaturecenter.org/wp-content/uploads/2025/10/horticultural-therapy.png
GEO:40.3725704;-75.0106384
X-APPLE-STRUCTURED-LOCATION;VALUE=URI;X-ADDRESS=Honey Hollow Nature Center 2877 Creamery Road New Hope 18938 United States;X-APPLE-RADIUS=500;X-TITLE=2877 Creamery Road:geo:-75.0106384,40.3725704
END:VEVENT
BEGIN:VEVENT
DTSTART;TZID=America/New_York:20260916T100000
DTEND;TZID=America/New_York:20260916T110000
DTSTAMP:20260425T083432
CREATED:20251110T185709Z
LAST-MODIFIED:20260325T161026Z
UID:26667-1789552800-1789556400@www.honeyhollownaturecenter.org
SUMMARY:Private Event: Horticultural Therapy
DESCRIPTION:A group from Peaceful Living visits us weekly for two brief\, timed activities led by Nancy Minich\, Registered Horticultural Therapist. The sessions begin with a nature walk and are followed by an activity that provides sensory stimulation to activate new neural pathways. This is a private event.
URL:https://www.honeyhollownaturecenter.org/event/private-event-horticultural-therapy-2/2026-09-16/
LOCATION:Honey Hollow Nature Center\, 2877 Creamery Road\, New Hope\, 18938\, United States
ATTACH;FMTTYPE=image/png:https://www.honeyhollownaturecenter.org/wp-content/uploads/2025/10/horticultural-therapy.png
GEO:40.3725704;-75.0106384
X-APPLE-STRUCTURED-LOCATION;VALUE=URI;X-ADDRESS=Honey Hollow Nature Center 2877 Creamery Road New Hope 18938 United States;X-APPLE-RADIUS=500;X-TITLE=2877 Creamery Road:geo:-75.0106384,40.3725704
END:VEVENT
BEGIN:VEVENT
DTSTART;TZID=America/New_York:20260919T080000
DTEND;TZID=America/New_York:20260919T100000
DTSTAMP:20260425T083432
CREATED:20241207T142027Z
LAST-MODIFIED:20251219T163636Z
UID:22798-1789804800-1789812000@www.honeyhollownaturecenter.org
SUMMARY:Bird Walk
DESCRIPTION:Join our naturalists for a guided bird walk around the Bucks Audubon property every 1st and 3rd Saturday of the month! All ages and experience levels are welcome. Please bring a field guide\, binoculars or borrow some of ours!
URL:https://www.honeyhollownaturecenter.org/event/bird-walk-8/2026-09-19/
LOCATION:Honey Hollow Nature Center\, 2877 Creamery Road\, New Hope\, 18938\, United States
CATEGORIES:Birding
ATTACH;FMTTYPE=image/jpeg:https://www.honeyhollownaturecenter.org/wp-content/uploads/2021/11/winter-birding-image-for-Birding-bonanaza-2017-ad-2-scaled.jpg
GEO:40.3725704;-75.0106384
X-APPLE-STRUCTURED-LOCATION;VALUE=URI;X-ADDRESS=Honey Hollow Nature Center 2877 Creamery Road New Hope 18938 United States;X-APPLE-RADIUS=500;X-TITLE=2877 Creamery Road:geo:-75.0106384,40.3725704
END:VEVENT
BEGIN:VEVENT
DTSTART;TZID=America/New_York:20260924T100000
DTEND;TZID=America/New_York:20260924T110000
DTSTAMP:20260425T083432
CREATED:20251110T192025Z
LAST-MODIFIED:20260325T160704Z
UID:26825-1790244000-1790247600@www.honeyhollownaturecenter.org
SUMMARY:Private Event: Horticultural Therapy
DESCRIPTION:A group from Peaceful Living visits us weekly for two brief\, timed activities led by Nancy Minich\, Registered Horticultural Therapist. The sessions begin with a nature walk and are followed by an activity that provides sensory stimulation to activate new neural pathways. This is a private event.
URL:https://www.honeyhollownaturecenter.org/event/private-event-horticultural-therapy-3/2026-09-24/
LOCATION:Honey Hollow Nature Center\, 2877 Creamery Road\, New Hope\, 18938\, United States
ATTACH;FMTTYPE=image/png:https://www.honeyhollownaturecenter.org/wp-content/uploads/2025/10/horticultural-therapy.png
GEO:40.3725704;-75.0106384
X-APPLE-STRUCTURED-LOCATION;VALUE=URI;X-ADDRESS=Honey Hollow Nature Center 2877 Creamery Road New Hope 18938 United States;X-APPLE-RADIUS=500;X-TITLE=2877 Creamery Road:geo:-75.0106384,40.3725704
END:VEVENT
BEGIN:VEVENT
DTSTART;TZID=America/New_York:20260930T100000
DTEND;TZID=America/New_York:20260930T110000
DTSTAMP:20260425T083432
CREATED:20251110T185709Z
LAST-MODIFIED:20260325T161027Z
UID:26668-1790762400-1790766000@www.honeyhollownaturecenter.org
SUMMARY:Private Event: Horticultural Therapy
DESCRIPTION:A group from Peaceful Living visits us weekly for two brief\, timed activities led by Nancy Minich\, Registered Horticultural Therapist. The sessions begin with a nature walk and are followed by an activity that provides sensory stimulation to activate new neural pathways. This is a private event.
URL:https://www.honeyhollownaturecenter.org/event/private-event-horticultural-therapy-2/2026-09-30/
LOCATION:Honey Hollow Nature Center\, 2877 Creamery Road\, New Hope\, 18938\, United States
ATTACH;FMTTYPE=image/png:https://www.honeyhollownaturecenter.org/wp-content/uploads/2025/10/horticultural-therapy.png
GEO:40.3725704;-75.0106384
X-APPLE-STRUCTURED-LOCATION;VALUE=URI;X-ADDRESS=Honey Hollow Nature Center 2877 Creamery Road New Hope 18938 United States;X-APPLE-RADIUS=500;X-TITLE=2877 Creamery Road:geo:-75.0106384,40.3725704
END:VEVENT
END:VCALENDAR