BEGIN:VCALENDAR
VERSION:2.0
PRODID:-//Honey Hollow Nature Center - ECPv6.15.20//NONSGML v1.0//EN
CALSCALE:GREGORIAN
METHOD:PUBLISH
X-ORIGINAL-URL:https://www.honeyhollownaturecenter.org
X-WR-CALDESC:Events for Honey Hollow Nature Center
REFRESH-INTERVAL;VALUE=DURATION:PT1H
X-Robots-Tag:noindex
X-PUBLISHED-TTL:PT1H
BEGIN:VTIMEZONE
TZID:UTC
BEGIN:STANDARD
TZOFFSETFROM:+0000
TZOFFSETTO:+0000
TZNAME:UTC
DTSTART:20170101T000000
END:STANDARD
END:VTIMEZONE
BEGIN:VEVENT
DTSTART;TZID=UTC:20190226T190000
DTEND;TZID=UTC:20190226T210000
DTSTAMP:20260425T085144
CREATED:20190107T193707Z
LAST-MODIFIED:20190225T191523Z
UID:5288-1551207600-1551214800@www.honeyhollownaturecenter.org
SUMMARY:Advocacy in the Watershed
DESCRIPTION:Advocacy in the Watershed: Simple Ways You Can Affect Real\, Positive Change for Our Clean Water Sources \nParticipants will be able to learn about the Honey Hollow and Delaware River Watersheds and how watershed health is important for people\, birds\, and other wildlife! We will discuss ways to advocate for legislation that promotes healthy watersheds and not just discuss\, but act as well! Enjoy great discussion\, networking\, environmental action\, and food (Beer & Pretzels will be provided). \nFree\, Public Event hosted at Bucks County Audubon Society! \nRegistration is required – Click here to save your space!
URL:https://www.honeyhollownaturecenter.org/event/advocacy-in-the-watershed/
LOCATION:Honey Hollow Nature Center\, 2877 Creamery Road\, New Hope\, 18938\, United States
CATEGORIES:Adults,Advocacy
ATTACH;FMTTYPE=image/jpeg:https://www.honeyhollownaturecenter.org/wp-content/uploads/2019/01/watershed-social-media-e1547830717935.jpg
GEO:40.3725704;-75.0106384
X-APPLE-STRUCTURED-LOCATION;VALUE=URI;X-ADDRESS=Honey Hollow Nature Center 2877 Creamery Road New Hope 18938 United States;X-APPLE-RADIUS=500;X-TITLE=2877 Creamery Road:geo:-75.0106384,40.3725704
END:VEVENT
BEGIN:VEVENT
DTSTART;TZID=UTC:20180405T190000
DTEND;TZID=UTC:20180405T200000
DTSTAMP:20260425T085144
CREATED:20171031T202028Z
LAST-MODIFIED:20180228T221142Z
UID:2951-1522954800-1522958400@www.honeyhollownaturecenter.org
SUMMARY:Advocacy & Action - Letter Writing
DESCRIPTION:Ever wanted to write a letter to your congressman\, but couldn’t think of what to say? BCAS is offering an Action Night where you can learn how to write an advocacy letter! We will write some together and send them on their way. This month we will be focusing on Climate Defense Campaign and learning about how PA is trying to make the move to 100% renewable energy! \nThis is a free event. Please bring a friend along – letters are more fun to write while surrounded by great people!
URL:https://www.honeyhollownaturecenter.org/event/advocacy-action-letter-writing-2-2018-04-05/
LOCATION:Honey Hollow Nature Center\, 2877 Creamery Road\, New Hope\, 18938\, United States
CATEGORIES:Adults
ATTACH;FMTTYPE=image/jpeg:https://www.honeyhollownaturecenter.org/wp-content/uploads/2017/10/MGF4527-scaled.jpg
GEO:40.3725704;-75.0106384
X-APPLE-STRUCTURED-LOCATION;VALUE=URI;X-ADDRESS=Honey Hollow Nature Center 2877 Creamery Road New Hope 18938 United States;X-APPLE-RADIUS=500;X-TITLE=2877 Creamery Road:geo:-75.0106384,40.3725704
END:VEVENT
BEGIN:VEVENT
DTSTART;TZID=UTC:20180321T183000
DTEND;TZID=UTC:20180321T200000
DTSTAMP:20260425T085144
CREATED:20171212T234613Z
LAST-MODIFIED:20180320T181356Z
UID:3260-1521657000-1521662400@www.honeyhollownaturecenter.org
SUMMARY:Advocacy for a Cleaner Earth *****Cancelled due to inclement weather****
DESCRIPTION:Join BCAS and other environmental professionals to learn more about our environment and what personal actions we can do to help make the world a better place! \nThis month’s topic is “Saving Our Birds: What’s Killing Our Birds and What You Can Do About It.” presented by Phil Witmer. \nPhil Witmer is an avid birder and conservationist with over 30 years birding experience. He is a past board member of Bucks County Audubon Society and current president of the Delaware Valley Ornithological Club\, one of the oldest birding clubs in the country. He has consulted with Audubon PA and is active in their local BirdTown initiatives. He volunteers banding Northern Saw-whet owls and has attended Powdermill Preserve’s trainings on passerine banding. While certainly not an expert on bird identification\, he has devoted much time to the conservation of birds\, the forces driving their decline and what we need to do to save them. He leads walks at Bucks County Audubon Society and lectures on a variety of related topics. \nThis free event will take place at Delaware Valley University. Parking is off of the New Britain Rd. Entrance to the school.
URL:https://www.honeyhollownaturecenter.org/event/advocacy-for-a-cleaner-earth-4/
LOCATION:Delaware Valley University\, 700 E. Butler Ave\, Doylestown\, PA\, 18901\, United States
CATEGORIES:Adults,Birding
ATTACH;FMTTYPE=image/jpeg:https://www.honeyhollownaturecenter.org/wp-content/uploads/2017/06/MGF2735-scaled.jpg
GEO:40.2970135;-75.1582091
X-APPLE-STRUCTURED-LOCATION;VALUE=URI;X-ADDRESS=Delaware Valley University 700 E. Butler Ave Doylestown PA 18901 United States;X-APPLE-RADIUS=500;X-TITLE=700 E. Butler Ave:geo:-75.1582091,40.2970135
END:VEVENT
BEGIN:VEVENT
DTSTART;TZID=UTC:20180207T183000
DTEND;TZID=UTC:20180207T200000
DTSTAMP:20260425T085144
CREATED:20171117T195709Z
LAST-MODIFIED:20180117T191759Z
UID:3169-1518028200-1518033600@www.honeyhollownaturecenter.org
SUMMARY:Advocacy for a Cleaner Earth
DESCRIPTION:Are you passionate about saving the environment and want to do something more to advocate for it? Learn about advocacy (on a federal AND personal level) regarding different environmental topics (such as climate change\, wildlife conservation\, habitat protection\, etc…) from professionals during this season’s lecture series at Delaware Valley University! \nThis month’s presentation is sponsored with the Doylestown Township’s Environmental Advisory Council and will be presented by Dr. Daniel Duran who will be talking about “Spray and Pray: Misguided Faith in Pesticides Isn’t the Answer to Our Mosquito and Tick Problems.” \nDr. Duran is an Associate Teaching Professor at Drexel and an adjunct member at the Barnes Foundation Arboretum School. He is also president and co-founder of a the non-profit\, Mid-Atlantic Native & Threatened Insect Zoo (MANTIZ). He received a BS in Environmental Science and a Ph.D. in Evolution and Ecology in 2010. He has also worked at the Natural History museum in London and the Simthsonian Tropical Research Institute in Panama. Currently\, he teaches courses about topics pertaining to ecology\, evolution\, insects\, and plants. Dr. Duran is also the co-author of the book\, “A Field Guide to the Tiger Beetles of the United States and Canada\, 2nd Edition.” \nThis program is free and open to the public! We hope to see you and a friend there! \n*Note- please leave yourself some extra time for parking!
URL:https://www.honeyhollownaturecenter.org/event/advocacy-for-a-cleaner-earth-3/
LOCATION:Delaware Valley University\, 700 E. Butler Ave\, Doylestown\, PA\, 18901\, United States
CATEGORIES:Adults,Advocacy,Lecture
ATTACH;FMTTYPE=image/jpeg:https://www.honeyhollownaturecenter.org/wp-content/uploads/2017/06/MGF2735-scaled.jpg
GEO:40.2970135;-75.1582091
X-APPLE-STRUCTURED-LOCATION;VALUE=URI;X-ADDRESS=Delaware Valley University 700 E. Butler Ave Doylestown PA 18901 United States;X-APPLE-RADIUS=500;X-TITLE=700 E. Butler Ave:geo:-75.1582091,40.2970135
END:VEVENT
BEGIN:VEVENT
DTSTART;TZID=UTC:20180110T183000
DTEND;TZID=UTC:20180110T200000
DTSTAMP:20260425T085144
CREATED:20171114T215646Z
LAST-MODIFIED:20180109T200710Z
UID:3091-1515609000-1515614400@www.honeyhollownaturecenter.org
SUMMARY:Advocacy for a Cleaner Earth
DESCRIPTION:Join BCAS and other environmental professionals for a panel discussion about the current state of our environment and what personal actions we can do to help make the world a better place! \nWe will be meeting in Room 104 of the Life Science Building. \nThis free event will take place at Delaware Valley University. Parking is off of the New Britain Rd. Entrance to the school.
URL:https://www.honeyhollownaturecenter.org/event/advocacy-for-a-cleaner-earth-2/
LOCATION:Delaware Valley University\, 700 E. Butler Ave\, Doylestown\, PA\, 18901\, United States
CATEGORIES:Adults,Lecture
ATTACH;FMTTYPE=image/jpeg:https://www.honeyhollownaturecenter.org/wp-content/uploads/2017/06/MGF2735-scaled.jpg
GEO:40.2970135;-75.1582091
X-APPLE-STRUCTURED-LOCATION;VALUE=URI;X-ADDRESS=Delaware Valley University 700 E. Butler Ave Doylestown PA 18901 United States;X-APPLE-RADIUS=500;X-TITLE=700 E. Butler Ave:geo:-75.1582091,40.2970135
END:VEVENT
BEGIN:VEVENT
DTSTART;TZID=UTC:20180104T190000
DTEND;TZID=UTC:20180104T200000
DTSTAMP:20260425T085144
CREATED:20171031T202028Z
LAST-MODIFIED:20180104T220644Z
UID:2947-1515092400-1515096000@www.honeyhollownaturecenter.org
SUMMARY:Advocacy & Action - Letter Writing -CANCELLED
DESCRIPTION:Ever wanted to write a letter to your congressman\, but couldn’t think of what to say? BCAS is offering an Action Night where you can learn how to write an advocacy letter! We will write some together and send them on their way. \nThis is a free event. Please bring a friend along – letters are more fun to write while surrounded by great people! \n*Note- Due to weather\, this evening’s event has been cancelled! Stay tuned for our next Action and Advocacy Night!
URL:https://www.honeyhollownaturecenter.org/event/advocacy-action-letter-writing-2/
LOCATION:Honey Hollow Nature Center\, 2877 Creamery Road\, New Hope\, 18938\, United States
CATEGORIES:Adults
ATTACH;FMTTYPE=image/jpeg:https://www.honeyhollownaturecenter.org/wp-content/uploads/2017/10/MGF4527-scaled.jpg
GEO:40.3725704;-75.0106384
X-APPLE-STRUCTURED-LOCATION;VALUE=URI;X-ADDRESS=Honey Hollow Nature Center 2877 Creamery Road New Hope 18938 United States;X-APPLE-RADIUS=500;X-TITLE=2877 Creamery Road:geo:-75.0106384,40.3725704
END:VEVENT
END:VCALENDAR