BEGIN:VCALENDAR
VERSION:2.0
PRODID:-//Honey Hollow Nature Center - ECPv6.15.20//NONSGML v1.0//EN
CALSCALE:GREGORIAN
METHOD:PUBLISH
X-ORIGINAL-URL:https://www.honeyhollownaturecenter.org
X-WR-CALDESC:Events for Honey Hollow Nature Center
REFRESH-INTERVAL;VALUE=DURATION:PT1H
X-Robots-Tag:noindex
X-PUBLISHED-TTL:PT1H
BEGIN:VTIMEZONE
TZID:UTC
BEGIN:STANDARD
TZOFFSETFROM:+0000
TZOFFSETTO:+0000
TZNAME:UTC
DTSTART:20160101T000000
END:STANDARD
END:VTIMEZONE
BEGIN:VEVENT
DTSTART;TZID=UTC:20230128T150000
DTEND;TZID=UTC:20230128T170000
DTSTAMP:20260421T072227
CREATED:20221116T194822Z
LAST-MODIFIED:20221116T233819Z
UID:16273-1674918000-1674925200@www.honeyhollownaturecenter.org
SUMMARY:2022 Audubon Photography Awards Reception
DESCRIPTION:On Saturday January 28 join us for a wine and cheese reception at 3pm.  National Geographic Certified Educator Marissa Jacobs will speak on “Telling the Story of the Natural World Through Photography”. \nMember Ticket Price $5\, Non-member Ticket Price $10 \nTo purchase tickets to the reception\, click  here!
URL:https://www.honeyhollownaturecenter.org/event/2022-audubon-photography-awards-reception/
LOCATION:Honey Hollow Nature Center\, 2877 Creamery Road\, New Hope\, 18938\, United States
CATEGORIES:Art Exhibition,Special Event
ATTACH;FMTTYPE=image/jpeg:https://www.honeyhollownaturecenter.org/wp-content/uploads/2022/11/Screenshot-2022-11-16-092323.jpg
GEO:40.3725704;-75.0106384
X-APPLE-STRUCTURED-LOCATION;VALUE=URI;X-ADDRESS=Honey Hollow Nature Center 2877 Creamery Road New Hope 18938 United States;X-APPLE-RADIUS=500;X-TITLE=2877 Creamery Road:geo:-75.0106384,40.3725704
END:VEVENT
BEGIN:VEVENT
DTSTART;TZID=UTC:20230126T100000
DTEND;TZID=UTC:20230214T150000
DTSTAMP:20260421T072227
CREATED:20221116T192949Z
LAST-MODIFIED:20221116T194206Z
UID:16264-1674727200-1676386800@www.honeyhollownaturecenter.org
SUMMARY:2022 Audubon Photography Awards Exhibit
DESCRIPTION:In 2022 almost 2\,500 photographers from across the United States and Canada submitted nearly 10\,000 photographs and videos to Audubon’s 13th annual Audubon Photography Awards. Come see these stunning\, large-format examples of the prize winning photos along with background on how they were obtained.  \nOn Saturday January 28 join us for a wine and cheese reception at 3pm.  National Geographic Certified Educator Marissa Jacobs will speak on “Telling the Story of the Natural World Through Photography”.  For tickets to the opening reception\, click here! \nExhibit is open during our normal business hours Monday through Friday 10:00 am to 3:00 pm.
URL:https://www.honeyhollownaturecenter.org/event/2022-audubon-photography-awards-exhibit/
LOCATION:Honey Hollow Nature Center\, 2877 Creamery Road\, New Hope\, 18938\, United States
CATEGORIES:Art Exhibition
ATTACH;FMTTYPE=image/jpeg:https://www.honeyhollownaturecenter.org/wp-content/uploads/2022/11/web_p_1w_lirongertsman_white-tailedptarmigan_professional_highres.jpg
GEO:40.3725704;-75.0106384
X-APPLE-STRUCTURED-LOCATION;VALUE=URI;X-ADDRESS=Honey Hollow Nature Center 2877 Creamery Road New Hope 18938 United States;X-APPLE-RADIUS=500;X-TITLE=2877 Creamery Road:geo:-75.0106384,40.3725704
END:VEVENT
BEGIN:VEVENT
DTSTART;TZID=UTC:20200207T183000
DTEND;TZID=UTC:20200207T200000
DTSTAMP:20260421T072227
CREATED:20200123T232308Z
LAST-MODIFIED:20200123T232308Z
UID:7876-1581100200-1581105600@www.honeyhollownaturecenter.org
SUMMARY:Intro to Botanical Illustration
DESCRIPTION:Join Marissa of the Art of Ecology here at Bucks County Audubon Society for an evening of drawing fun! She’ll help you take a look at how botanical illustration differs from simply drawing a flower and practice from living and sample specimens.\nThis workshop is perfect for those wishing to improve and practice drawing as well as those who have absolutely no drawing experience and just love plants and wish to view them in a new and creative way!\nAll pens\, pencils\, paper\, and plants provided\, but feel free to bring your own if you would like.\nBYOB – so let’s get ready to have some fun! \nSpace is limited\, so register today! Click here to register. A portion of the proceeds is donated back to Bucks Audubon to support our high-quality environmental education programs.
URL:https://www.honeyhollownaturecenter.org/event/intro-to-botanical-illustration/
LOCATION:Honey Hollow Nature Center\, 2877 Creamery Road\, New Hope\, 18938\, United States
CATEGORIES:Adults,Art Exhibition
ORGANIZER;CN="The Art of Ecology":MAILTO:mjacobs@theartofecology.com
GEO:40.3725704;-75.0106384
X-APPLE-STRUCTURED-LOCATION;VALUE=URI;X-ADDRESS=Honey Hollow Nature Center 2877 Creamery Road New Hope 18938 United States;X-APPLE-RADIUS=500;X-TITLE=2877 Creamery Road:geo:-75.0106384,40.3725704
END:VEVENT
BEGIN:VEVENT
DTSTART;VALUE=DATE:20190206
DTEND;VALUE=DATE:20190207
DTSTAMP:20260421T072227
CREATED:20181116T205823Z
LAST-MODIFIED:20181116T210310Z
UID:5025-1549411200-1549497599@www.honeyhollownaturecenter.org
SUMMARY:National Audubon Photography Awards Exhibit Begins!
DESCRIPTION:The National Audubon has selected contest winners from thousands of entries. These photos are now being sent from Audubon Chapter to Chapter to be on display for a few weeks. BCAS is honored to be able to display these award winning photographs. \nPhotos will be on display from February 6th to the 27th\, Visitor Center hours are 10AM-4PM. 
URL:https://www.honeyhollownaturecenter.org/event/national-audubon-photography-awards-exhibit/
LOCATION:Honey Hollow Nature Center\, 2877 Creamery Road\, New Hope\, 18938\, United States
CATEGORIES:Adults,Art Exhibition,Audubon on the Road
ATTACH;FMTTYPE=image/jpeg:https://www.honeyhollownaturecenter.org/wp-content/uploads/2018/11/MGF5028-scaled.jpg
GEO:40.3725704;-75.0106384
X-APPLE-STRUCTURED-LOCATION;VALUE=URI;X-ADDRESS=Honey Hollow Nature Center 2877 Creamery Road New Hope 18938 United States;X-APPLE-RADIUS=500;X-TITLE=2877 Creamery Road:geo:-75.0106384,40.3725704
END:VEVENT
BEGIN:VEVENT
DTSTART;VALUE=DATE:20190201
DTEND;VALUE=DATE:20190202
DTSTAMP:20260421T072227
CREATED:20190131T200812Z
LAST-MODIFIED:20190131T202220Z
UID:5519-1548979200-1549065599@www.honeyhollownaturecenter.org
SUMMARY:Bird Box Decorating Contest Registration Opens!
DESCRIPTION:Celebrate our 50th Anniversary with us by creating exciting home for local bird species through our Bird Box Decorating Contest! \nBox registration opens on Feb. 1st. Deadline to drop decorated box off at Bucks Audubon is March 22nd. Winners announced April 13th at our Earth Day Festival. \nFor rules\, requirements\, and Box registration\, click here!
URL:https://www.honeyhollownaturecenter.org/event/bird-box-decorating-contest-registration-opens/
LOCATION:Honey Hollow Nature Center\, 2877 Creamery Road\, New Hope\, 18938\, United States
CATEGORIES:Adults,Art Exhibition,Birding,Family,PreSchool Explorer,Special Event
ATTACH;FMTTYPE=image/jpeg:https://www.honeyhollownaturecenter.org/wp-content/uploads/2019/01/MGJ5338-scaled.jpg
GEO:40.3725704;-75.0106384
X-APPLE-STRUCTURED-LOCATION;VALUE=URI;X-ADDRESS=Honey Hollow Nature Center 2877 Creamery Road New Hope 18938 United States;X-APPLE-RADIUS=500;X-TITLE=2877 Creamery Road:geo:-75.0106384,40.3725704
END:VEVENT
BEGIN:VEVENT
DTSTART;TZID=UTC:20180119T183000
DTEND;TZID=UTC:20180119T203000
DTSTAMP:20260421T072227
CREATED:20171114T220759Z
LAST-MODIFIED:20171116T201429Z
UID:3096-1516386600-1516393800@www.honeyhollownaturecenter.org
SUMMARY:Nat. Audubon Photo Exhibit Opening Reception
DESCRIPTION:Need an excuse to go out on a date night? We’ve got the perfect event! Join us as we celebrate the opening of the National Audubon Photography Exhibit! \nThe Event includes: \n\nAn opportunity to see some of the most amazing Bird Photography of the year!\nA presentation on Birding Photography by Jim Greenwood!\nWine and refreshments!\n\nAdmission:  $15/BCAS Members and $20/Non-Members \nPurchase your tickets today by clicking here!
URL:https://www.honeyhollownaturecenter.org/event/nat-audubon-photo-exhibit-opening-reception/
LOCATION:Honey Hollow Nature Center\, 2877 Creamery Road\, New Hope\, 18938\, United States
CATEGORIES:Adults,Art Exhibition
ATTACH;FMTTYPE=image/jpeg:https://www.honeyhollownaturecenter.org/wp-content/uploads/2017/11/MGF5028-scaled.jpg
GEO:40.3725704;-75.0106384
X-APPLE-STRUCTURED-LOCATION;VALUE=URI;X-ADDRESS=Honey Hollow Nature Center 2877 Creamery Road New Hope 18938 United States;X-APPLE-RADIUS=500;X-TITLE=2877 Creamery Road:geo:-75.0106384,40.3725704
END:VEVENT
BEGIN:VEVENT
DTSTART;TZID=UTC:20171106T100000
DTEND;TZID=UTC:20171106T160000
DTSTAMP:20260421T072227
CREATED:20171107T011931Z
LAST-MODIFIED:20171107T011931Z
UID:2979-1509962400-1509984000@www.honeyhollownaturecenter.org
SUMMARY:Harris & Fran Brown Photography Display Starts
DESCRIPTION:Local bird photographers\, Harris and Fran Brown\, are displaying their incredible pieces here at BCAS for one month as part of our “Rotating Artist Display!” They will be on display until December 6th. \nFrom waterfowl\, to songbirds\, to raptors\, this couple has captured it all in mesmerizing color and detail. All work is for sale with 25% of the proceeds going back to support the high-quality environmental education programs here at Bucks County Audubon Society. \nThe exhibit is open during normal business hours (Mon-Fri\, 10am-4pm)\, with occasional weekend hours. Please call in advance to see what weekends are available.
URL:https://www.honeyhollownaturecenter.org/event/harris-fran-brown-photography-display-starts/
LOCATION:Honey Hollow Nature Center\, 2877 Creamery Road\, New Hope\, 18938\, United States
CATEGORIES:Art Exhibition
ATTACH;FMTTYPE=image/jpeg:https://www.honeyhollownaturecenter.org/wp-content/uploads/2017/11/harris-and-fran-scaled.jpg
GEO:40.3725704;-75.0106384
X-APPLE-STRUCTURED-LOCATION;VALUE=URI;X-ADDRESS=Honey Hollow Nature Center 2877 Creamery Road New Hope 18938 United States;X-APPLE-RADIUS=500;X-TITLE=2877 Creamery Road:geo:-75.0106384,40.3725704
END:VEVENT
END:VCALENDAR