BEGIN:VCALENDAR
VERSION:2.0
PRODID:-//Honey Hollow Nature Center - ECPv6.15.20//NONSGML v1.0//EN
CALSCALE:GREGORIAN
METHOD:PUBLISH
X-WR-CALNAME:Honey Hollow Nature Center
X-ORIGINAL-URL:https://www.honeyhollownaturecenter.org
X-WR-CALDESC:Events for Honey Hollow Nature Center
REFRESH-INTERVAL;VALUE=DURATION:PT1H
X-Robots-Tag:noindex
X-PUBLISHED-TTL:PT1H
BEGIN:VTIMEZONE
TZID:UTC
BEGIN:STANDARD
TZOFFSETFROM:+0000
TZOFFSETTO:+0000
TZNAME:UTC
DTSTART:20180101T000000
END:STANDARD
END:VTIMEZONE
BEGIN:VEVENT
DTSTART;VALUE=DATE:20190201
DTEND;VALUE=DATE:20190202
DTSTAMP:20260422T114719
CREATED:20190131T200812Z
LAST-MODIFIED:20190131T202220Z
UID:5519-1548979200-1549065599@www.honeyhollownaturecenter.org
SUMMARY:Bird Box Decorating Contest Registration Opens!
DESCRIPTION:Celebrate our 50th Anniversary with us by creating exciting home for local bird species through our Bird Box Decorating Contest! \nBox registration opens on Feb. 1st. Deadline to drop decorated box off at Bucks Audubon is March 22nd. Winners announced April 13th at our Earth Day Festival. \nFor rules\, requirements\, and Box registration\, click here!
URL:https://www.honeyhollownaturecenter.org/event/bird-box-decorating-contest-registration-opens/
LOCATION:Honey Hollow Nature Center\, 2877 Creamery Road\, New Hope\, 18938\, United States
CATEGORIES:Adults,Art Exhibition,Birding,Family,PreSchool Explorer,Special Event
ATTACH;FMTTYPE=image/jpeg:https://www.honeyhollownaturecenter.org/wp-content/uploads/2019/01/MGJ5338-scaled.jpg
GEO:40.3725704;-75.0106384
X-APPLE-STRUCTURED-LOCATION;VALUE=URI;X-ADDRESS=Honey Hollow Nature Center 2877 Creamery Road New Hope 18938 United States;X-APPLE-RADIUS=500;X-TITLE=2877 Creamery Road:geo:-75.0106384,40.3725704
END:VEVENT
END:VCALENDAR