BEGIN:VCALENDAR
VERSION:2.0
PRODID:-//Honey Hollow Nature Center - ECPv6.15.20//NONSGML v1.0//EN
CALSCALE:GREGORIAN
METHOD:PUBLISH
X-ORIGINAL-URL:https://www.honeyhollownaturecenter.org
X-WR-CALDESC:Events for Honey Hollow Nature Center
REFRESH-INTERVAL;VALUE=DURATION:PT1H
X-Robots-Tag:noindex
X-PUBLISHED-TTL:PT1H
BEGIN:VTIMEZONE
TZID:UTC
BEGIN:STANDARD
TZOFFSETFROM:+0000
TZOFFSETTO:+0000
TZNAME:UTC
DTSTART:20160101T000000
END:STANDARD
END:VTIMEZONE
BEGIN:VEVENT
DTSTART;TZID=UTC:20190328T181500
DTEND;TZID=UTC:20190328T200000
DTSTAMP:20260422T092450
CREATED:20190207T232040Z
LAST-MODIFIED:20190207T232040Z
UID:5589-1553796900-1553803200@www.honeyhollownaturecenter.org
SUMMARY:Nature Lover's Book Club
DESCRIPTION:We welcome you to join us as we ready through and discuss “The World is our Classroom” by C. Ross during our Nature Lover’s Book club meeting! This is open to all and we welcome your input into our readings! \nClick here for discussion questions and information regarding the book club.
URL:https://www.honeyhollownaturecenter.org/event/nature-lovers-book-club-9/
LOCATION:Doylestown Bookshop\, 16 S. Main St.\, Doylestown\, PA\, 18901\, United States
CATEGORIES:Adults
ATTACH;FMTTYPE=image/jpeg:https://www.honeyhollownaturecenter.org/wp-content/uploads/2016/11/MGF4925-scaled.jpg
GEO:40.3094746;-75.1306958
X-APPLE-STRUCTURED-LOCATION;VALUE=URI;X-ADDRESS=Doylestown Bookshop 16 S. Main St. Doylestown PA 18901 United States;X-APPLE-RADIUS=500;X-TITLE=16 S. Main St.:geo:-75.1306958,40.3094746
END:VEVENT
BEGIN:VEVENT
DTSTART;TZID=UTC:20190228T181500
DTEND;TZID=UTC:20190228T200000
DTSTAMP:20260422T092450
CREATED:20190102T215346Z
LAST-MODIFIED:20190102T215346Z
UID:5268-1551377700-1551384000@www.honeyhollownaturecenter.org
SUMMARY:Nature Lover's Book Club
DESCRIPTION:Bucks County Audubon Society welcomes you to join us at the Doylestown Bookshop for a fun and engaging discussion about all things nature. We will be meeting the 4th Thursday evening of the month\, starting at 6:15 p.m. We welcome your insights and input for future readings. Bring a friend and make a new one and we look forward to seeing you at the next meeting. \nThis month\, we shall be discussing “The Sound of a Wild Snail Eating” by E. Bailey. \nIn a work that beautifully demonstrates the rewards of closely observing nature\, Elisabeth Tova Bailey shares an inspiring and intimate story of her encounter with a Neohelix albolabris-a common woodland snail. While an illness keeps her bedridden\, Bailey watches a wild snail that has taken up residence on her nightstand. As a result\, she discovers the solace and sense of wonder that this mysterious creature brings and comes to a greater understanding of her own place in the world. Intrigued by the snail’s molluscan anatomy\, cryptic defenses\, clear decision making\, hydraulic locomotion\, and courtship activities\, Bailey becomes an astute and amused observer\, offering a candid and engaging look into the curious life of this underappreciated small animal.The Sound of a Wild Snail Eating is a remarkable journey of survival and resilience\, showing us how a small part of the natural world can illuminate our own human existence\, while providing an appreciation of what it means to be fully alive.
URL:https://www.honeyhollownaturecenter.org/event/nature-lovers-book-club-8/
LOCATION:Doylestown Bookshop\, 16 S. Main St.\, Doylestown\, PA\, 18901\, United States
CATEGORIES:Adults
ATTACH;FMTTYPE=image/jpeg:https://www.honeyhollownaturecenter.org/wp-content/uploads/2016/11/MGF4925-scaled.jpg
GEO:40.3094746;-75.1306958
X-APPLE-STRUCTURED-LOCATION;VALUE=URI;X-ADDRESS=Doylestown Bookshop 16 S. Main St. Doylestown PA 18901 United States;X-APPLE-RADIUS=500;X-TITLE=16 S. Main St.:geo:-75.1306958,40.3094746
END:VEVENT
BEGIN:VEVENT
DTSTART;TZID=UTC:20190124T181500
DTEND;TZID=UTC:20190124T200000
DTSTAMP:20260422T092450
CREATED:20181211T201310Z
LAST-MODIFIED:20181211T201310Z
UID:5113-1548353700-1548360000@www.honeyhollownaturecenter.org
SUMMARY:Nature Lover's Book Club
DESCRIPTION:The Bucks County Audubon Society welcomes you to join us at the Doylestown Bookshop for a fun and engaging discussion about all things nature. We will be meeting the 4th Thursday evening of the month\, starting at 6:15 p.m. We welcome your insights and input for future readings. Bring a friend and make a new one and we look forward to seeing you at the next meeting. \nThis month\, we shall be reading “1491” by Charles C. Mann! Click here to check out the discussion questions and for more information on the group.
URL:https://www.honeyhollownaturecenter.org/event/nature-lovers-book-club-7/
LOCATION:Doylestown Bookshop\, 16 S. Main St.\, Doylestown\, PA\, 18901\, United States
CATEGORIES:Adults
ATTACH;FMTTYPE=image/jpeg:https://www.honeyhollownaturecenter.org/wp-content/uploads/2016/11/MGF4925-scaled.jpg
GEO:40.3094746;-75.1306958
X-APPLE-STRUCTURED-LOCATION;VALUE=URI;X-ADDRESS=Doylestown Bookshop 16 S. Main St. Doylestown PA 18901 United States;X-APPLE-RADIUS=500;X-TITLE=16 S. Main St.:geo:-75.1306958,40.3094746
END:VEVENT
BEGIN:VEVENT
DTSTART;TZID=UTC:20180125T181500
DTEND;TZID=UTC:20180125T200000
DTSTAMP:20260422T092450
CREATED:20171114T225151Z
LAST-MODIFIED:20171114T225151Z
UID:3117-1516904100-1516910400@www.honeyhollownaturecenter.org
SUMMARY:Nature Lover's Book Club
DESCRIPTION:Calling all nature enthusiasts and book worms for the Bucks County Audubon Society Nature Lover’s Book Club to be held at the Doylestown Bookshop tonight! \nThe group is open to anyone who has a passion for the environment and wants to share and discuss with like-minded individuals. To get started on your reading journey\, visit our blog site\, www.natureloversbookclub.blogspot.com! Here you will find discussion questions\, future book lists\, and a link to purchase the book (at discount!) from the Doylestown Bookshop. We welcome your insights and input for these readings!
URL:https://www.honeyhollownaturecenter.org/event/nature-lovers-book-club-6/2018-01-25/
LOCATION:Doylestown Bookshop\, 16 S. Main St.\, Doylestown\, PA\, 18901\, United States
CATEGORIES:Adults
ATTACH;FMTTYPE=image/jpeg:https://www.honeyhollownaturecenter.org/wp-content/uploads/2016/11/MGF4925-scaled.jpg
GEO:40.3094746;-75.1306958
X-APPLE-STRUCTURED-LOCATION;VALUE=URI;X-ADDRESS=Doylestown Bookshop 16 S. Main St. Doylestown PA 18901 United States;X-APPLE-RADIUS=500;X-TITLE=16 S. Main St.:geo:-75.1306958,40.3094746
END:VEVENT
BEGIN:VEVENT
DTSTART;TZID=UTC:20180118T181500
DTEND;TZID=UTC:20180118T200000
DTSTAMP:20260422T092450
CREATED:20171127T190625Z
LAST-MODIFIED:20171127T190625Z
UID:3183-1516299300-1516305600@www.honeyhollownaturecenter.org
SUMMARY:Nature Lover's Book Club Extra Discussion
DESCRIPTION:Join BCAS and the Nature Lover’s Book Club for an evening of discussion around the Naomi Kline’s book\, “This Changes Everything”. We have already read the book\, but the discussion was so great that we wanted to have an extra night of it! \nThis is open to the public. Even if you missed the first round of discussion for this book\, you’ll be glad you came to this one!
URL:https://www.honeyhollownaturecenter.org/event/nature-lovers-book-club-extra-discussion/
LOCATION:Honey Hollow Nature Center\, 2877 Creamery Road\, New Hope\, 18938\, United States
CATEGORIES:Adults
GEO:40.3725704;-75.0106384
X-APPLE-STRUCTURED-LOCATION;VALUE=URI;X-ADDRESS=Honey Hollow Nature Center 2877 Creamery Road New Hope 18938 United States;X-APPLE-RADIUS=500;X-TITLE=2877 Creamery Road:geo:-75.0106384,40.3725704
END:VEVENT
BEGIN:VEVENT
DTSTART;TZID=UTC:20170525T181500
DTEND;TZID=UTC:20170525T200000
DTSTAMP:20260422T092450
CREATED:20170512T234611Z
LAST-MODIFIED:20170512T234611Z
UID:2104-1495736100-1495742400@www.honeyhollownaturecenter.org
SUMMARY:Nature Lover's Book Club
DESCRIPTION:Calling all nature enthusiasts and book worms for the Bucks County Audubon Society Nature Lover’s Book Club to be held at the Doylestown Bookshop every 4th Thursday of the month at 6:15pm! \nThe group is open to anyone who has a passion for the environment and wants to share and discuss with like-minded individuals. To get started on your reading journey\, visit our blog site\, www.natureloversbookclub.blogspot.com! Here you will find discussion questions\, future book lists\, and a link to purchase the book (at discount!) from the Doylestown Bookshop. We welcome your insights and input for these readings!
URL:https://www.honeyhollownaturecenter.org/event/nature-lovers-book-club-4/2017-05-25/
LOCATION:Doylestown Bookshop\, 16 S. Main St.\, Doylestown\, PA\, 18901\, United States
CATEGORIES:Adults
ATTACH;FMTTYPE=image/jpeg:https://www.honeyhollownaturecenter.org/wp-content/uploads/2016/11/MGF4925-scaled.jpg
GEO:40.3094746;-75.1306958
X-APPLE-STRUCTURED-LOCATION;VALUE=URI;X-ADDRESS=Doylestown Bookshop 16 S. Main St. Doylestown PA 18901 United States;X-APPLE-RADIUS=500;X-TITLE=16 S. Main St.:geo:-75.1306958,40.3094746
END:VEVENT
BEGIN:VEVENT
DTSTART;TZID=UTC:20170427T181500
DTEND;TZID=UTC:20170427T200000
DTSTAMP:20260422T092450
CREATED:20170224T235833Z
LAST-MODIFIED:20170224T235833Z
UID:1873-1493316900-1493323200@www.honeyhollownaturecenter.org
SUMMARY:Nature Lover's Book Club
DESCRIPTION:The Bucks County Audubon Society at the Honey Hollow Educational Environmental Center welcomes you to join us at the Doylestown Bookshop for a fun and engaging discussion about all things nature. We will be meeting the 4th Thursday evening of the month\, starting at 6:15 p.m. We welcome your insights and input for future readings. Bring a friend and make a new one and we look forward to seeing you at the next meeting. \nThis month\, we shall be reading “The Invention of Nature\,” by Andrea Wulf. Visit Nature Lover’s Book Club blog for discussion questions and book summaries!
URL:https://www.honeyhollownaturecenter.org/event/nature-lovers-book-club-3/
LOCATION:Doylestown Bookshop\, 16 S. Main St.\, Doylestown\, PA\, 18901\, United States
CATEGORIES:Adults
ATTACH;FMTTYPE=image/jpeg:https://www.honeyhollownaturecenter.org/wp-content/uploads/2016/11/MGF4925-scaled.jpg
GEO:40.3094746;-75.1306958
X-APPLE-STRUCTURED-LOCATION;VALUE=URI;X-ADDRESS=Doylestown Bookshop 16 S. Main St. Doylestown PA 18901 United States;X-APPLE-RADIUS=500;X-TITLE=16 S. Main St.:geo:-75.1306958,40.3094746
END:VEVENT
BEGIN:VEVENT
DTSTART;TZID=UTC:20170323T061500
DTEND;TZID=UTC:20170323T200000
DTSTAMP:20260422T092450
CREATED:20170224T234637Z
LAST-MODIFIED:20170224T234637Z
UID:1871-1490249700-1490299200@www.honeyhollownaturecenter.org
SUMMARY:Nature Lover's Book Club
DESCRIPTION:The Bucks County Audubon Society at the Honey Hollow Educational Environmental Center welcomes you to join us at the Doylestown Bookshop for a fun and engaging discussion about all things nature. We will be meeting the 4th Thursday evening of the month\, starting at 6:15 p.m. We welcome your insights and input for future readings. Bring a friend and make a new one and we look forward to seeing you at the next meeting. \nThis month\, we shall be reading “The Forest Unseen\,” by David G. Haskell. Visit Nature Lover’s Book Club blog for discussion questions and book summaries!
URL:https://www.honeyhollownaturecenter.org/event/nature-lovers-book-club-2/
LOCATION:Doylestown Bookshop\, 16 S. Main St.\, Doylestown\, PA\, 18901\, United States
CATEGORIES:Adults
GEO:40.3094746;-75.1306958
X-APPLE-STRUCTURED-LOCATION;VALUE=URI;X-ADDRESS=Doylestown Bookshop 16 S. Main St. Doylestown PA 18901 United States;X-APPLE-RADIUS=500;X-TITLE=16 S. Main St.:geo:-75.1306958,40.3094746
END:VEVENT
END:VCALENDAR