BEGIN:VCALENDAR
VERSION:2.0
PRODID:-//Honey Hollow Nature Center - ECPv6.15.20//NONSGML v1.0//EN
CALSCALE:GREGORIAN
METHOD:PUBLISH
X-ORIGINAL-URL:https://www.honeyhollownaturecenter.org
X-WR-CALDESC:Events for Honey Hollow Nature Center
REFRESH-INTERVAL;VALUE=DURATION:PT1H
X-Robots-Tag:noindex
X-PUBLISHED-TTL:PT1H
BEGIN:VTIMEZONE
TZID:UTC
BEGIN:STANDARD
TZOFFSETFROM:+0000
TZOFFSETTO:+0000
TZNAME:UTC
DTSTART:20170101T000000
END:STANDARD
END:VTIMEZONE
BEGIN:VEVENT
DTSTART;TZID=UTC:20180505T130000
DTEND;TZID=UTC:20180505T150000
DTSTAMP:20260422T062345
CREATED:20180215T201848Z
LAST-MODIFIED:20180215T201848Z
UID:3511-1525525200-1525532400@www.honeyhollownaturecenter.org
SUMMARY:Book Signing with Maya van Rossum
DESCRIPTION:Join veteran environmentalist Maya van Rossum at Doylestown Bookshop as she discusses her new book\, The Green Amendment: Securing our Right to a Healthy Environment\, followed by Q&A and signing. Come out and meet Maya\, pick up a copy of the book\, and learn about the future of environmental advocacy.
URL:https://www.honeyhollownaturecenter.org/event/book-signing-with-maya-van-rossum/
LOCATION:Doylestown Bookshop\, 16 S. Main St.\, Doylestown\, PA\, 18901\, United States
CATEGORIES:Adults
ATTACH;FMTTYPE=image/jpeg:https://www.honeyhollownaturecenter.org/wp-content/uploads/2018/02/green.jpg
GEO:40.3094746;-75.1306958
X-APPLE-STRUCTURED-LOCATION;VALUE=URI;X-ADDRESS=Doylestown Bookshop 16 S. Main St. Doylestown PA 18901 United States;X-APPLE-RADIUS=500;X-TITLE=16 S. Main St.:geo:-75.1306958,40.3094746
END:VEVENT
END:VCALENDAR