BEGIN:VCALENDAR
VERSION:2.0
PRODID:-//Honey Hollow Nature Center - ECPv6.15.20//NONSGML v1.0//EN
CALSCALE:GREGORIAN
METHOD:PUBLISH
X-WR-CALNAME:Honey Hollow Nature Center
X-ORIGINAL-URL:https://www.honeyhollownaturecenter.org
X-WR-CALDESC:Events for Honey Hollow Nature Center
REFRESH-INTERVAL;VALUE=DURATION:PT1H
X-Robots-Tag:noindex
X-PUBLISHED-TTL:PT1H
BEGIN:VTIMEZONE
TZID:America/New_York
BEGIN:DAYLIGHT
TZOFFSETFROM:-0500
TZOFFSETTO:-0400
TZNAME:EDT
DTSTART:20240310T070000
END:DAYLIGHT
BEGIN:STANDARD
TZOFFSETFROM:-0400
TZOFFSETTO:-0500
TZNAME:EST
DTSTART:20241103T060000
END:STANDARD
BEGIN:DAYLIGHT
TZOFFSETFROM:-0500
TZOFFSETTO:-0400
TZNAME:EDT
DTSTART:20250309T070000
END:DAYLIGHT
BEGIN:STANDARD
TZOFFSETFROM:-0400
TZOFFSETTO:-0500
TZNAME:EST
DTSTART:20251102T060000
END:STANDARD
BEGIN:DAYLIGHT
TZOFFSETFROM:-0500
TZOFFSETTO:-0400
TZNAME:EDT
DTSTART:20260308T070000
END:DAYLIGHT
BEGIN:STANDARD
TZOFFSETFROM:-0400
TZOFFSETTO:-0500
TZNAME:EST
DTSTART:20261101T060000
END:STANDARD
END:VTIMEZONE
BEGIN:VTIMEZONE
TZID:UTC
BEGIN:STANDARD
TZOFFSETFROM:+0000
TZOFFSETTO:+0000
TZNAME:UTC
DTSTART:20190101T000000
END:STANDARD
END:VTIMEZONE
BEGIN:VEVENT
DTSTART;TZID=America/New_York:20250503T103000
DTEND;TZID=America/New_York:20250503T153000
DTSTAMP:20260420T134526
CREATED:20241212T191056Z
LAST-MODIFIED:20250201T013149Z
UID:20350-1746268200-1746286200@www.honeyhollownaturecenter.org
SUMMARY:Earth Day Festival 2025
DESCRIPTION:Join us for our 8th Annual Earth Day Festival!\n\nSpring brings warmer days and it’s the perfect opportunity to enjoy the great outdoors with family and friends! Join us in celebrating the incredible planet we call home at our Earth Day Festival\, packed with exciting programs and activities designed to inspire a deeper connection with nature. \nExplore and shop from eco-conscious vendors\, check out animals in the petting zoo\, and discover more about local green industries and environmental organizations making a difference in our community. \nNew this year! We’re hosting a poster contest open to everyone ages 4 and up—no upper age limit. Submit your poster by April 3\, and see it displayed during the festival. Check out the contest rules\, and get creative—we can’t wait to see your work! \nAdmission to the festival is free\, though donations to Bucks Audubon are greatly appreciated and help support our exceptional environmental education programs year-round. While browsing\, we recommend having a credit card handy (preferred for minimal cash handling) to support our wonderful eco-friendly vendors. \nThe Earth Day Festival will take place outdoors\, rain or shine\, so dress for the weather and get ready to get outside\, explore\, and relax in nature! \nVendor Application Sponsor Info. Volunteer Form \nA huge thank you to our 2024 sponsors!
URL:https://www.honeyhollownaturecenter.org/event/earth-day-event/
LOCATION:Honey Hollow Nature Center\, 2877 Creamery Road\, New Hope\, 18938\, United States
CATEGORIES:Family
ATTACH;FMTTYPE=image/png:https://www.honeyhollownaturecenter.org/wp-content/uploads/2024/12/Earth-Day-Festival-1.png
GEO:40.3725704;-75.0106384
X-APPLE-STRUCTURED-LOCATION;VALUE=URI;X-ADDRESS=Honey Hollow Nature Center 2877 Creamery Road New Hope 18938 United States;X-APPLE-RADIUS=500;X-TITLE=2877 Creamery Road:geo:-75.0106384,40.3725704
END:VEVENT
BEGIN:VEVENT
DTSTART;TZID=UTC:20200627T100000
DTEND;TZID=UTC:20200627T150000
DTSTAMP:20260420T134526
CREATED:20190129T200953Z
LAST-MODIFIED:20211123T224339Z
UID:5446-1593252000-1593270000@www.honeyhollownaturecenter.org
SUMMARY:Earth Day Festival
DESCRIPTION:Join us as we celebrate our 5th annual Earth Day Festival – While we had to reschedule from our typical April date\, isn’t EVERYDAY Earth Day?! \nFestival starts at 10am and continues until 1pm. We have so many great activities planned\, all geared to getting you and your family out\, enjoying and learning more about nature. View and purchase goods from environmentally friendly vendors and learn more about environmental organizations in our area! Registration for this Zoom virtual eventis free\, but donations to Bucks Audubon are greatly appreciated and benefit our high-quality environmental education programming through out the year. \n  \n\nSchedule of Virtual Festival Events:\n\n10:00  Introduction/Review of the Day\n10:10  Birds Watching Intro (25 minutes) with Q&A (10 minutes)\n10:45  2-4 Vendor/Sponsor videos/highlights\n10:55  Pond Program/Exploration (25 minutes) with Q&A (10 minutes)\n11:30  2-4 Vendor/Sponsor videos/highlights\n11:40  Insect Hunt/Program (25 minutes) with Q&A (10 minutes)\n12:15  2-4 Vendor/Sponsor videos/highlights\n12:25  Stream Program Exploration (25 minutes) with Q&A (10 minutes)\n1: 00  Wrap-Up\n\n			\n			\n				\n				\n				\n				\n				\n				Become an Earth Day Sponsor\n			\n				Become an Earth Day Vendor\n			\n				Register for the Zoom Event
URL:https://www.honeyhollownaturecenter.org/event/earthdayfestival/
LOCATION:Honey Hollow Nature Center\, 2877 Creamery Road\, New Hope\, 18938\, United States
CATEGORIES:Adults,Advocacy,Birding,Citizen Science,Family,Special Event
GEO:40.3725704;-75.0106384
X-APPLE-STRUCTURED-LOCATION;VALUE=URI;X-ADDRESS=Honey Hollow Nature Center 2877 Creamery Road New Hope 18938 United States;X-APPLE-RADIUS=500;X-TITLE=2877 Creamery Road:geo:-75.0106384,40.3725704
END:VEVENT
END:VCALENDAR