BEGIN:VCALENDAR
VERSION:2.0
PRODID:-//Honey Hollow Nature Center - ECPv6.15.20//NONSGML v1.0//EN
CALSCALE:GREGORIAN
METHOD:PUBLISH
X-ORIGINAL-URL:https://www.honeyhollownaturecenter.org
X-WR-CALDESC:Events for Honey Hollow Nature Center
REFRESH-INTERVAL;VALUE=DURATION:PT1H
X-Robots-Tag:noindex
X-PUBLISHED-TTL:PT1H
BEGIN:VTIMEZONE
TZID:America/New_York
BEGIN:DAYLIGHT
TZOFFSETFROM:-0500
TZOFFSETTO:-0400
TZNAME:EDT
DTSTART:20240310T070000
END:DAYLIGHT
BEGIN:STANDARD
TZOFFSETFROM:-0400
TZOFFSETTO:-0500
TZNAME:EST
DTSTART:20241103T060000
END:STANDARD
BEGIN:DAYLIGHT
TZOFFSETFROM:-0500
TZOFFSETTO:-0400
TZNAME:EDT
DTSTART:20250309T070000
END:DAYLIGHT
BEGIN:STANDARD
TZOFFSETFROM:-0400
TZOFFSETTO:-0500
TZNAME:EST
DTSTART:20251102T060000
END:STANDARD
BEGIN:DAYLIGHT
TZOFFSETFROM:-0500
TZOFFSETTO:-0400
TZNAME:EDT
DTSTART:20260308T070000
END:DAYLIGHT
BEGIN:STANDARD
TZOFFSETFROM:-0400
TZOFFSETTO:-0500
TZNAME:EST
DTSTART:20261101T060000
END:STANDARD
END:VTIMEZONE
BEGIN:VEVENT
DTSTART;TZID=America/New_York:20250913T140000
DTEND;TZID=America/New_York:20250913T170000
DTSTAMP:20260420T134357
CREATED:20250709T151137Z
LAST-MODIFIED:20250818T155056Z
UID:23819-1757772000-1757782800@www.honeyhollownaturecenter.org
SUMMARY:Falconry at Honey Hollow
DESCRIPTION:Join us for an exciting program on the Sport of Kings – Falconry!   \nMaster Falconer Gregory Wojtera will present an engaging program on the sport of kings – falconry! Discover the fascinating history and traditions of this ancient practice\, explore the natural history and biology of local raptors\, meet the birds up close\, and have your questions answered by an expert. \nBCAS Members age 18 and up are eligible for the flight experience! The flight experience is a chance to hold the birds on your falconry gauntlet and experience the unique thrill of having a hawk fly freely from your glove and back to you. There are limited spots available\, so sign up right away! \nLecture at 2:00 p.m.: Free for members\, $10 for non-members \nFlight experience\, 3:00-5:00 p.m.: Limited availability for members age 18+ only. Interested? Become a member today and then sign up for the experience. THE FLIGHT EXPERIENCE HAS SOLD OUT. ANOTHER EXPERIENCE WILL BE SCHEDULED IN SPRING 2026. STAY TUNED! \nRegister here.  
URL:https://www.honeyhollownaturecenter.org/event/falconry-at-honey-hollow/
LOCATION:Honey Hollow Nature Center\, 2877 Creamery Road\, New Hope\, 18938\, United States
CATEGORIES:Adults,Lecture,Member Event,Special Event
ATTACH;FMTTYPE=image/jpeg:https://www.honeyhollownaturecenter.org/wp-content/uploads/2023/05/Falconry.jpg
GEO:40.3725704;-75.0106384
X-APPLE-STRUCTURED-LOCATION;VALUE=URI;X-ADDRESS=Honey Hollow Nature Center 2877 Creamery Road New Hope 18938 United States;X-APPLE-RADIUS=500;X-TITLE=2877 Creamery Road:geo:-75.0106384,40.3725704
END:VEVENT
END:VCALENDAR