BEGIN:VCALENDAR
VERSION:2.0
PRODID:-//Honey Hollow Nature Center - ECPv6.15.20//NONSGML v1.0//EN
CALSCALE:GREGORIAN
METHOD:PUBLISH
X-WR-CALNAME:Honey Hollow Nature Center
X-ORIGINAL-URL:https://www.honeyhollownaturecenter.org
X-WR-CALDESC:Events for Honey Hollow Nature Center
REFRESH-INTERVAL;VALUE=DURATION:PT1H
X-Robots-Tag:noindex
X-PUBLISHED-TTL:PT1H
BEGIN:VTIMEZONE
TZID:America/New_York
BEGIN:DAYLIGHT
TZOFFSETFROM:-0500
TZOFFSETTO:-0400
TZNAME:EDT
DTSTART:20240310T070000
END:DAYLIGHT
BEGIN:STANDARD
TZOFFSETFROM:-0400
TZOFFSETTO:-0500
TZNAME:EST
DTSTART:20241103T060000
END:STANDARD
BEGIN:DAYLIGHT
TZOFFSETFROM:-0500
TZOFFSETTO:-0400
TZNAME:EDT
DTSTART:20250309T070000
END:DAYLIGHT
BEGIN:STANDARD
TZOFFSETFROM:-0400
TZOFFSETTO:-0500
TZNAME:EST
DTSTART:20251102T060000
END:STANDARD
BEGIN:DAYLIGHT
TZOFFSETFROM:-0500
TZOFFSETTO:-0400
TZNAME:EDT
DTSTART:20260308T070000
END:DAYLIGHT
BEGIN:STANDARD
TZOFFSETFROM:-0400
TZOFFSETTO:-0500
TZNAME:EST
DTSTART:20261101T060000
END:STANDARD
BEGIN:DAYLIGHT
TZOFFSETFROM:-0500
TZOFFSETTO:-0400
TZNAME:EDT
DTSTART:20270314T070000
END:DAYLIGHT
BEGIN:STANDARD
TZOFFSETFROM:-0400
TZOFFSETTO:-0500
TZNAME:EST
DTSTART:20271107T060000
END:STANDARD
END:VTIMEZONE
BEGIN:VTIMEZONE
TZID:UTC
BEGIN:STANDARD
TZOFFSETFROM:+0000
TZOFFSETTO:+0000
TZNAME:UTC
DTSTART:20170101T000000
END:STANDARD
END:VTIMEZONE
BEGIN:VEVENT
DTSTART;TZID=America/New_York:20260328T190000
DTEND;TZID=America/New_York:20260328T200000
DTSTAMP:20260422T092801
CREATED:20251111T174544Z
LAST-MODIFIED:20260405T175907Z
UID:26923-1774724400-1774728000@www.honeyhollownaturecenter.org
SUMMARY:[SOLD OUT] Frog Walk 2026
DESCRIPTION:This event has sold out. Thank you for your interest! \nJoin us for an evening exploration of the croaks\, trills\, and splashes of our local amphibians. Get up close and personal with Spring Peepers\, Leopard Frogs\, Green Frogs\, and many other local amphibians. You’ll also meet Pickles\, our Australian Tree Frog!  Warm spring evenings are filled with the sounds of these fascinating animals\, so grab your boots and a flashlight\, and join our naturalists for a frog hunt. All frogs are carefully caught and released.   \nMembers $5\, Non-members $10.   \nSpace is limited to 20 participants to prevent a negative impact on frog habitats\, so register early! The registration cutoff date is March 25\, 2026.   \nRegister here.
URL:https://www.honeyhollownaturecenter.org/event/frog-walk-2026/
LOCATION:Honey Hollow Nature Center\, 2877 Creamery Road\, New Hope\, 18938\, United States
CATEGORIES:Past Events
ATTACH;FMTTYPE=image/jpeg:https://www.honeyhollownaturecenter.org/wp-content/uploads/2025/01/new_frog-e1762883236615.jpg
GEO:40.3725704;-75.0106384
X-APPLE-STRUCTURED-LOCATION;VALUE=URI;X-ADDRESS=Honey Hollow Nature Center 2877 Creamery Road New Hope 18938 United States;X-APPLE-RADIUS=500;X-TITLE=2877 Creamery Road:geo:-75.0106384,40.3725704
END:VEVENT
BEGIN:VEVENT
DTSTART;TZID=America/New_York:20250329T190000
DTEND;TZID=America/New_York:20250329T200000
DTSTAMP:20260422T092801
CREATED:20250121T163816Z
LAST-MODIFIED:20251111T170551Z
UID:21497-1743274800-1743278400@www.honeyhollownaturecenter.org
SUMMARY:Frog Walk 2025
DESCRIPTION:Join us at 7 pm for an evening exploration of the croaks\, trills\, and splashes of our local amphibians! Get up close and personal with Spring Peepers\, Leopard Frogs\, Green Frogs\, and many other local amphibians.  Warm spring evenings are filled with the sounds of these fascinating animals\, so grab your boots and a flashlight and join Bucks County Audubon Society naturalists for a FROG HUNT!  \nMembers $5\, Non-members $10.  Space is limited to prevent over-impacting the environment so register early. The registration cutoff date is March 26\, 2025.  Walk is limited to 20 participants. \nRegister here.
URL:https://www.honeyhollownaturecenter.org/event/frog-walk-2025/
LOCATION:Honey Hollow Nature Center\, 2877 Creamery Road\, New Hope\, 18938\, United States
CATEGORIES:Past Events
ATTACH;FMTTYPE=image/jpeg:https://www.honeyhollownaturecenter.org/wp-content/uploads/2025/01/new_frog-e1762883236615.jpg
GEO:40.3725704;-75.0106384
X-APPLE-STRUCTURED-LOCATION;VALUE=URI;X-ADDRESS=Honey Hollow Nature Center 2877 Creamery Road New Hope 18938 United States;X-APPLE-RADIUS=500;X-TITLE=2877 Creamery Road:geo:-75.0106384,40.3725704
END:VEVENT
BEGIN:VEVENT
DTSTART;TZID=UTC:20230126T100000
DTEND;TZID=UTC:20230214T150000
DTSTAMP:20260422T092801
CREATED:20221116T192949Z
LAST-MODIFIED:20221116T194206Z
UID:16264-1674727200-1676386800@www.honeyhollownaturecenter.org
SUMMARY:2022 Audubon Photography Awards Exhibit
DESCRIPTION:In 2022 almost 2\,500 photographers from across the United States and Canada submitted nearly 10\,000 photographs and videos to Audubon’s 13th annual Audubon Photography Awards. Come see these stunning\, large-format examples of the prize winning photos along with background on how they were obtained.  \nOn Saturday January 28 join us for a wine and cheese reception at 3pm.  National Geographic Certified Educator Marissa Jacobs will speak on “Telling the Story of the Natural World Through Photography”.  For tickets to the opening reception\, click here! \nExhibit is open during our normal business hours Monday through Friday 10:00 am to 3:00 pm.
URL:https://www.honeyhollownaturecenter.org/event/2022-audubon-photography-awards-exhibit/
LOCATION:Honey Hollow Nature Center\, 2877 Creamery Road\, New Hope\, 18938\, United States
CATEGORIES:Art Exhibition
ATTACH;FMTTYPE=image/jpeg:https://www.honeyhollownaturecenter.org/wp-content/uploads/2022/11/web_p_1w_lirongertsman_white-tailedptarmigan_professional_highres.jpg
GEO:40.3725704;-75.0106384
X-APPLE-STRUCTURED-LOCATION;VALUE=URI;X-ADDRESS=Honey Hollow Nature Center 2877 Creamery Road New Hope 18938 United States;X-APPLE-RADIUS=500;X-TITLE=2877 Creamery Road:geo:-75.0106384,40.3725704
END:VEVENT
BEGIN:VEVENT
DTSTART;TZID=UTC:20220604T130000
DTEND;TZID=UTC:20220604T150000
DTSTAMP:20260422T092801
CREATED:20220524T180737Z
LAST-MODIFIED:20220524T231024Z
UID:15418-1654347600-1654354800@www.honeyhollownaturecenter.org
SUMMARY:Bug Hunt
DESCRIPTION:Curious about what lies underfoot? Want to experience familiar trails through the eyes of a seasoned entomologist? This is your chance! Join local insect expert Chris Alice Kratzer as she serves as your guide to the hidden world of insects at Honey Hollow. \nThis is a free event but we ask that you register prior to the walk!  Register here! \nRain Date June 5 at 1:00 pm.
URL:https://www.honeyhollownaturecenter.org/event/bug-hunt/
LOCATION:Honey Hollow Nature Center\, 2877 Creamery Road\, New Hope\, 18938\, United States
CATEGORIES:Family,Special Event
ATTACH;FMTTYPE=image/jpeg:https://www.honeyhollownaturecenter.org/wp-content/uploads/2022/05/3-.jpg
GEO:40.3725704;-75.0106384
X-APPLE-STRUCTURED-LOCATION;VALUE=URI;X-ADDRESS=Honey Hollow Nature Center 2877 Creamery Road New Hope 18938 United States;X-APPLE-RADIUS=500;X-TITLE=2877 Creamery Road:geo:-75.0106384,40.3725704
END:VEVENT
BEGIN:VEVENT
DTSTART;TZID=UTC:20220521T140000
DTEND;TZID=UTC:20220521T160000
DTSTAMP:20260422T092801
CREATED:20211213T193850Z
LAST-MODIFIED:20211213T193850Z
UID:14217-1653141600-1653148800@www.honeyhollownaturecenter.org
SUMMARY:Creek Discovery Walk
DESCRIPTION:Join the BCAS naturalists on a creek discovery walk to search for the creatures that live in and around our stream.  Crayfish\, salamanders and aquatic insects can all be found in the clear cool waters of Honey Hollow creek.  Wear closed toe footwear that can get wet and be prepared to handle small animals!  Meet at the visitor center at 2pm.  $5 members\, $10 non-members.  \nRegister HERE!
URL:https://www.honeyhollownaturecenter.org/event/creek-discovery-walk/
LOCATION:Honey Hollow Nature Center\, 2877 Creamery Road\, New Hope\, 18938\, United States
ATTACH;FMTTYPE=image/jpeg:https://www.honeyhollownaturecenter.org/wp-content/uploads/2021/12/cynthia-turtles.jpg
GEO:40.3725704;-75.0106384
X-APPLE-STRUCTURED-LOCATION;VALUE=URI;X-ADDRESS=Honey Hollow Nature Center 2877 Creamery Road New Hope 18938 United States;X-APPLE-RADIUS=500;X-TITLE=2877 Creamery Road:geo:-75.0106384,40.3725704
END:VEVENT
BEGIN:VEVENT
DTSTART;TZID=UTC:20220305T140000
DTEND;TZID=UTC:20220305T160000
DTSTAMP:20260422T092801
CREATED:20211203T192702Z
LAST-MODIFIED:20220107T221129Z
UID:14150-1646488800-1646496000@www.honeyhollownaturecenter.org
SUMMARY:Signs of Spring Walk
DESCRIPTION:As the snow starts to melt\, signs of life begin erupting in the woods and creeksides.  Join us at 2pm for an early spring nature walk as we search for our first wildflower (Symplocarpus Foetidus)\, vernal pools\, returning birds\, early buds and animal tracks. Dress for the weather and ground conditions.  FREE.  Registration required. \nREGISTER HERE!
URL:https://www.honeyhollownaturecenter.org/event/signs-of-spring-walk/
LOCATION:Honey Hollow Nature Center\, 2877 Creamery Road\, New Hope\, 18938\, United States
CATEGORIES:Family
ATTACH;FMTTYPE=image/jpeg:https://www.honeyhollownaturecenter.org/wp-content/uploads/2021/12/snowdrops.jpg
GEO:40.3725704;-75.0106384
X-APPLE-STRUCTURED-LOCATION;VALUE=URI;X-ADDRESS=Honey Hollow Nature Center 2877 Creamery Road New Hope 18938 United States;X-APPLE-RADIUS=500;X-TITLE=2877 Creamery Road:geo:-75.0106384,40.3725704
END:VEVENT
BEGIN:VEVENT
DTSTART;TZID=UTC:20220219T140000
DTEND;TZID=UTC:20220219T160000
DTSTAMP:20260422T092801
CREATED:20211130T004350Z
LAST-MODIFIED:20250111T194952Z
UID:14134-1645279200-1645286400@www.honeyhollownaturecenter.org
SUMMARY:Great Backyard Bird Count and Winter Hike - OLD
DESCRIPTION:The Great Backyard Bird Count (GBBC) is a community science project launched in 1998 in the US that expanded world-wide in 2013. Join thousands of birders reporting their data over a four day period. These observations help scientists better understand global bird populations before one of their annual migrations. Meet at the Visitor Center at 2pm for a brief introduction to the count and then let’s take a bird walk!  Dress for the weather.  FREE but registration is required. \nRegister here!
URL:https://www.honeyhollownaturecenter.org/event/great-backyard-bird-count-and-winter-hike-2/
LOCATION:Honey Hollow Nature Center\, 2877 Creamery Road\, New Hope\, 18938\, United States
CATEGORIES:Family
ATTACH;FMTTYPE=image/jpeg:https://www.honeyhollownaturecenter.org/wp-content/uploads/2021/11/MGF7236.jpg
GEO:40.3725704;-75.0106384
X-APPLE-STRUCTURED-LOCATION;VALUE=URI;X-ADDRESS=Honey Hollow Nature Center 2877 Creamery Road New Hope 18938 United States;X-APPLE-RADIUS=500;X-TITLE=2877 Creamery Road:geo:-75.0106384,40.3725704
END:VEVENT
BEGIN:VEVENT
DTSTART;TZID=UTC:20211014T133000
DTEND;TZID=UTC:20211014T150000
DTSTAMP:20260422T092801
CREATED:20210916T181253Z
LAST-MODIFIED:20211013T230506Z
UID:13330-1634218200-1634223600@www.honeyhollownaturecenter.org
SUMMARY:Fall Pre-School Explorers Program
DESCRIPTION:Bucks Audubon will once again be offering our popular Pre-school Explorers program for children ages 3 – 5 accompanied by a care giver. Sessions are held Thursday afternoons from 1:30 – 3:00pm and include an outdoor activity\, story time and craft. \nCost for All Nine Sessions:  Members $135\, Non-members $180. \nIndividual Sessions:  Members – $20\, Non-members $25. \nRegistration will be capped at 12 participants so sign up early! \nRegister HERE! \nSessions: \n\nOctober 14 – Amazing Migration! Learn all about birds\, the reasons why they travel\, and what we can do to help them on their journey!\nOctober 21 – Crazy Camouflage Discover the different ways animals blend into their habitats and why they hide away!\nOctober 28 – Halloween Special! Bring your costume for a fun Halloween celebration!\nNovember 4 – Fall into Autumn Investigate the habitats of Bucks Audubon and search for signs of fall!\nNovember 11 – All About Foxes! Learn all about foxes and find out where the foxes of Honey Hollow hide away!\nNovember 18 – Turkey Time. Discover what makes Turkeys so cool just in time for Thanksgiving!\nDecember 2 – Rain and Snow. Learn about the water cycle and what makes rain and snow!\nDecember 9 – Hibernation! Some animals go to sleep for the whole winter! Learn all about which ones do and why!\nDecember 16 – Winter on the Trail Discover the trails of Bucks Audubon at the start of a new season\, and learn all about how trails are marked and made!
URL:https://www.honeyhollownaturecenter.org/event/fall-pre-school-explorers-program/2021-10-14/
LOCATION:Honey Hollow Nature Center\, 2877 Creamery Road\, New Hope\, 18938\, United States
CATEGORIES:PreSchool Explorer
ATTACH;FMTTYPE=image/jpeg:https://www.honeyhollownaturecenter.org/wp-content/uploads/2021/09/MGF5072-scaled.jpg
GEO:40.3725704;-75.0106384
X-APPLE-STRUCTURED-LOCATION;VALUE=URI;X-ADDRESS=Honey Hollow Nature Center 2877 Creamery Road New Hope 18938 United States;X-APPLE-RADIUS=500;X-TITLE=2877 Creamery Road:geo:-75.0106384,40.3725704
END:VEVENT
BEGIN:VEVENT
DTSTART;TZID=UTC:20211013T180000
DTEND;TZID=UTC:20211013T200000
DTSTAMP:20260422T092801
CREATED:20210727T205222Z
LAST-MODIFIED:20210907T182757Z
UID:12515-1634148000-1634155200@www.honeyhollownaturecenter.org
SUMMARY:Pumpkin Carving Night
DESCRIPTION:Help us line the trails with Jack-O-Lanterns for our Haunted Trails event by carving a pumpkin!\nWe will provide pizza\, refreshments and carving utensils\, all you need is yourself\, some creativity and a pumpkin! Pumpkins will then go out on our trails. Come see your carved pumpkin all lit up during our Haunted Trails event on October 16th! \nDue to Covid concerns\, we will be setting up pumpkin carving sessions.  Sessions will be from 4:00-5:30 pm\, 5:30-7:00 pm and 7:00-8:30 pm.  Please select  a session time when you register for this free event. \nTo register for this fun family event\, click here!
URL:https://www.honeyhollownaturecenter.org/event/pumpkin-carving-night-2021/
LOCATION:Honey Hollow Nature Center\, 2877 Creamery Road\, New Hope\, 18938\, United States
CATEGORIES:Family,Special Event
ATTACH;FMTTYPE=image/jpeg:https://www.honeyhollownaturecenter.org/wp-content/uploads/2021/07/MGF1689-scaled-e1695425020173.jpg
GEO:40.3725704;-75.0106384
X-APPLE-STRUCTURED-LOCATION;VALUE=URI;X-ADDRESS=Honey Hollow Nature Center 2877 Creamery Road New Hope 18938 United States;X-APPLE-RADIUS=500;X-TITLE=2877 Creamery Road:geo:-75.0106384,40.3725704
END:VEVENT
BEGIN:VEVENT
DTSTART;TZID=UTC:20180605T183000
DTEND;TZID=UTC:20180605T200000
DTSTAMP:20260422T092801
CREATED:20181116T215736Z
LAST-MODIFIED:20181116T220618Z
UID:5038-1528223400-1528228800@www.honeyhollownaturecenter.org
SUMMARY:Raptor Run 5k & Fun Run
DESCRIPTION:Cross country trail run through the forests\, streamside\, and meadows of BCAS’s 55 acre nature preserve that includes two stream crossings\, great views of the Audubon Pond\, and acres of beautiful spring flowers in the fields. All proceeds from the race will benefit the Bucks County Audubon Society and proudly support our high-quality environmental education programs. Stay and enjoy our After Party with bonfire\, food\, and beverages for all racers. \nRegistration coming soon!
URL:https://www.honeyhollownaturecenter.org/event/raptor-run-5k-fun-run/
LOCATION:Honey Hollow Nature Center\, 2877 Creamery Road\, New Hope\, 18938\, United States
CATEGORIES:Adults,Family,Special Event
ATTACH;FMTTYPE=image/jpeg:https://www.honeyhollownaturecenter.org/wp-content/uploads/2018/11/MGF9748-1-e1542387867515.jpg
GEO:40.3725704;-75.0106384
X-APPLE-STRUCTURED-LOCATION;VALUE=URI;X-ADDRESS=Honey Hollow Nature Center 2877 Creamery Road New Hope 18938 United States;X-APPLE-RADIUS=500;X-TITLE=2877 Creamery Road:geo:-75.0106384,40.3725704
END:VEVENT
BEGIN:VEVENT
DTSTART;TZID=UTC:20180428T190000
DTEND;TZID=UTC:20180428T203000
DTSTAMP:20260422T092801
CREATED:20180228T230833Z
LAST-MODIFIED:20180426T004437Z
UID:3540-1524942000-1524947400@www.honeyhollownaturecenter.org
SUMMARY:Frog Walk & Night Hike (FULL)
DESCRIPTION:Join BCAS Naturalists for our annual Frog Walk! After a brief presentation about amphibians and their behaviors\, we shall scour our property\, specifically in the forest for toads and our pond/marsh for frogs! This is a great event no matter your age. \nAdmission is $10/BCAS Members\, $15/Non-Members or a family rate of $25/BCAS Members\, $35/Non-Members. \nEvent is FULL!
URL:https://www.honeyhollownaturecenter.org/event/frog-walk-night-hike-2/
LOCATION:Honey Hollow Nature Center\, 2877 Creamery Road\, New Hope\, 18938\, United States
CATEGORIES:Family
ATTACH;FMTTYPE=image/jpeg:https://www.honeyhollownaturecenter.org/wp-content/uploads/2017/12/MGF9277-scaled.jpg
GEO:40.3725704;-75.0106384
X-APPLE-STRUCTURED-LOCATION;VALUE=URI;X-ADDRESS=Honey Hollow Nature Center 2877 Creamery Road New Hope 18938 United States;X-APPLE-RADIUS=500;X-TITLE=2877 Creamery Road:geo:-75.0106384,40.3725704
END:VEVENT
END:VCALENDAR