BEGIN:VCALENDAR
VERSION:2.0
PRODID:-//Honey Hollow Nature Center - ECPv6.15.20//NONSGML v1.0//EN
CALSCALE:GREGORIAN
METHOD:PUBLISH
X-ORIGINAL-URL:https://www.honeyhollownaturecenter.org
X-WR-CALDESC:Events for Honey Hollow Nature Center
REFRESH-INTERVAL;VALUE=DURATION:PT1H
X-Robots-Tag:noindex
X-PUBLISHED-TTL:PT1H
BEGIN:VTIMEZONE
TZID:UTC
BEGIN:STANDARD
TZOFFSETFROM:+0000
TZOFFSETTO:+0000
TZNAME:UTC
DTSTART:20190101T000000
END:STANDARD
END:VTIMEZONE
BEGIN:VEVENT
DTSTART;TZID=UTC:20200310T183000
DTEND;TZID=UTC:20200310T200000
DTSTAMP:20260422T074316
CREATED:20200127T202443Z
LAST-MODIFIED:20200210T220526Z
UID:7894-1583865000-1583870400@www.honeyhollownaturecenter.org
SUMMARY:Full Moon Night Hike for Adults
DESCRIPTION:Enjoy the light of the full moon and the wonders of the natural world at night during this hike geared towards adults! We will have a mini campfire with wine\, beer\, and light snacks before we head out. \nBring flashlight\, hiking shoes\, and clothes appropriate for the weather. Hike will be led by one of our naturalists. \nRegister here.
URL:https://www.honeyhollownaturecenter.org/event/full-moon-night-hike-for-adults/
LOCATION:Honey Hollow Nature Center\, 2877 Creamery Road\, New Hope\, 18938\, United States
CATEGORIES:Adults
GEO:40.3725704;-75.0106384
X-APPLE-STRUCTURED-LOCATION;VALUE=URI;X-ADDRESS=Honey Hollow Nature Center 2877 Creamery Road New Hope 18938 United States;X-APPLE-RADIUS=500;X-TITLE=2877 Creamery Road:geo:-75.0106384,40.3725704
END:VEVENT
END:VCALENDAR