BEGIN:VCALENDAR
VERSION:2.0
PRODID:-//Honey Hollow Nature Center - ECPv6.15.20//NONSGML v1.0//EN
CALSCALE:GREGORIAN
METHOD:PUBLISH
X-ORIGINAL-URL:https://www.honeyhollownaturecenter.org
X-WR-CALDESC:Events for Honey Hollow Nature Center
REFRESH-INTERVAL;VALUE=DURATION:PT1H
X-Robots-Tag:noindex
X-PUBLISHED-TTL:PT1H
BEGIN:VTIMEZONE
TZID:UTC
BEGIN:STANDARD
TZOFFSETFROM:+0000
TZOFFSETTO:+0000
TZNAME:UTC
DTSTART:20190101T000000
END:STANDARD
END:VTIMEZONE
BEGIN:VEVENT
DTSTART;TZID=UTC:20200220T083000
DTEND;TZID=UTC:20200220T120000
DTSTAMP:20260422T075217
CREATED:20200114T204802Z
LAST-MODIFIED:20200114T204859Z
UID:7723-1582187400-1582200000@www.honeyhollownaturecenter.org
SUMMARY:Meadow Management Workshop for Municipal leaders
DESCRIPTION:Join us to learn more about how your municipality can protect grassland and ground nesting birds and pollinators\, while also saving money and helping to fulfill your MS4 requirements on February 20th\, 9am-12:30pm (with registration starting at 8:30am) at the Bucks County Administrative Building – 55 E Court St\, Doylestown\, PA 18901. \nInterested in registering for this event? Click here! \n 
URL:https://www.honeyhollownaturecenter.org/event/meadow-management-workshop-for-municipal-leaders/
LOCATION:Honey Hollow Nature Center\, 2877 Creamery Road\, New Hope\, 18938\, United States
CATEGORIES:Adults,Special Event
GEO:40.3725704;-75.0106384
X-APPLE-STRUCTURED-LOCATION;VALUE=URI;X-ADDRESS=Honey Hollow Nature Center 2877 Creamery Road New Hope 18938 United States;X-APPLE-RADIUS=500;X-TITLE=2877 Creamery Road:geo:-75.0106384,40.3725704
END:VEVENT
END:VCALENDAR