BEGIN:VCALENDAR
VERSION:2.0
PRODID:-//Honey Hollow Nature Center - ECPv6.15.20//NONSGML v1.0//EN
CALSCALE:GREGORIAN
METHOD:PUBLISH
X-ORIGINAL-URL:https://www.honeyhollownaturecenter.org
X-WR-CALDESC:Events for Honey Hollow Nature Center
REFRESH-INTERVAL;VALUE=DURATION:PT1H
X-Robots-Tag:noindex
X-PUBLISHED-TTL:PT1H
BEGIN:VTIMEZONE
TZID:UTC
BEGIN:STANDARD
TZOFFSETFROM:+0000
TZOFFSETTO:+0000
TZNAME:UTC
DTSTART:20190101T000000
END:STANDARD
END:VTIMEZONE
BEGIN:VEVENT
DTSTART;TZID=UTC:20200319T180000
DTEND;TZID=UTC:20200319T193000
DTSTAMP:20260420T165529
CREATED:20200121T215009Z
LAST-MODIFIED:20200312T224430Z
UID:7830-1584640800-1584646200@www.honeyhollownaturecenter.org
SUMMARY:OneHealth: Pesticides\, pathogens\, and pollinator declines - CANCELLED
DESCRIPTION:Due to the unfortunate timing of COVID-19\, DelVal has cancelled their March programming. Please stay tuned for the next OneHealth presentation that we’ll be a part of!
URL:https://www.honeyhollownaturecenter.org/event/onehealth-pesticides-pathogens-and-pollinator-declines-what-we-know-and-what-you-can-do/
LOCATION:Delaware Valley University\, 700 E. Butler Ave\, Doylestown\, PA\, 18901\, United States
CATEGORIES:Adults,Lecture
ATTACH;FMTTYPE=image/jpeg:https://www.honeyhollownaturecenter.org/wp-content/uploads/2019/04/MGF1117-scaled.jpg
GEO:40.2970135;-75.1582091
X-APPLE-STRUCTURED-LOCATION;VALUE=URI;X-ADDRESS=Delaware Valley University 700 E. Butler Ave Doylestown PA 18901 United States;X-APPLE-RADIUS=500;X-TITLE=700 E. Butler Ave:geo:-75.1582091,40.2970135
END:VEVENT
END:VCALENDAR