BEGIN:VCALENDAR
VERSION:2.0
PRODID:-//Honey Hollow Nature Center - ECPv6.15.20//NONSGML v1.0//EN
CALSCALE:GREGORIAN
METHOD:PUBLISH
X-WR-CALNAME:Honey Hollow Nature Center
X-ORIGINAL-URL:https://www.honeyhollownaturecenter.org
X-WR-CALDESC:Events for Honey Hollow Nature Center
REFRESH-INTERVAL;VALUE=DURATION:PT1H
X-Robots-Tag:noindex
X-PUBLISHED-TTL:PT1H
BEGIN:VTIMEZONE
TZID:UTC
BEGIN:STANDARD
TZOFFSETFROM:+0000
TZOFFSETTO:+0000
TZNAME:UTC
DTSTART:20190101T000000
END:STANDARD
END:VTIMEZONE
BEGIN:VEVENT
DTSTART;TZID=UTC:20200110T183000
DTEND;TZID=UTC:20200110T203000
DTSTAMP:20260420T090006
CREATED:20191216T210147Z
LAST-MODIFIED:20191216T211122Z
UID:7514-1578681000-1578688200@www.honeyhollownaturecenter.org
SUMMARY:Climate Change and Birds Panel Discussion & Opening Reception
DESCRIPTION:Join us as we celebrate the opening of the National Audubon Photography Exhibit with the winning photographs of their contest! Each image is stunning and portrays birds that may be climate threatened. Sip some wine\, peruse the best in bird photography\, and learn about how climate change is impacting bird species and how you can make a difference in their lives! \nThe Event includes: \n\nAn opportunity to see some of the most amazing Bird Photography of the year!\nA Climate & Birds panel discussion\nDoor Prizes Available!!!!\nWine and refreshments!\n\nAdmission:  $15/BCAS Members and $20/Non-Members. Tickets found here.
URL:https://www.honeyhollownaturecenter.org/event/climate-change-and-birds-panel-discussion-opening-reception/
LOCATION:Honey Hollow Nature Center\, 2877 Creamery Road\, New Hope\, 18938\, United States
CATEGORIES:Adults,Art Exhibition,Birding,Lecture,Special Event
ATTACH;FMTTYPE=image/png:https://www.honeyhollownaturecenter.org/wp-content/uploads/2019/12/PhotoExhibit_EmailBanner_2019.png
GEO:40.3725704;-75.0106384
X-APPLE-STRUCTURED-LOCATION;VALUE=URI;X-ADDRESS=Honey Hollow Nature Center 2877 Creamery Road New Hope 18938 United States;X-APPLE-RADIUS=500;X-TITLE=2877 Creamery Road:geo:-75.0106384,40.3725704
END:VEVENT
END:VCALENDAR