BEGIN:VCALENDAR
VERSION:2.0
PRODID:-//Honey Hollow Nature Center - ECPv6.15.20//NONSGML v1.0//EN
CALSCALE:GREGORIAN
METHOD:PUBLISH
X-WR-CALNAME:Honey Hollow Nature Center
X-ORIGINAL-URL:https://www.honeyhollownaturecenter.org
X-WR-CALDESC:Events for Honey Hollow Nature Center
REFRESH-INTERVAL;VALUE=DURATION:PT1H
X-Robots-Tag:noindex
X-PUBLISHED-TTL:PT1H
BEGIN:VTIMEZONE
TZID:UTC
BEGIN:STANDARD
TZOFFSETFROM:+0000
TZOFFSETTO:+0000
TZNAME:UTC
DTSTART:20190101T000000
END:STANDARD
END:VTIMEZONE
BEGIN:VEVENT
DTSTART;TZID=UTC:20200502T080000
DTEND;TZID=UTC:20200502T120000
DTSTAMP:20260420T150804
CREATED:20200225T223003Z
LAST-MODIFIED:20200430T194033Z
UID:8166-1588406400-1588420800@www.honeyhollownaturecenter.org
SUMMARY:Indoor Yard Sale at Bucks Audubon- Postponed!
DESCRIPTION:POSTPONED DUE TO CORONAVIRUS -Stay tuned for more information and details on a new date. \nHere at Bucks Audubon\, we’re busy spring-cleaning and are excited to give things a Second Life and reuse items as opposed to trashing them! We will have many exciting educational\, decorative\, and other items for sale as part of our indoor yard sale. Find items like microscopes\, books\, bird and nature art\, kitchen supplies\, and many more items all at extremely low prices! All proceeds benefit Bucks Audubon’s high-quality environmental education programming. \nAre you spring-cleaning as well? Come and join us! Table space is $10/Members\, $15/Non-Members. Snag your table here! \nWhat treasures will you find?
URL:https://www.honeyhollownaturecenter.org/event/indoor-yard-sale-at-bucks-audubon/
LOCATION:Honey Hollow Nature Center\, 2877 Creamery Road\, New Hope\, 18938\, United States
CATEGORIES:Family
GEO:40.3725704;-75.0106384
X-APPLE-STRUCTURED-LOCATION;VALUE=URI;X-ADDRESS=Honey Hollow Nature Center 2877 Creamery Road New Hope 18938 United States;X-APPLE-RADIUS=500;X-TITLE=2877 Creamery Road:geo:-75.0106384,40.3725704
END:VEVENT
END:VCALENDAR