BEGIN:VCALENDAR
VERSION:2.0
PRODID:-//Honey Hollow Nature Center - ECPv6.15.20//NONSGML v1.0//EN
CALSCALE:GREGORIAN
METHOD:PUBLISH
X-WR-CALNAME:Honey Hollow Nature Center
X-ORIGINAL-URL:https://www.honeyhollownaturecenter.org
X-WR-CALDESC:Events for Honey Hollow Nature Center
REFRESH-INTERVAL;VALUE=DURATION:PT1H
X-Robots-Tag:noindex
X-PUBLISHED-TTL:PT1H
BEGIN:VTIMEZONE
TZID:UTC
BEGIN:STANDARD
TZOFFSETFROM:+0000
TZOFFSETTO:+0000
TZNAME:UTC
DTSTART:20170101T000000
END:STANDARD
END:VTIMEZONE
BEGIN:VEVENT
DTSTART;TZID=UTC:20200824T090000
DTEND;TZID=UTC:20200824T150000
DTSTAMP:20260422T073007
CREATED:20200127T211113Z
LAST-MODIFIED:20200127T211113Z
UID:7940-1598259600-1598281200@www.honeyhollownaturecenter.org
SUMMARY:Summer Camp - Aquatic Adventures
DESCRIPTION:Cool off this week as we explore the flowing water of the streams\, muddy marshes\, and peaceful pond to learn who all lives there and why those critters are so important! \nEach week of camp gets kids outside\, exploring all of our miles of trails and diverse ecosystems! There are full and half-day options. Perfect for ages 4-10! \nClick here to register your child for this week of camp!
URL:https://www.honeyhollownaturecenter.org/event/summer-camp-aquatic-adventures-2/2020-08-24/
LOCATION:Honey Hollow Nature Center\, 2877 Creamery Road\, New Hope\, 18938\, United States
CATEGORIES:Summer Camp
ATTACH;FMTTYPE=image/jpeg:https://www.honeyhollownaturecenter.org/wp-content/uploads/2020/01/MGJ0753-scaled.jpg
GEO:40.3725704;-75.0106384
X-APPLE-STRUCTURED-LOCATION;VALUE=URI;X-ADDRESS=Honey Hollow Nature Center 2877 Creamery Road New Hope 18938 United States;X-APPLE-RADIUS=500;X-TITLE=2877 Creamery Road:geo:-75.0106384,40.3725704
END:VEVENT
BEGIN:VEVENT
DTSTART;TZID=UTC:20200817T090000
DTEND;TZID=UTC:20200817T150000
DTSTAMP:20260422T073007
CREATED:20200127T210806Z
LAST-MODIFIED:20200127T210806Z
UID:7934-1597654800-1597676400@www.honeyhollownaturecenter.org
SUMMARY:Summer Camp - What's the Buzz?
DESCRIPTION:Discover the wonderful meadow filled with butterflies and catydids\, roll over forest logs to search for ants and isopods\, and throw your net into our marsh to explore the dragonfly’s habitat! \nEach week of camp gets kids outside\, exploring all of our miles of trails and diverse ecosystems! There are full and half-day options. Perfect for ages 4-10! \nClick here to register your child for this week of camp!
URL:https://www.honeyhollownaturecenter.org/event/summer-camp-whats-the-buzz/2020-08-17/
LOCATION:Honey Hollow Nature Center\, 2877 Creamery Road\, New Hope\, 18938\, United States
CATEGORIES:Summer Camp
ATTACH;FMTTYPE=image/jpeg:https://www.honeyhollownaturecenter.org/wp-content/uploads/2020/01/MGJ9968-scaled.jpg
GEO:40.3725704;-75.0106384
X-APPLE-STRUCTURED-LOCATION;VALUE=URI;X-ADDRESS=Honey Hollow Nature Center 2877 Creamery Road New Hope 18938 United States;X-APPLE-RADIUS=500;X-TITLE=2877 Creamery Road:geo:-75.0106384,40.3725704
END:VEVENT
BEGIN:VEVENT
DTSTART;TZID=UTC:20200810T090000
DTEND;TZID=UTC:20200810T150000
DTSTAMP:20260422T073007
CREATED:20200127T210234Z
LAST-MODIFIED:20200127T210443Z
UID:7918-1597050000-1597071600@www.honeyhollownaturecenter.org
SUMMARY:Summer Camp - Advanced Survival Techniques - NEW!
DESCRIPTION:Explore more advanced survival techniques to help get yourself out of a sticky wilderness situation during our NEW week of camp! Campers must be 8-12 years old and have previously attended our basic wilderness survival camp before enrolling for this week. \nEach week of camp gets kids outside\, exploring all of our miles of trails and diverse ecosystems! There are full and half-day options. Perfect for ages 8-12! \nClick here to register your child for this week of camp!
URL:https://www.honeyhollownaturecenter.org/event/summer-camp-advanced-survival-techniques-new/2020-08-10/
LOCATION:Honey Hollow Nature Center\, 2877 Creamery Road\, New Hope\, 18938\, United States
CATEGORIES:Summer Camp
ATTACH;FMTTYPE=image/jpeg:https://www.honeyhollownaturecenter.org/wp-content/uploads/2019/08/MGJ0908-scaled.jpg
GEO:40.3725704;-75.0106384
X-APPLE-STRUCTURED-LOCATION;VALUE=URI;X-ADDRESS=Honey Hollow Nature Center 2877 Creamery Road New Hope 18938 United States;X-APPLE-RADIUS=500;X-TITLE=2877 Creamery Road:geo:-75.0106384,40.3725704
END:VEVENT
BEGIN:VEVENT
DTSTART;TZID=UTC:20200727T090000
DTEND;TZID=UTC:20200727T150000
DTSTAMP:20260422T073007
CREATED:20200127T205744Z
LAST-MODIFIED:20200127T210400Z
UID:7912-1595840400-1595862000@www.honeyhollownaturecenter.org
SUMMARY:Summer Camp - Wild Survival
DESCRIPTION:Quick – you’ve found yourself in an outdoor emergency situation!!! Do you have what it takes to survive in the wilderness? Learn about various outdoor survival techniques in the safety of our camp environment. \nStudents MUST have registered for this camp or have been in it in previous years to register for the advanced survival techniques camp. \nEach week of camp gets kids outside\, exploring all of our miles of trails and diverse ecosystems! There are full and half-day options. Perfect for ages 4-10! \nClick here to register your child for this week of camp!
URL:https://www.honeyhollownaturecenter.org/event/summer-camp-wild-survival/2020-07-27/
LOCATION:Honey Hollow Nature Center\, 2877 Creamery Road\, New Hope\, 18938\, United States
CATEGORIES:Summer Camp
ATTACH;FMTTYPE=image/jpeg:https://www.honeyhollownaturecenter.org/wp-content/uploads/2020/01/MGJ0821-scaled.jpg
GEO:40.3725704;-75.0106384
X-APPLE-STRUCTURED-LOCATION;VALUE=URI;X-ADDRESS=Honey Hollow Nature Center 2877 Creamery Road New Hope 18938 United States;X-APPLE-RADIUS=500;X-TITLE=2877 Creamery Road:geo:-75.0106384,40.3725704
END:VEVENT
BEGIN:VEVENT
DTSTART;TZID=UTC:20200622T090000
DTEND;TZID=UTC:20200622T150000
DTSTAMP:20260422T073007
CREATED:20200127T205009Z
LAST-MODIFIED:20200127T205009Z
UID:7904-1592816400-1592838000@www.honeyhollownaturecenter.org
SUMMARY:Summer Camp - Awesome Amphibians & Radical Reptiles
DESCRIPTION:This week\, we’ll flip over rocks\, roll over rotten logs\, and splash through our creeks as we hop after the often-misunderstood amphibians and reptiles that call Bucks Audubon home! \nEach week of camp gets kids outside\, exploring all of our miles of trails and diverse ecosystems! There are full and half-day options. Perfect for ages 4-10! \nClick here to register your child for this week of camp!
URL:https://www.honeyhollownaturecenter.org/event/summer-camp-awesome-amphibians-radical-reptiles/2020-06-22/
LOCATION:Honey Hollow Nature Center\, 2877 Creamery Road\, New Hope\, 18938\, United States
CATEGORIES:Summer Camp
ATTACH;FMTTYPE=image/jpeg:https://www.honeyhollownaturecenter.org/wp-content/uploads/2016/06/MGJ9736-scaled.jpg
GEO:40.3725704;-75.0106384
X-APPLE-STRUCTURED-LOCATION;VALUE=URI;X-ADDRESS=Honey Hollow Nature Center 2877 Creamery Road New Hope 18938 United States;X-APPLE-RADIUS=500;X-TITLE=2877 Creamery Road:geo:-75.0106384,40.3725704
END:VEVENT
BEGIN:VEVENT
DTSTART;TZID=UTC:20200615T090000
DTEND;TZID=UTC:20200615T150000
DTSTAMP:20260422T073007
CREATED:20200127T203245Z
LAST-MODIFIED:20200127T203245Z
UID:7898-1592211600-1592233200@www.honeyhollownaturecenter.org
SUMMARY:Summer Camp - Nature's Laboratory
DESCRIPTION:Nurture your love of science through explorations and hands-on science fun out in nature’s laboratory! \nEach week of camp gets kids outside\, exploring all of our miles of trails and diverse ecosystems! There are full and half-day options. Perfect for ages 4-10! \nClick here to register your child for this week of camp!
URL:https://www.honeyhollownaturecenter.org/event/summer-camp-natures-laboratory-2/2020-06-15/
LOCATION:Honey Hollow Nature Center\, 2877 Creamery Road\, New Hope\, 18938\, United States
CATEGORIES:Summer Camp
ATTACH;FMTTYPE=image/jpeg:https://www.honeyhollownaturecenter.org/wp-content/uploads/2016/06/IMG_4953-scaled.jpg
GEO:40.3725704;-75.0106384
X-APPLE-STRUCTURED-LOCATION;VALUE=URI;X-ADDRESS=Honey Hollow Nature Center 2877 Creamery Road New Hope 18938 United States;X-APPLE-RADIUS=500;X-TITLE=2877 Creamery Road:geo:-75.0106384,40.3725704
END:VEVENT
BEGIN:VEVENT
DTSTART;TZID=UTC:20190826T090000
DTEND;TZID=UTC:20190826T150000
DTSTAMP:20260422T073007
CREATED:20190423T210257Z
LAST-MODIFIED:20190423T210257Z
UID:6123-1566810000-1566831600@www.honeyhollownaturecenter.org
SUMMARY:Summer Camp - Aquatic Adventures
DESCRIPTION:Cool off this week as we explore the flowing streams\, muddy marshes and peaceful pond to learn who lives there and why those critters are important. \nEach week of camp gets kids outside\, exploring all of our miles of trails and diverse ecosystems! There are full and half-day options. Perfect for ages 4-10! \nClick here to register your child for this week of camp!
URL:https://www.honeyhollownaturecenter.org/event/summer-camp-aquatic-adventures/2019-08-26/
LOCATION:Honey Hollow Nature Center\, 2877 Creamery Road\, New Hope\, 18938\, United States
CATEGORIES:Summer Camp
ATTACH;FMTTYPE=image/jpeg:https://www.honeyhollownaturecenter.org/wp-content/uploads/2016/06/for-FB-scaled.jpg
GEO:40.3725704;-75.0106384
X-APPLE-STRUCTURED-LOCATION;VALUE=URI;X-ADDRESS=Honey Hollow Nature Center 2877 Creamery Road New Hope 18938 United States;X-APPLE-RADIUS=500;X-TITLE=2877 Creamery Road:geo:-75.0106384,40.3725704
END:VEVENT
BEGIN:VEVENT
DTSTART;TZID=UTC:20190812T090000
DTEND;TZID=UTC:20190812T150000
DTSTAMP:20260422T073007
CREATED:20190423T205712Z
LAST-MODIFIED:20190423T205712Z
UID:6117-1565600400-1565622000@www.honeyhollownaturecenter.org
SUMMARY:Summer Camp - Going Buggy!
DESCRIPTION:Go crazy with all of the beautiful and fascinating insects that call Bucks Audubon home. Catch butterflies\, roll over logs\, peek under stream rocks and more! \nEach week of camp gets kids outside\, exploring all of our miles of trails and diverse ecosystems! There are full and half-day options. Perfect for ages 4-10! \nClick here to register your child for this week of camp!
URL:https://www.honeyhollownaturecenter.org/event/summer-camp-going-buggy/2019-08-12/
LOCATION:Honey Hollow Nature Center\, 2877 Creamery Road\, New Hope\, 18938\, United States
CATEGORIES:Summer Camp
ATTACH;FMTTYPE=image/jpeg:https://www.honeyhollownaturecenter.org/wp-content/uploads/2017/08/MGF9666-scaled.jpg
GEO:40.3725704;-75.0106384
X-APPLE-STRUCTURED-LOCATION;VALUE=URI;X-ADDRESS=Honey Hollow Nature Center 2877 Creamery Road New Hope 18938 United States;X-APPLE-RADIUS=500;X-TITLE=2877 Creamery Road:geo:-75.0106384,40.3725704
END:VEVENT
BEGIN:VEVENT
DTSTART;TZID=UTC:20190729T090000
DTEND;TZID=UTC:20190729T150000
DTSTAMP:20260422T073007
CREATED:20190423T205344Z
LAST-MODIFIED:20190423T205344Z
UID:6111-1564390800-1564412400@www.honeyhollownaturecenter.org
SUMMARY:Summer Camp - Operation:SURVIVAL
DESCRIPTION:Get ready for a week of rugged wilderness adventure! Surviving outdoors can be tough\, but we make it easy! We’ll build shelters\, cook over the campfire\, learn to collect and clean drinking water\, identify wild edible plants\, and so much more! \nEach week of camp gets kids outside\, exploring all of our miles of trails and diverse ecosystems! There are full and half-day options. Perfect for ages 4-10! \nTHIS SESSION OF CAMP IS FULL!
URL:https://www.honeyhollownaturecenter.org/event/summer-camp-operationsurvival/2019-07-29/
LOCATION:Honey Hollow Nature Center\, 2877 Creamery Road\, New Hope\, 18938\, United States
CATEGORIES:Summer Camp
ATTACH;FMTTYPE=image/jpeg:https://www.honeyhollownaturecenter.org/wp-content/uploads/2016/06/smaller-boys-in-tree.jpg
GEO:40.3725704;-75.0106384
X-APPLE-STRUCTURED-LOCATION;VALUE=URI;X-ADDRESS=Honey Hollow Nature Center 2877 Creamery Road New Hope 18938 United States;X-APPLE-RADIUS=500;X-TITLE=2877 Creamery Road:geo:-75.0106384,40.3725704
END:VEVENT
BEGIN:VEVENT
DTSTART;TZID=UTC:20190624T090000
DTEND;TZID=UTC:20190624T150000
DTSTAMP:20260422T073007
CREATED:20190423T204939Z
LAST-MODIFIED:20190423T204939Z
UID:6105-1561366800-1561388400@www.honeyhollownaturecenter.org
SUMMARY:Summer Camp - Spin Around the Sun
DESCRIPTION:What makes the summer season so spectacular? Fly through the clouds\, dig deep into the earth\, buzz around with pollinators\, and cool off with seasonal fruits! \nEach week of camp gets kids outside\, exploring all of our miles of trails and diverse ecosystems! There are full and half-day options. Perfect for ages 4-10! \nClick here to register your child for this week of camp!
URL:https://www.honeyhollownaturecenter.org/event/summer-camp-spin-around-the-sun/2019-06-24/
LOCATION:Honey Hollow Nature Center\, 2877 Creamery Road\, New Hope\, 18938\, United States
CATEGORIES:Summer Camp
ATTACH;FMTTYPE=image/jpeg:https://www.honeyhollownaturecenter.org/wp-content/uploads/2016/06/MGF9819-scaled.jpg
GEO:40.3725704;-75.0106384
X-APPLE-STRUCTURED-LOCATION;VALUE=URI;X-ADDRESS=Honey Hollow Nature Center 2877 Creamery Road New Hope 18938 United States;X-APPLE-RADIUS=500;X-TITLE=2877 Creamery Road:geo:-75.0106384,40.3725704
END:VEVENT
BEGIN:VEVENT
DTSTART;TZID=UTC:20190617T090000
DTEND;TZID=UTC:20190617T150000
DTSTAMP:20260422T073007
CREATED:20190423T204630Z
LAST-MODIFIED:20190423T204630Z
UID:6099-1560762000-1560783600@www.honeyhollownaturecenter.org
SUMMARY:Summer Camp - Nature's Laboratory
DESCRIPTION:Nurture your love of science through observations\, explorations\, data\, discovery and lots of hands-on science fun out in nature’s laboratory! \nEach week of camp gets kids outside\, exploring all of our miles of trails and diverse ecosystems! There are full and half-day options. Perfect for ages 4-10! \nClick here to register your child for this week of camp!
URL:https://www.honeyhollownaturecenter.org/event/summer-camp-natures-laboratory/2019-06-17/
LOCATION:Honey Hollow Nature Center\, 2877 Creamery Road\, New Hope\, 18938\, United States
CATEGORIES:Summer Camp
ATTACH;FMTTYPE=image/jpeg:https://www.honeyhollownaturecenter.org/wp-content/uploads/2016/06/IMG_4953-scaled.jpg
GEO:40.3725704;-75.0106384
X-APPLE-STRUCTURED-LOCATION;VALUE=URI;X-ADDRESS=Honey Hollow Nature Center 2877 Creamery Road New Hope 18938 United States;X-APPLE-RADIUS=500;X-TITLE=2877 Creamery Road:geo:-75.0106384,40.3725704
END:VEVENT
BEGIN:VEVENT
DTSTART;TZID=UTC:20180827T090000
DTEND;TZID=UTC:20180831T150000
DTSTAMP:20260422T073007
CREATED:20171207T194234Z
LAST-MODIFIED:20180512T000502Z
UID:3239-1535360400-1535727600@www.honeyhollownaturecenter.org
SUMMARY:Summer Nature Camp Week 4
DESCRIPTION:August 27th-31st: Ex-STREAM Explorers! – Crayfish\, salamanders\, and minnows…OH MY! These are just a few of the critters that call our ponds\, streams and marshes home.  Let’s get wet and dirty this week as we explore these aquatic ecosystems and learn who lives there and why they are important. \nDoes your child want to spend every last minute of the summer outside\, enjoying the sunshine before school starts? Bring them over to our Summer  Nature Camp for a week of outdoor discovery! Each day of the themed week will include: \n\nMorning and Afternoon Snack\nScience Experiments\nHiking through our forests\, fields\, and streams\nTheme related Art projects\nFree play time to strengthen the imagination\nScreen Printed Camp T-Shirt\n…and so much more!\n\nPrice is – $250/BCAS Members and $300/Non-Members. Half Day option (9am-12pm) available at discounted rate. \nRegistration available here!
URL:https://www.honeyhollownaturecenter.org/event/summer-eco-camp-week-4/
LOCATION:Honey Hollow Nature Center\, 2877 Creamery Road\, New Hope\, 18938\, United States
CATEGORIES:Summer Camp
GEO:40.3725704;-75.0106384
X-APPLE-STRUCTURED-LOCATION;VALUE=URI;X-ADDRESS=Honey Hollow Nature Center 2877 Creamery Road New Hope 18938 United States;X-APPLE-RADIUS=500;X-TITLE=2877 Creamery Road:geo:-75.0106384,40.3725704
END:VEVENT
BEGIN:VEVENT
DTSTART;TZID=UTC:20180813T090000
DTEND;TZID=UTC:20180817T150000
DTSTAMP:20260422T073007
CREATED:20171207T194103Z
LAST-MODIFIED:20180512T000345Z
UID:3237-1534150800-1534518000@www.honeyhollownaturecenter.org
SUMMARY:Summer Nature Camp Week 3
DESCRIPTION:August 13th-17th: Wilderness Survival -Get ready for a week of rugged wilderness adventure! To learn how to survive in the outdoors\, we will build shelters\, cook over the campfire\, learn to collect and clean drinking water\, identify wild edible plants\, and so much more! \nIs your child as excited as we are to be outside this summer? Bring them over to our Summer  Nature Camp for a week of outdoor discovery! Each day of the themed week will include: \n\nMorning and Afternoon Snack\nScience Experiments\nHiking through our forests\, fields\, and streams\nTheme related Art projects\nFree play time to strengthen the imagination\nScreen Printed Camp T-Shirt\n…and so much more!\n\nPrice is – $250/BCAS Members and $300/Non-Members. Half Day option (9am-12pm) available at discounted rate. \nRegistration available by clicking here!
URL:https://www.honeyhollownaturecenter.org/event/summer-eco-camp-week-3/
LOCATION:Honey Hollow Nature Center\, 2877 Creamery Road\, New Hope\, 18938\, United States
CATEGORIES:Summer Camp
GEO:40.3725704;-75.0106384
X-APPLE-STRUCTURED-LOCATION;VALUE=URI;X-ADDRESS=Honey Hollow Nature Center 2877 Creamery Road New Hope 18938 United States;X-APPLE-RADIUS=500;X-TITLE=2877 Creamery Road:geo:-75.0106384,40.3725704
END:VEVENT
BEGIN:VEVENT
DTSTART;TZID=UTC:20180625T090000
DTEND;TZID=UTC:20180629T150000
DTSTAMP:20260422T073007
CREATED:20171207T193944Z
LAST-MODIFIED:20180512T000226Z
UID:3235-1529917200-1530284400@www.honeyhollownaturecenter.org
SUMMARY:Summer Nature Camp Week 2
DESCRIPTION:June 25th – 29th: Science Super Stars – Learn how to be a science super star this adventure packed week! Observations\, explorations\, experiments\, data\, discovery\, and lots of hands-on science fun will nurture a love of science and make everyone want to be a super star. \nIs your child as excited as we are to be outside this summer? Bring them over to our Summer  Nature Camp for a week of outdoor discovery! Each day of the themed week will include: \n\nMorning and Afternoon Snack\nScience Experiments\nHiking through our forests\, fields\, and streams\nTheme related Art projects\nFree play time to strengthen the imagination\nScreen Printed Camp T-Shirt\n…and so much more!\n\nPrice is – $250/BCAS Members and $300/Non-Members. Half Day option (9am-12pm) available at discounted rate. \nRegister by clicking here!
URL:https://www.honeyhollownaturecenter.org/event/summer-eco-camp-week-2/
LOCATION:Honey Hollow Nature Center\, 2877 Creamery Road\, New Hope\, 18938\, United States
CATEGORIES:Summer Camp
GEO:40.3725704;-75.0106384
X-APPLE-STRUCTURED-LOCATION;VALUE=URI;X-ADDRESS=Honey Hollow Nature Center 2877 Creamery Road New Hope 18938 United States;X-APPLE-RADIUS=500;X-TITLE=2877 Creamery Road:geo:-75.0106384,40.3725704
END:VEVENT
BEGIN:VEVENT
DTSTART;TZID=UTC:20180618T090000
DTEND;TZID=UTC:20180622T150000
DTSTAMP:20260422T073007
CREATED:20171207T193848Z
LAST-MODIFIED:20180512T000117Z
UID:3233-1529312400-1529679600@www.honeyhollownaturecenter.org
SUMMARY:Summer Nature Camp Week 1
DESCRIPTION:June 18th – 22nd: Hooray for Habitat! – What do ladybugs\, blue birds\, red fox\, and you have in common? You all need a habitat! Learn about the needs of our resident wildlife as you explore ponds\, streams\, forests and meadows of Honey Hollow. \nIs your child as excited as we are to be outside this summer? Bring them over to our Summer Nature Camp for a week of outdoor discovery! Each day of the themed week will include: \n\nMorning and Afternoon Snack\nScience Experiments\nHiking through our forests\, fields\, and streams\nTheme related Art projects\nFree play time to strengthen the imagination\nScreen Printed Camp T-Shirt\n…and so much more!\n\nPrice is – $250/BCAS Members and $300/Non-Members. Half Day option (9am-12pm) available at discounted rate. \nRegistration by clicking here!
URL:https://www.honeyhollownaturecenter.org/event/summer-eco-camp-week-1/
LOCATION:Honey Hollow Nature Center\, 2877 Creamery Road\, New Hope\, 18938\, United States
CATEGORIES:Summer Camp
GEO:40.3725704;-75.0106384
X-APPLE-STRUCTURED-LOCATION;VALUE=URI;X-ADDRESS=Honey Hollow Nature Center 2877 Creamery Road New Hope 18938 United States;X-APPLE-RADIUS=500;X-TITLE=2877 Creamery Road:geo:-75.0106384,40.3725704
END:VEVENT
END:VCALENDAR