BEGIN:VCALENDAR
VERSION:2.0
PRODID:-//Honey Hollow Nature Center - ECPv6.15.20//NONSGML v1.0//EN
CALSCALE:GREGORIAN
METHOD:PUBLISH
X-ORIGINAL-URL:https://www.honeyhollownaturecenter.org
X-WR-CALDESC:Events for Honey Hollow Nature Center
REFRESH-INTERVAL;VALUE=DURATION:PT1H
X-Robots-Tag:noindex
X-PUBLISHED-TTL:PT1H
BEGIN:VTIMEZONE
TZID:America/New_York
BEGIN:DAYLIGHT
TZOFFSETFROM:-0500
TZOFFSETTO:-0400
TZNAME:EDT
DTSTART:20240310T070000
END:DAYLIGHT
BEGIN:STANDARD
TZOFFSETFROM:-0400
TZOFFSETTO:-0500
TZNAME:EST
DTSTART:20241103T060000
END:STANDARD
BEGIN:DAYLIGHT
TZOFFSETFROM:-0500
TZOFFSETTO:-0400
TZNAME:EDT
DTSTART:20250309T070000
END:DAYLIGHT
BEGIN:STANDARD
TZOFFSETFROM:-0400
TZOFFSETTO:-0500
TZNAME:EST
DTSTART:20251102T060000
END:STANDARD
BEGIN:DAYLIGHT
TZOFFSETFROM:-0500
TZOFFSETTO:-0400
TZNAME:EDT
DTSTART:20260308T070000
END:DAYLIGHT
BEGIN:STANDARD
TZOFFSETFROM:-0400
TZOFFSETTO:-0500
TZNAME:EST
DTSTART:20261101T060000
END:STANDARD
BEGIN:DAYLIGHT
TZOFFSETFROM:-0500
TZOFFSETTO:-0400
TZNAME:EDT
DTSTART:20270314T070000
END:DAYLIGHT
BEGIN:STANDARD
TZOFFSETFROM:-0400
TZOFFSETTO:-0500
TZNAME:EST
DTSTART:20271107T060000
END:STANDARD
END:VTIMEZONE
BEGIN:VEVENT
DTSTART;TZID=America/New_York:20260318T100000
DTEND;TZID=America/New_York:20260318T110000
DTSTAMP:20260425T083006
CREATED:20251110T185709Z
LAST-MODIFIED:20260325T161019Z
UID:26654-1773828000-1773831600@www.honeyhollownaturecenter.org
SUMMARY:Private Event: Horticultural Therapy
DESCRIPTION:A group from Peaceful Living visits us weekly for two brief\, timed activities led by Nancy Minich\, Registered Horticultural Therapist. The sessions begin with a nature walk and are followed by an activity that provides sensory stimulation to activate new neural pathways. This is a private event.
URL:https://www.honeyhollownaturecenter.org/event/private-event-horticultural-therapy-2/2026-03-18/
LOCATION:Honey Hollow Nature Center\, 2877 Creamery Road\, New Hope\, 18938\, United States
ATTACH;FMTTYPE=image/png:https://www.honeyhollownaturecenter.org/wp-content/uploads/2025/10/horticultural-therapy.png
GEO:40.3725704;-75.0106384
X-APPLE-STRUCTURED-LOCATION;VALUE=URI;X-ADDRESS=Honey Hollow Nature Center 2877 Creamery Road New Hope 18938 United States;X-APPLE-RADIUS=500;X-TITLE=2877 Creamery Road:geo:-75.0106384,40.3725704
END:VEVENT
BEGIN:VEVENT
DTSTART;TZID=America/New_York:20260304T100000
DTEND;TZID=America/New_York:20260304T110000
DTSTAMP:20260425T083006
CREATED:20251110T185709Z
LAST-MODIFIED:20260325T161018Z
UID:26653-1772618400-1772622000@www.honeyhollownaturecenter.org
SUMMARY:Private Event: Horticultural Therapy
DESCRIPTION:A group from Peaceful Living visits us weekly for two brief\, timed activities led by Nancy Minich\, Registered Horticultural Therapist. The sessions begin with a nature walk and are followed by an activity that provides sensory stimulation to activate new neural pathways. This is a private event.
URL:https://www.honeyhollownaturecenter.org/event/private-event-horticultural-therapy-2/2026-03-04/
LOCATION:Honey Hollow Nature Center\, 2877 Creamery Road\, New Hope\, 18938\, United States
ATTACH;FMTTYPE=image/png:https://www.honeyhollownaturecenter.org/wp-content/uploads/2025/10/horticultural-therapy.png
GEO:40.3725704;-75.0106384
X-APPLE-STRUCTURED-LOCATION;VALUE=URI;X-ADDRESS=Honey Hollow Nature Center 2877 Creamery Road New Hope 18938 United States;X-APPLE-RADIUS=500;X-TITLE=2877 Creamery Road:geo:-75.0106384,40.3725704
END:VEVENT
BEGIN:VEVENT
DTSTART;TZID=America/New_York:20260218T100000
DTEND;TZID=America/New_York:20260218T110000
DTSTAMP:20260425T083006
CREATED:20251110T185709Z
LAST-MODIFIED:20260325T161014Z
UID:26652-1771408800-1771412400@www.honeyhollownaturecenter.org
SUMMARY:Private Event: Horticultural Therapy
DESCRIPTION:A group from Peaceful Living visits us weekly for two brief\, timed activities led by Nancy Minich\, Registered Horticultural Therapist. The sessions begin with a nature walk and are followed by an activity that provides sensory stimulation to activate new neural pathways. This is a private event.
URL:https://www.honeyhollownaturecenter.org/event/private-event-horticultural-therapy-2/2026-02-18/
LOCATION:Honey Hollow Nature Center\, 2877 Creamery Road\, New Hope\, 18938\, United States
ATTACH;FMTTYPE=image/png:https://www.honeyhollownaturecenter.org/wp-content/uploads/2025/10/horticultural-therapy.png
GEO:40.3725704;-75.0106384
X-APPLE-STRUCTURED-LOCATION;VALUE=URI;X-ADDRESS=Honey Hollow Nature Center 2877 Creamery Road New Hope 18938 United States;X-APPLE-RADIUS=500;X-TITLE=2877 Creamery Road:geo:-75.0106384,40.3725704
END:VEVENT
BEGIN:VEVENT
DTSTART;TZID=America/New_York:20260204T100000
DTEND;TZID=America/New_York:20260204T110000
DTSTAMP:20260425T083006
CREATED:20251110T185709Z
LAST-MODIFIED:20260325T161013Z
UID:26651-1770199200-1770202800@www.honeyhollownaturecenter.org
SUMMARY:Private Event: Horticultural Therapy
DESCRIPTION:A group from Peaceful Living visits us weekly for two brief\, timed activities led by Nancy Minich\, Registered Horticultural Therapist. The sessions begin with a nature walk and are followed by an activity that provides sensory stimulation to activate new neural pathways. This is a private event.
URL:https://www.honeyhollownaturecenter.org/event/private-event-horticultural-therapy-2/2026-02-04/
LOCATION:Honey Hollow Nature Center\, 2877 Creamery Road\, New Hope\, 18938\, United States
ATTACH;FMTTYPE=image/png:https://www.honeyhollownaturecenter.org/wp-content/uploads/2025/10/horticultural-therapy.png
GEO:40.3725704;-75.0106384
X-APPLE-STRUCTURED-LOCATION;VALUE=URI;X-ADDRESS=Honey Hollow Nature Center 2877 Creamery Road New Hope 18938 United States;X-APPLE-RADIUS=500;X-TITLE=2877 Creamery Road:geo:-75.0106384,40.3725704
END:VEVENT
BEGIN:VEVENT
DTSTART;TZID=America/New_York:20260121T100000
DTEND;TZID=America/New_York:20260121T110000
DTSTAMP:20260425T083006
CREATED:20251110T185709Z
LAST-MODIFIED:20260325T161013Z
UID:26650-1768989600-1768993200@www.honeyhollownaturecenter.org
SUMMARY:Private Event: Horticultural Therapy
DESCRIPTION:A group from Peaceful Living visits us weekly for two brief\, timed activities led by Nancy Minich\, Registered Horticultural Therapist. The sessions begin with a nature walk and are followed by an activity that provides sensory stimulation to activate new neural pathways. This is a private event.
URL:https://www.honeyhollownaturecenter.org/event/private-event-horticultural-therapy-2/2026-01-21/
LOCATION:Honey Hollow Nature Center\, 2877 Creamery Road\, New Hope\, 18938\, United States
ATTACH;FMTTYPE=image/png:https://www.honeyhollownaturecenter.org/wp-content/uploads/2025/10/horticultural-therapy.png
GEO:40.3725704;-75.0106384
X-APPLE-STRUCTURED-LOCATION;VALUE=URI;X-ADDRESS=Honey Hollow Nature Center 2877 Creamery Road New Hope 18938 United States;X-APPLE-RADIUS=500;X-TITLE=2877 Creamery Road:geo:-75.0106384,40.3725704
END:VEVENT
BEGIN:VEVENT
DTSTART;TZID=America/New_York:20260107T100000
DTEND;TZID=America/New_York:20260107T110000
DTSTAMP:20260425T083006
CREATED:20251110T185709Z
LAST-MODIFIED:20260325T161012Z
UID:26649-1767780000-1767783600@www.honeyhollownaturecenter.org
SUMMARY:Private Event: Horticultural Therapy
DESCRIPTION:A group from Peaceful Living visits us weekly for two brief\, timed activities led by Nancy Minich\, Registered Horticultural Therapist. The sessions begin with a nature walk and are followed by an activity that provides sensory stimulation to activate new neural pathways. This is a private event.
URL:https://www.honeyhollownaturecenter.org/event/private-event-horticultural-therapy-2/2026-01-07/
LOCATION:Honey Hollow Nature Center\, 2877 Creamery Road\, New Hope\, 18938\, United States
ATTACH;FMTTYPE=image/png:https://www.honeyhollownaturecenter.org/wp-content/uploads/2025/10/horticultural-therapy.png
GEO:40.3725704;-75.0106384
X-APPLE-STRUCTURED-LOCATION;VALUE=URI;X-ADDRESS=Honey Hollow Nature Center 2877 Creamery Road New Hope 18938 United States;X-APPLE-RADIUS=500;X-TITLE=2877 Creamery Road:geo:-75.0106384,40.3725704
END:VEVENT
BEGIN:VEVENT
DTSTART;TZID=America/New_York:20251224T100000
DTEND;TZID=America/New_York:20251224T110000
DTSTAMP:20260425T083006
CREATED:20251110T185709Z
LAST-MODIFIED:20260325T161012Z
UID:26648-1766570400-1766574000@www.honeyhollownaturecenter.org
SUMMARY:Private Event: Horticultural Therapy
DESCRIPTION:A group from Peaceful Living visits us weekly for two brief\, timed activities led by Nancy Minich\, Registered Horticultural Therapist. The sessions begin with a nature walk and are followed by an activity that provides sensory stimulation to activate new neural pathways. This is a private event.
URL:https://www.honeyhollownaturecenter.org/event/private-event-horticultural-therapy-2/2025-12-24/
LOCATION:Honey Hollow Nature Center\, 2877 Creamery Road\, New Hope\, 18938\, United States
ATTACH;FMTTYPE=image/png:https://www.honeyhollownaturecenter.org/wp-content/uploads/2025/10/horticultural-therapy.png
GEO:40.3725704;-75.0106384
X-APPLE-STRUCTURED-LOCATION;VALUE=URI;X-ADDRESS=Honey Hollow Nature Center 2877 Creamery Road New Hope 18938 United States;X-APPLE-RADIUS=500;X-TITLE=2877 Creamery Road:geo:-75.0106384,40.3725704
END:VEVENT
BEGIN:VEVENT
DTSTART;TZID=America/New_York:20251210T100000
DTEND;TZID=America/New_York:20251210T110000
DTSTAMP:20260425T083006
CREATED:20251110T185709Z
LAST-MODIFIED:20260325T161011Z
UID:26647-1765360800-1765364400@www.honeyhollownaturecenter.org
SUMMARY:Private Event: Horticultural Therapy
DESCRIPTION:A group from Peaceful Living visits us weekly for two brief\, timed activities led by Nancy Minich\, Registered Horticultural Therapist. The sessions begin with a nature walk and are followed by an activity that provides sensory stimulation to activate new neural pathways. This is a private event.
URL:https://www.honeyhollownaturecenter.org/event/private-event-horticultural-therapy-2/2025-12-10/
LOCATION:Honey Hollow Nature Center\, 2877 Creamery Road\, New Hope\, 18938\, United States
ATTACH;FMTTYPE=image/png:https://www.honeyhollownaturecenter.org/wp-content/uploads/2025/10/horticultural-therapy.png
GEO:40.3725704;-75.0106384
X-APPLE-STRUCTURED-LOCATION;VALUE=URI;X-ADDRESS=Honey Hollow Nature Center 2877 Creamery Road New Hope 18938 United States;X-APPLE-RADIUS=500;X-TITLE=2877 Creamery Road:geo:-75.0106384,40.3725704
END:VEVENT
BEGIN:VEVENT
DTSTART;TZID=America/New_York:20251126T100000
DTEND;TZID=America/New_York:20251126T110000
DTSTAMP:20260425T083006
CREATED:20251110T185709Z
LAST-MODIFIED:20260325T161010Z
UID:26646-1764151200-1764154800@www.honeyhollownaturecenter.org
SUMMARY:Private Event: Horticultural Therapy
DESCRIPTION:A group from Peaceful Living visits us weekly for two brief\, timed activities led by Nancy Minich\, Registered Horticultural Therapist. The sessions begin with a nature walk and are followed by an activity that provides sensory stimulation to activate new neural pathways. This is a private event.
URL:https://www.honeyhollownaturecenter.org/event/private-event-horticultural-therapy-2/2025-11-26/
LOCATION:Honey Hollow Nature Center\, 2877 Creamery Road\, New Hope\, 18938\, United States
ATTACH;FMTTYPE=image/png:https://www.honeyhollownaturecenter.org/wp-content/uploads/2025/10/horticultural-therapy.png
GEO:40.3725704;-75.0106384
X-APPLE-STRUCTURED-LOCATION;VALUE=URI;X-ADDRESS=Honey Hollow Nature Center 2877 Creamery Road New Hope 18938 United States;X-APPLE-RADIUS=500;X-TITLE=2877 Creamery Road:geo:-75.0106384,40.3725704
END:VEVENT
BEGIN:VEVENT
DTSTART;TZID=America/New_York:20251112T100000
DTEND;TZID=America/New_York:20251112T110000
DTSTAMP:20260425T083006
CREATED:20251110T185709Z
LAST-MODIFIED:20260325T161009Z
UID:26538-1762941600-1762945200@www.honeyhollownaturecenter.org
SUMMARY:Private Event: Horticultural Therapy
DESCRIPTION:A group from Peaceful Living visits us weekly for two brief\, timed activities led by Nancy Minich\, Registered Horticultural Therapist. The sessions begin with a nature walk and are followed by an activity that provides sensory stimulation to activate new neural pathways. This is a private event.
URL:https://www.honeyhollownaturecenter.org/event/private-event-horticultural-therapy-2/2025-11-12/
LOCATION:Honey Hollow Nature Center\, 2877 Creamery Road\, New Hope\, 18938\, United States
ATTACH;FMTTYPE=image/png:https://www.honeyhollownaturecenter.org/wp-content/uploads/2025/10/horticultural-therapy.png
GEO:40.3725704;-75.0106384
X-APPLE-STRUCTURED-LOCATION;VALUE=URI;X-ADDRESS=Honey Hollow Nature Center 2877 Creamery Road New Hope 18938 United States;X-APPLE-RADIUS=500;X-TITLE=2877 Creamery Road:geo:-75.0106384,40.3725704
END:VEVENT
END:VCALENDAR