BEGIN:VCALENDAR
VERSION:2.0
PRODID:-//Honey Hollow Nature Center - ECPv6.15.20//NONSGML v1.0//EN
CALSCALE:GREGORIAN
METHOD:PUBLISH
X-ORIGINAL-URL:https://www.honeyhollownaturecenter.org
X-WR-CALDESC:Events for Honey Hollow Nature Center
REFRESH-INTERVAL;VALUE=DURATION:PT1H
X-Robots-Tag:noindex
X-PUBLISHED-TTL:PT1H
BEGIN:VTIMEZONE
TZID:UTC
BEGIN:STANDARD
TZOFFSETFROM:+0000
TZOFFSETTO:+0000
TZNAME:UTC
DTSTART:20160101T000000
END:STANDARD
END:VTIMEZONE
BEGIN:VEVENT
DTSTART;TZID=UTC:20171005T193000
DTEND;TZID=UTC:20171005T210000
DTSTAMP:20260420T120245
CREATED:20170907T203005Z
LAST-MODIFIED:20170907T203005Z
UID:2720-1507231800-1507237200@www.honeyhollownaturecenter.org
SUMMARY:Bird/Window Collisions: Historical Research and Contemporary Solutions
DESCRIPTION:Join BCAS at the Academy of Natural Sciences to learn about this important conservation issue\, where keynote speaker\, Dr. Daniel Klem\, will address why the windows of our homes\, commercial buildings\, even iconic park visitor and bird research centers\, in urban\, suburban\, and rural settings are so fatal to all birds in their immediate vicinity.He will offer us his unique history of studying this topic from over four decades and his current cutting-edge research. The goal has and continues to be to save more bird lives from windows. He will end by inviting colleagues and the audience to pose questions and offer comments. \nRegister by clicking here! \n 
URL:https://www.honeyhollownaturecenter.org/event/birdwindow-collisions-historical-research-and-contemporary-solutions/
LOCATION:Academy of Natural Sciences\, 1900 Benjamin Franklin Parkway\, Philadelphia\, PA\, 19103\, United States
CATEGORIES:Adults,Birding
GEO:39.9568262;-75.1712916
X-APPLE-STRUCTURED-LOCATION;VALUE=URI;X-ADDRESS=Academy of Natural Sciences 1900 Benjamin Franklin Parkway Philadelphia PA 19103 United States;X-APPLE-RADIUS=500;X-TITLE=1900 Benjamin Franklin Parkway:geo:-75.1712916,39.9568262
END:VEVENT
END:VCALENDAR